BEGIN:VCALENDAR
VERSION:2.0
PRODID:-//W 5 I A S - ECPv6.15.20//NONSGML v1.0//EN
CALSCALE:GREGORIAN
METHOD:PUBLISH
X-WR-CALNAME:W 5 I A S
X-ORIGINAL-URL:https://w5ias.com
X-WR-CALDESC:Events for W 5 I A S
REFRESH-INTERVAL;VALUE=DURATION:PT1H
X-Robots-Tag:noindex
X-PUBLISHED-TTL:PT1H
BEGIN:VTIMEZONE
TZID:America/Chicago
BEGIN:DAYLIGHT
TZOFFSETFROM:-0600
TZOFFSETTO:-0500
TZNAME:CDT
DTSTART:20250309T080000
END:DAYLIGHT
BEGIN:STANDARD
TZOFFSETFROM:-0500
TZOFFSETTO:-0600
TZNAME:CST
DTSTART:20251102T070000
END:STANDARD
BEGIN:DAYLIGHT
TZOFFSETFROM:-0600
TZOFFSETTO:-0500
TZNAME:CDT
DTSTART:20260308T080000
END:DAYLIGHT
BEGIN:STANDARD
TZOFFSETFROM:-0500
TZOFFSETTO:-0600
TZNAME:CST
DTSTART:20261101T070000
END:STANDARD
BEGIN:DAYLIGHT
TZOFFSETFROM:-0600
TZOFFSETTO:-0500
TZNAME:CDT
DTSTART:20270314T080000
END:DAYLIGHT
BEGIN:STANDARD
TZOFFSETFROM:-0500
TZOFFSETTO:-0600
TZNAME:CST
DTSTART:20271107T070000
END:STANDARD
END:VTIMEZONE
BEGIN:VEVENT
DTSTART;TZID=America/Chicago:20260106T190000
DTEND;TZID=America/Chicago:20260106T200000
DTSTAMP:20260421T045630
CREATED:20260105T124908Z
LAST-MODIFIED:20260105T130726Z
UID:7668-1767726000-1767729600@w5ias.com
SUMMARY:TARC Tech Night
DESCRIPTION:  \nZOOM \nTulsa Amateur is inviting you to a scheduled Zoom meeting. \nTopic: TARC Tech Night\nTime: Jan 6\, 2026 07:00 PM Central Time (US and Canada)\nEvery month on the First Tue\, 12 occurrence(s)\nPlease download and import the following iCalendar (.ics) files to your calendar system.\nMonthly: https://us06web.zoom.us/meeting/tZEpc–tqDsvGNE_5Li5PUf0uXt_8TdPRUhP/ics?icsToken=DK_YYUYIgU_rj3VXPQAALAAAADOMlABTtEYhwqOKSZDaEE05RSmWRrHW9Rzb6pJNo1NRST2VMhl9yOBBJMo3o5xLUaqAejOoLqXEicInEjAwMDAwMQ&meetingMasterEventId=-3LbA2TzQvKYUw-vPOQ5Fg\nJoin Zoom Meeting\nhttps://us06web.zoom.us/j/85446560525?pwd=FeukbWXCPrttYhfa66uE035EIj6Ko5.1 \nMeeting ID: 854 4656 0525\nPasscode: 466331 \n— \nOne tap mobile\n+12532158782\,\,85446560525#\,\,\,\,*466331# US (Tacoma)\n+13462487799\,\,85446560525#\,\,\,\,*466331# US (Houston) \nJoin instructions\nhttps://us06web.zoom.us/meetings/85446560525/invitations?signature=ZRiw5bl-Rxwh43SJosA5rGa5LZr45a7kZ4MDb_7WFJ8 \n 
URL:https://w5ias.com/event/tarc-tech-night-14/
LOCATION:Keplinger Hall\, Room 3140\, 430 S Gary Pl\, Tulsa\, OK\, 74104\, United States
CATEGORIES:Event
END:VEVENT
BEGIN:VEVENT
DTSTART;TZID=America/Chicago:20260120T190000
DTEND;TZID=America/Chicago:20260120T200000
DTSTAMP:20260421T045630
CREATED:20260105T124128Z
LAST-MODIFIED:20260105T125909Z
UID:7645-1768935600-1768939200@w5ias.com
SUMMARY:TARC Monthly Meeting
DESCRIPTION:The TARC meeting will be held at the TU campus at Keplinger Hall in room # 3140 \n  \nZoom Info \n  \nTulsa Amateur is inviting you to a scheduled Zoom meeting. \nTopic: My Meeting\nTime: Jan 20\, 2026 07:00 PM Central Time (US and Canada)\nEvery month on the Third Tue\, 12 occurrence(s)\nPlease download and import the following iCalendar (.ics) files to your calendar system.\nMonthly: https://us06web.zoom.us/meeting/tZYlcO6trzorHdalC23AW1mn5KKINv2PW7bA/ics?icsToken=DIkq3Ogm6WIskthL6gAALAAAAJSrw3aW6-W3Cs_fBqhuf_wssPTL3LYQB10CJyJ6hzHPYDk35TuImxWIa4DdZFIp59RB7f8uLuiGeq71OTAwMDAwMQ&meetingMasterEventId=mH41jaZBQkCeN3VaK3NUMA\nJoin Zoom Meeting\nhttps://us06web.zoom.us/j/82877511172?pwd=QWXrmEJD3YTuRaoRskxhWaM87ghL5a.1 \nMeeting ID: 828 7751 1172\nPasscode: 659222 \n— \nOne tap mobile\n+13462487799\,\,82877511172#\,\,\,\,*659222# US (Houston)\n+16694449171\,\,82877511172#\,\,\,\,*659222# US \nJoin instructions\nhttps://us06web.zoom.us/meetings/82877511172/invitations?signature=xxB7CYsEeeF2ijN2C75QEmw5lhp3iqiN8LFQOE_MZ2U \n 
URL:https://w5ias.com/event/tarc-monthly-meeting-12/
LOCATION:Keplinger Hall\, Room 3140\, 430 S Gary Pl\, Tulsa\, OK\, 74104\, United States
CATEGORIES:Meeting
END:VEVENT
BEGIN:VEVENT
DTSTART;TZID=America/Chicago:20260124T080000
DTEND;TZID=America/Chicago:20260125T170000
DTSTAMP:20260421T045630
CREATED:20260120T015903Z
LAST-MODIFIED:20260120T015923Z
UID:7762-1769241600-1769360400@w5ias.com
SUMMARY:Winter Field Day 2026
DESCRIPTION:stay tuned to FB for more info
URL:https://w5ias.com/event/wfd/
CATEGORIES:TARC
END:VEVENT
BEGIN:VEVENT
DTSTART;TZID=America/Chicago:20260131T090000
DTEND;TZID=America/Chicago:20260131T120000
DTSTAMP:20260421T045630
CREATED:20260112T130518Z
LAST-MODIFIED:20260112T130532Z
UID:7715-1769850000-1769860800@w5ias.com
SUMMARY:Storm Spotter Training 2026 - Okmulgee
DESCRIPTION:https://www.weather.gov/tsa/spotter_training \n@ Green Country Tech Center \n 
URL:https://w5ias.com/event/storm-spotter-training-2026-okmulgee/
CATEGORIES:Event
END:VEVENT
END:VCALENDAR