BEGIN:VCALENDAR
VERSION:2.0
PRODID:-//W 5 I A S - ECPv6.15.20//NONSGML v1.0//EN
CALSCALE:GREGORIAN
METHOD:PUBLISH
X-WR-CALNAME:W 5 I A S
X-ORIGINAL-URL:https://w5ias.com
X-WR-CALDESC:Events for W 5 I A S
REFRESH-INTERVAL;VALUE=DURATION:PT1H
X-Robots-Tag:noindex
X-PUBLISHED-TTL:PT1H
BEGIN:VTIMEZONE
TZID:America/Chicago
BEGIN:DAYLIGHT
TZOFFSETFROM:-0600
TZOFFSETTO:-0500
TZNAME:CDT
DTSTART:20240310T080000
END:DAYLIGHT
BEGIN:STANDARD
TZOFFSETFROM:-0500
TZOFFSETTO:-0600
TZNAME:CST
DTSTART:20241103T070000
END:STANDARD
BEGIN:DAYLIGHT
TZOFFSETFROM:-0600
TZOFFSETTO:-0500
TZNAME:CDT
DTSTART:20250309T080000
END:DAYLIGHT
BEGIN:STANDARD
TZOFFSETFROM:-0500
TZOFFSETTO:-0600
TZNAME:CST
DTSTART:20251102T070000
END:STANDARD
BEGIN:DAYLIGHT
TZOFFSETFROM:-0600
TZOFFSETTO:-0500
TZNAME:CDT
DTSTART:20260308T080000
END:DAYLIGHT
BEGIN:STANDARD
TZOFFSETFROM:-0500
TZOFFSETTO:-0600
TZNAME:CST
DTSTART:20261101T070000
END:STANDARD
END:VTIMEZONE
BEGIN:VEVENT
DTSTART;TZID=America/Chicago:20250603T183000
DTEND;TZID=America/Chicago:20250603T200000
DTSTAMP:20260421T172824
CREATED:20250123T132333Z
LAST-MODIFIED:20250226T003644Z
UID:5996-1748975400-1748980800@w5ias.com
SUMMARY:TARC Tech Night
DESCRIPTION:
URL:https://w5ias.com/event/tarc-tech-night-7/
LOCATION:Keplinger Hall\, Room 3140\, 430 S Gary Pl\, Tulsa\, OK\, 74104\, United States
CATEGORIES:Event
END:VEVENT
BEGIN:VEVENT
DTSTART;TZID=America/Chicago:20250607T070000
DTEND;TZID=America/Chicago:20250608T170000
DTSTAMP:20260421T172824
CREATED:20250121T130217Z
LAST-MODIFIED:20250526T150232Z
UID:5956-1749279600-1749402000@w5ias.com
SUMMARY:Tulsa Tough 2025
DESCRIPTION:Three days of crits and two days of rides \nWhether you’re a professional cyclist\, new to crits and rides\, or simply a casual cyclist seeking a fun experience\, Saint Francis Tulsa Tough is the event for you. This prominent bike race in Tulsa\, Oklahoma\, offers three days of crits\, each taking place on a different course and at a unique venue. The payouts are generous\, and the atmosphere created by the enthusiastic crowds is unparalleled. For those who prefer a festive and enjoyable cycling experience\, don’t miss out on the Fondo rides held on Saturday and Sunday. On Sunday\, riders can choose from three different distances\, while Saturday offers two distances\, allowing you to select the route that aligns with your desired pace and challenge level. \n  \nREGISTER TO SAG – CLOSED\n 
URL:https://w5ias.com/event/tulsa-tough-2025/
CATEGORIES:Event
END:VEVENT
BEGIN:VEVENT
DTSTART;TZID=America/Chicago:20250614T093000
DTEND;TZID=America/Chicago:20250614T103000
DTSTAMP:20260421T172824
CREATED:20250206T221043Z
LAST-MODIFIED:20250206T221043Z
UID:6125-1749893400-1749897000@w5ias.com
SUMMARY:Ham Testing
DESCRIPTION:Second Saturday of even months except for April due to Green Country Hamfest\nALWAYS MAKE CONTACT WITH ORGANIZER TO MAKE SURE TESTING IS STILL SCHEDULED!
URL:https://w5ias.com/event/ham-testing-12/
LOCATION:Broken Arrow Public Service Complex\, 1101 N 6th St\, Broken Arrow\, OK\, 74012\, United States
CATEGORIES:Testing
ORGANIZER;CN="Donald Doyle AC5II":MAILTO:ac5ii@arrl.net
END:VEVENT
BEGIN:VEVENT
DTSTART;TZID=America/Chicago:20250617T190000
DTEND;TZID=America/Chicago:20250617T200000
DTSTAMP:20260421T172824
CREATED:20241012T144452Z
LAST-MODIFIED:20250603T122559Z
UID:5655-1750186800-1750190400@w5ias.com
SUMMARY:TARC Monthly Meeting
DESCRIPTION:The TARC meeting will be held at the TU campus at Keplinger Hall in room # 3140 \n  \nZOOM INFO \nTulsa Amateur is inviting you to a scheduled Zoom meeting. \nTopic: TARC Monthly Meeting\nTime: Jun 17\, 2025 07:00 PM Central Time (US and Canada)\nJoin Zoom Meeting\nhttps://us06web.zoom.us/j/87812145285?pwd=ZaSOmCobLlWZCfWKYXCsoMbAb1TLcy.1 \nView meeting insights with Zoom AI Companion\nhttps://us06web.zoom.us/launch/edl?muid=95da2a44-5c9d-454b-9c2b-0a5a6d9c992a \nMeeting ID: 878 1214 5285\nPasscode: 493930 \n— \nOne tap mobile\n+16694449171\,\,87812145285#\,\,\,\,*493930# US\n+17193594580\,\,87812145285#\,\,\,\,*493930# US \n— \nDial by your location\n• +1 669 444 9171 US\n• +1 719 359 4580 US\n• +1 720 707 2699 US (Denver)\n• +1 253 205 0468 US\n• +1 253 215 8782 US (Tacoma)\n• +1 346 248 7799 US (Houston)\n• +1 360 209 5623 US\n• +1 386 347 5053 US\n• +1 507 473 4847 US\n• +1 564 217 2000 US\n• +1 646 558 8656 US (New York)\n• +1 646 931 3860 US\n• +1 689 278 1000 US\n• +1 301 715 8592 US (Washington DC)\n• +1 305 224 1968 US\n• +1 309 205 3325 US\n• +1 312 626 6799 US (Chicago) \nMeeting ID: 878 1214 5285\nPasscode: 493930 \nFind your local number: https://us06web.zoom.us/u/kpaofpOkb \n 
URL:https://w5ias.com/event/tarc-monthly-meeting-6/
LOCATION:Keplinger Hall\, Room 3140\, 430 S Gary Pl\, Tulsa\, OK\, 74104\, United States
CATEGORIES:Meeting
END:VEVENT
BEGIN:VEVENT
DTSTART;VALUE=DATE:20250628
DTEND;VALUE=DATE:20250630
DTSTAMP:20260421T172824
CREATED:20241013T165642Z
LAST-MODIFIED:20250627T175346Z
UID:5752-1751068800-1751241599@w5ias.com
SUMMARY:ARRL Field Day 2025
DESCRIPTION:Date: 6.28-29.2025\nLocation: Haikey Creek Park Tri-Plex\nLocation: 35.99388\,-95.853557\nChairs: W5JHC Jack Conway & KY5VAR Ky Vargas\nCommittee Chairs: YOU!\nPIO: Any Club Officer \nBands: (80\,40\,20\,15\,10\,6)\nTalk IN: 443.850\nSimplex local :146.550 \nMuster: 9:00am 6.28\nSafety Meeting: 10:00A (ISH) Mandatory for operators (Main Gazebo)\nSetup: Noon 6.28\nStart Time: 1pm 6.28\nEnd Time: 1pm 6.29\nTear Down: 11am 6.29 \nDinner: 5PM (RSVP Required before 6.14) \nCamping: bring your tent!! \n******************* June Meeting Power Point & INFO ************************** \nARRL Field Day on the fourth full weekend of June every year is the opportunity for thousands of amateur radio enthusiasts throughout the U.S and Canada to set up temporary communications stations and make contact with like-minded people. Licensed radio operators (often called “Hams”) spend the weekend practicing community outreach\, emergency preparedness\, and technical skills. It’s basically radio heaven. \nA contest is held each year with individuals\, clubs\, and teams trying to make contact with as many stations as possible over 24 hours. Field Day will take place on June 28 and June 29 with over 35\,00 people expected to take part. It begins at 18:00 UTC Saturday and runs through 20:59 UTC Sunday. Pack your camping equipment\, throw up some temporary antennas\, and spin the dials on your radio\, because this not-to-be-missed event is rich in history\, tradition\, and technology. \nAll hams or non-hams are invited and you don’t have to be a club member to participate. The staff will assist you in getting on the air and teach you how to operate. You don’t have to be licensed to operate. \nRSVP – https://w5ias.com/2025/05/01/field-day-rsvp/\nTARC Planning\nOperating Status: 7AOK\nMax Output: 100W \nSafety Officer: K5TZS David Griffon \nHydration/Safety:**********************************\nFREQ/Filter Coordinator: This year will be handled at the INFO Booth\nGOTA Station Lead:K5AEB Ann Bruun\nGOTA Station: WW0CJ\, CJ Pokowitz\nPOTA: KD5SMF\, Mark Roberts\nInfo Booth: **********************************\nRules Specialist: KC9THI Ian Duncan\nTrailer Chief: KF5VCQ Steve Childers\nCW Specialist: KY5VAR Ky Vargas\nDigital Modes: AE5ME Jeff Scoville\nLogging Setup: W5GGW Greg\nLogging Support: KG5GJ Brain Powers & KD5DBP  Doug Powers\nPhotos : **********************************\nResident Elmer: KA6DOY Remell Spencer\nCooling Station Courtesy : KA6DOY Remell Spencer\nW1AW Bulletin: AE5ME Jeff Scoville\nNTS Message: AE5ME Jeff Scoville \nSchedule of Events\n \n  \n  \n  \n  \n  \n  \n  \n  \nGazebo Map\n \n  \nParking\nAs with previous years do not park in the main row in front of the covered gazebo. We share parking with the play park and what better way to get some young operators to stop by than giving them UP FRONT parking! Totally good with loading and unloading things for short term\, but let’s be good park friends and leave the space and make some new friends! \nDon’t forget to be on the look out for TARC Swag for sell this year at the info booth.. \nSPECIAL BUY FD 2025 TUIT\n \nThis year for  donation between$2-10\, you can get one of these cool collectable items\, they make a great stocking stuffer or a cool gift to trade with fellow hams! \nHelpful Documents\nField-Day-Rules\nARRL-RAC Section List\n2025 ARRLRAC Section Checklist\n2018-Field-Day-2-page-dupesheet\n2019 FD Log Sheet\n***TARC FD Log Sheet – Minimum Data****\nW1AW Schedule\n4_1a-2024 Summary Sheet\nField Day Responsibilities Checklist\n2024 Field Day Packet v1\nWASmap_Color\nOK NTS Rules\nTARC FD Flyer \nARES\nTulsa County ARES members\, the Tulsa Amateur Radio Club (TARC) will be hosting Field Day at Hakey Creek Park\, 113th / South Garnett on Saturday\, June 28. \nIf you are working on your Position Task Book (PTB) for Tulsa County and have questions or need help completing required items\, come to the TARC Field Day site.  During this workshop we will discuss the frequency plan for Tulsa County\, programming radios\, sending ICS-213 messages\, Winlink\, NTS\, and go bags. This will help you meet the required and optional elements in Level II of the PTB.  Bring your own PTB and let’s move your training forward. \nDirections\n\n\n\n	\n		South Garnett Road\, Bixby\, Tulsa County\, Oklahoma\, 74008 \n	\n\n\n 
URL:https://w5ias.com/event/arrl-field-day-2025/
LOCATION:Haikey Creek Park – Tri-Plex\, 11327 S. Garnett Ave.\, Broken Arrow\, OK\, 74011\, United States
CATEGORIES:Event,TARC
END:VEVENT
BEGIN:VEVENT
DTSTART;TZID=America/Chicago:20250628T100000
DTEND;TZID=America/Chicago:20250628T110000
DTSTAMP:20260421T172824
CREATED:20250321T141528Z
LAST-MODIFIED:20250321T142142Z
UID:6394-1751104800-1751108400@w5ias.com
SUMMARY:TARC Ham Testing
DESCRIPTION:The Tulsa Amateur Radio Club will be hosting our next ARRL amateur radio license exam session at The University of Tulsa in Keplinger Hall – Room 3140 @ 10AM. We test all levels from Technician to Amateur Extra. If you would like please sign up at the form below! (not required\, walk-ins are always welcome) \nPlease click here to read the ARRL “what to bring to an exam session” before you sign up. \nClick here if you do not already have an FCC FRN number. (first register for a username and then register for your FRN #). \nFull instructions on getting your FRN number are provided here \nPlease bring cash to the exam session. ($15 for those over 18 and $5 for youths under 18) \nPlease enable JavaScript in your browser to complete this form.Date of exam session I would like to sign up for: *TARC is no longer offering VE testing. Thank you to those who tested with us in the past.Name *FirstLastCall Sign (amateur radio call signs only)If you do not have one\, just type "NONE".Mobile Phone Number *Just in case we need to call you.Email *Exam(s) you would like to take: *TechnicianGeneralAmateur ExtraI read the ARRL "what to bring to an exam session" page linked above: *YesI have an FCC FRN Number: *YesThis is required to take the amateur radio license exam. (Social security numbers are no longer accepted\, link is above)Comments/Questions/ConcernsSubmit
URL:https://w5ias.com/event/tarc-ham-testing-2/
LOCATION:Keplinger Hall\, Room 3140\, 430 S Gary Pl\, Tulsa\, OK\, 74104\, United States
CATEGORIES:Testing
ORGANIZER;CN="David Kennedy N5DMK":MAILTO:n5dmk@att.net
END:VEVENT
END:VCALENDAR