BEGIN:VCALENDAR
VERSION:2.0
PRODID:-//W 5 I A S - ECPv6.15.20//NONSGML v1.0//EN
CALSCALE:GREGORIAN
METHOD:PUBLISH
X-WR-CALNAME:W 5 I A S
X-ORIGINAL-URL:https://w5ias.com
X-WR-CALDESC:Events for W 5 I A S
REFRESH-INTERVAL;VALUE=DURATION:PT1H
X-Robots-Tag:noindex
X-PUBLISHED-TTL:PT1H
BEGIN:VTIMEZONE
TZID:America/Chicago
BEGIN:DAYLIGHT
TZOFFSETFROM:-0600
TZOFFSETTO:-0500
TZNAME:CDT
DTSTART:20240310T080000
END:DAYLIGHT
BEGIN:STANDARD
TZOFFSETFROM:-0500
TZOFFSETTO:-0600
TZNAME:CST
DTSTART:20241103T070000
END:STANDARD
BEGIN:DAYLIGHT
TZOFFSETFROM:-0600
TZOFFSETTO:-0500
TZNAME:CDT
DTSTART:20250309T080000
END:DAYLIGHT
BEGIN:STANDARD
TZOFFSETFROM:-0500
TZOFFSETTO:-0600
TZNAME:CST
DTSTART:20251102T070000
END:STANDARD
BEGIN:DAYLIGHT
TZOFFSETFROM:-0600
TZOFFSETTO:-0500
TZNAME:CDT
DTSTART:20260308T080000
END:DAYLIGHT
BEGIN:STANDARD
TZOFFSETFROM:-0500
TZOFFSETTO:-0600
TZNAME:CST
DTSTART:20261101T070000
END:STANDARD
END:VTIMEZONE
BEGIN:VEVENT
DTSTART;TZID=America/Chicago:20250503T070000
DTEND;TZID=America/Chicago:20250503T170000
DTSTAMP:20260421T185034
CREATED:20250121T125608Z
LAST-MODIFIED:20250418T134959Z
UID:5949-1746255600-1746291600@w5ias.com
SUMMARY:Tour de Tulsa 2025
DESCRIPTION:Location: River West Festival Park. \nStart checking your essential gear: reflective vest\, bike rack (or pickup bed)\, mobile radio with at least 25 watts\, (optional) handheld radio for use when out of vehicle\, first aid kit\, ice chest\, personal comfort items\, cover for seats to be used by sweaty riders\, (optional) bike repair kit\, air pump (TARC has loanable pumps). These are the basic items and you can supplement the list as you see fit. \nThis ride will be using only the APRS units provided by the Tulsa Repeater Organization and the APRS digipeaters provided by TARC. If you have your own APRS\, please plan to use one of the provided units so the unit numbers are more easily tracked on the TRO computer system. Net Control will only be looking for those unit numbers on the mapping sys-tem so outside APRS IDs will not show up on the system for tracking. \nE-mail any questions to me and plan on a good time. We’ll discuss more details on how to support a ride at the next TARC meeting at TU. \nCheck out radios and programming. The band plan and what frequencies we are going to use can be found here – ICS 205 – Radio Communications Plan –  \nMaps\nTBD \n36th Annual Tour de Tulsa\nbenefitting Tulsa’s River Parks\nSaturday\, May 3rd\, 2025\nThe Tour de Tulsa has been a spring cycling ritual for Tulsa-area cyclists for more than 30 years.  The ride is presented by the Tulsa Bicycle Club and held at Tulsa’s River Parks. \nTour de Tulsa offers routes ranging from 20 to 100 miles and includes a family fun ride with options ranging from 5 to 10 miles.\n\nProceeds from the 2025 Tour de Tulsa will benefit the River Parks Foundation\, enhancing the quality of life in Tulsa through its River Parks System.\nTulsa’s premier spring community bicycle ride features good food\, great rest stops\, full on-road support\, and friendly riders all along the way.\n\nSAG Registration – Closed
URL:https://w5ias.com/event/tour-de-tulsa-2025/
CATEGORIES:Event
END:VEVENT
BEGIN:VEVENT
DTSTART;TZID=America/Chicago:20250503T090000
DTEND;TZID=America/Chicago:20250503T110000
DTSTAMP:20260421T185034
CREATED:20250124T145600Z
LAST-MODIFIED:20250124T145600Z
UID:6041-1746262800-1746270000@w5ias.com
SUMMARY:Ham Testing
DESCRIPTION:Ham Testing\nALWAYS MAKE CONTACT WITH ORGANIZER TO MAKE SURE TESTING IS STILL SCHEDULED!
URL:https://w5ias.com/event/ham-testing-7/
LOCATION:Broken Arrow Public Service Complex\, 1101 N 6th St\, Broken Arrow\, OK\, 74012\, United States
CATEGORIES:Testing
ORGANIZER;CN="Loyd Beeson AE5MM":MAILTO:ae5mm@arrl.net
END:VEVENT
BEGIN:VEVENT
DTSTART;TZID=America/Chicago:20250506T183000
DTEND;TZID=America/Chicago:20250506T200000
DTSTAMP:20260421T185034
CREATED:20250123T132332Z
LAST-MODIFIED:20250226T003638Z
UID:5995-1746556200-1746561600@w5ias.com
SUMMARY:TARC Tech Night
DESCRIPTION:
URL:https://w5ias.com/event/tarc-tech-night-6/
LOCATION:Keplinger Hall\, Room 3140\, 430 S Gary Pl\, Tulsa\, OK\, 74104\, United States
CATEGORIES:Event
END:VEVENT
BEGIN:VEVENT
DTSTART;TZID=America/Chicago:20250514T190000
DTEND;TZID=America/Chicago:20250514T200000
DTSTAMP:20260421T185034
CREATED:20250514T122039Z
LAST-MODIFIED:20250514T122039Z
UID:6628-1747249200-1747252800@w5ias.com
SUMMARY:TARC Zoom Field Day
DESCRIPTION:  \nTulsa Amateur is inviting you to a scheduled Zoom meeting. \n  \nTopic: Field Day \nTime: May 14\, 2025 07:00 PM Central Time (US and Canada) \nJoin Zoom Meeting \nhttps://us06web.zoom.us/j/88174733289?pwd=zo4SZCb73ZeuibqVQKGASHzFVIyWTm.1 \n  \nMeeting ID: 881 7473 3289 \nPasscode: 254983 \n  \n— \n  \nOne tap mobile \n+16694449171\,\,88174733289#\,\,\,\,*254983# US \n+17193594580\,\,88174733289#\,\,\,\,*254983# US \n  \n— \n  \nDial by your location \n\n+1 669 444 9171 US\n+1 719 359 4580 US\n+1 720 707 2699 US (Denver)\n+1 253 205 0468 US\n+1 253 215 8782 US (Tacoma)\n+1 346 248 7799 US (Houston)\n+1 507 473 4847 US\n+1 564 217 2000 US\n+1 646 558 8656 US (New York)\n+1 646 931 3860 US\n+1 689 278 1000 US\n+1 301 715 8592 US (Washington DC)\n+1 305 224 1968 US\n+1 309 205 3325 US\n+1 312 626 6799 US (Chicago)\n+1 360 209 5623 US\n+1 386 347 5053 US\n\n  \nMeeting ID: 881 7473 3289 \nPasscode: 254983 \n  \nFind your local number: https://us06web.zoom.us/u/kebwtkPBLC \n 
URL:https://w5ias.com/event/tarc-zoom-field-day/
CATEGORIES:TARC
END:VEVENT
BEGIN:VEVENT
DTSTART;TZID=America/Chicago:20250515T180000
DTEND;TZID=America/Chicago:20250515T190000
DTSTAMP:20260421T185034
CREATED:20250406T144401Z
LAST-MODIFIED:20250502T225822Z
UID:6449-1747332000-1747335600@w5ias.com
SUMMARY:Testing Stillwater
DESCRIPTION:Contact\nbill1pendleton@gmail.com
URL:https://w5ias.com/event/testing-stillwater/
LOCATION:Lee Glass Company\, 1002 S Lewis St.\, Stillwater\, OK\, 74074\, United States
CATEGORIES:Testing
END:VEVENT
BEGIN:VEVENT
DTSTART;TZID=America/Chicago:20250515T190000
DTEND;TZID=America/Chicago:20250515T200000
DTSTAMP:20260421T185034
CREATED:20250124T145541Z
LAST-MODIFIED:20250124T145541Z
UID:6025-1747335600-1747339200@w5ias.com
SUMMARY:Ham Testing
DESCRIPTION:Third Thursday of Odd Months – Testing\nALWAYS MAKE CONTACT WITH ORGANIZER TO MAKE SURE TESTING IS STILL SCHEDULED!
URL:https://w5ias.com/event/ham-testing-3/
LOCATION:American Red Cross\, 10151 E 11th ST\, Tulsa\, OK\, 74128\, United States
CATEGORIES:Testing
ORGANIZER;CN="Merlin Griffin WB5OSM":MAILTO:wb5osm@hotmail.com
END:VEVENT
BEGIN:VEVENT
DTSTART;TZID=America/Chicago:20250516T090000
DTEND;TZID=America/Chicago:20250518T170000
DTSTAMP:20260421T185034
CREATED:20241012T141423Z
LAST-MODIFIED:20241012T141423Z
UID:5634-1747386000-1747587600@w5ias.com
SUMMARY:Dayton Hamvention
DESCRIPTION:More to Come
URL:https://w5ias.com/event/dayton-hamvention/
CATEGORIES:Hamfest
END:VEVENT
BEGIN:VEVENT
DTSTART;TZID=America/Chicago:20250517T070000
DTEND;TZID=America/Chicago:20250517T170000
DTSTAMP:20260421T185034
CREATED:20250121T125810Z
LAST-MODIFIED:20250428T010736Z
UID:5952-1747465200-1747501200@w5ias.com
SUMMARY:Cop Land Classic 2025
DESCRIPTION:The Cop Land Classic Bike Ride is the largest fundraiser for the Tulsa Police Officers’ Memorial and is put on annually 2 weeks following the Memorial Service held to honor the 41 fallen officers of the Tulsa Police Department. \n5 routes with elevations: \n\n“The Misdemeanor” (15 mile)https://ridewithgps.com/routes/31295289\n“The Felony” (31 mile)https://ridewithgps.com/routes/31440685\n“Deferred Sentance” (44 mile)https://ridewithgps.com/routes/31295943\n“Escape Route” (57 mile)https://ridewithgps.com/routes/31295843\n“The 67 to Life” (67 mile)https://ridewithgps.com/routes/31260804\n\nThe ride will start and finish at the Tulsa Police Officers’ Memorial at the Tulsa Police Training Center\, 6066 E. 66 St. N.\, Tulsa on May 18th. \nE-mail any questions to me and plan on a good time. We’ll discuss more details on how to support a ride at the next TARC meeting at TU. \nCheck out radios and programming. The band plan and what frequencies we are going to use can be found here – ICS 205 – Radio Communications Plan. \nMORE INFO COMING!! \n  \nSAG Registration – Closed
URL:https://w5ias.com/event/cop-land-classic-2025/
CATEGORIES:Event
END:VEVENT
BEGIN:VEVENT
DTSTART;TZID=America/Chicago:20250520T190000
DTEND;TZID=America/Chicago:20250520T200000
DTSTAMP:20260421T185034
CREATED:20241012T144450Z
LAST-MODIFIED:20250520T232835Z
UID:5654-1747767600-1747771200@w5ias.com
SUMMARY:TARC Monthly Meeting
DESCRIPTION:The TARC meeting will be held at the TU campus at Keplinger Hall in room # 3140 \n  \nTulsa Amateur is inviting you to a scheduled Zoom meeting. \nTopic: TARC Monthly Meeting – May\nTime: May 20\, 2025 07:00 PM Central Time (US and Canada)\nJoin Zoom Meeting\nhttps://us06web.zoom.us/j/87913104836?pwd=Oby0mplNlaPwduUK18f8yy2LWYBgaa.1 \nMeeting ID: 879 1310 4836\nPasscode: 564704 \n— \nOne tap mobile\n+17193594580\,\,87913104836#\,\,\,\,*564704# US\n+17207072699\,\,87913104836#\,\,\,\,*564704# US (Denver) \n— \nDial by your location\n• +1 719 359 4580 US\n• +1 720 707 2699 US (Denver)\n• +1 253 205 0468 US\n• +1 253 215 8782 US (Tacoma)\n• +1 346 248 7799 US (Houston)\n• +1 669 444 9171 US\n• +1 360 209 5623 US\n• +1 386 347 5053 US\n• +1 507 473 4847 US\n• +1 564 217 2000 US\n• +1 646 558 8656 US (New York)\n• +1 646 931 3860 US\n• +1 689 278 1000 US\n• +1 301 715 8592 US (Washington DC)\n• +1 305 224 1968 US\n• +1 309 205 3325 US\n• +1 312 626 6799 US (Chicago) \nMeeting ID: 879 1310 4836\nPasscode: 564704 \nFind your local number: https://us06web.zoom.us/u/kcXvUjIQD4 \n 
URL:https://w5ias.com/event/tarc-monthly-meeting-5/
LOCATION:Keplinger Hall\, Room 3140\, 430 S Gary Pl\, Tulsa\, OK\, 74104\, United States
CATEGORIES:Meeting
END:VEVENT
BEGIN:VEVENT
DTSTART;TZID=America/Chicago:20250528T190000
DTEND;TZID=America/Chicago:20250528T200000
DTSTAMP:20260421T185034
CREATED:20250521T113836Z
LAST-MODIFIED:20250521T113836Z
UID:6659-1748458800-1748462400@w5ias.com
SUMMARY:Field Day Planning Meeting
DESCRIPTION:Tulsa Amateur is inviting you to a scheduled Zoom meeting. \n  \nTopic: Field Day \nTime: May 28\, 2025 07:00 PM Central Time (US and Canada) \nJoin Zoom Meeting \nhttps://us06web.zoom.us/j/89373562690?pwd=BYPQz5MFNnXNaJ9YcXL7n2u7n65Lhw.1 \n  \nMeeting ID: 893 7356 2690 \nPasscode: 871144 \n  \n— \n  \nOne tap mobile \n+13462487799\,\,89373562690#\,\,\,\,*871144# US (Houston) \n+16694449171\,\,89373562690#\,\,\,\,*871144# US \n  \n— \n  \nDial by your location \n\n+1 346 248 7799 US (Houston)\n+1 669 444 9171 US\n+1 719 359 4580 US\n+1 720 707 2699 US (Denver)\n+1 253 205 0468 US\n+1 253 215 8782 US (Tacoma)\n+1 507 473 4847 US\n+1 564 217 2000 US\n+1 646 558 8656 US (New York)\n+1 646 931 3860 US\n+1 689 278 1000 US\n+1 301 715 8592 US (Washington DC)\n+1 305 224 1968 US\n+1 309 205 3325 US\n+1 312 626 6799 US (Chicago)\n+1 360 209 5623 US\n+1 386 347 5053 US\n\n  \nMeeting ID: 893 7356 2690 \nPasscode: 871144 \n  \nFind your local number: https://us06web.zoom.us/u/kddkXNiX48 \n 
URL:https://w5ias.com/event/field-day-planning-meeting/
CATEGORIES:TARC
END:VEVENT
BEGIN:VEVENT
DTSTART;TZID=America/Chicago:20250531T070000
DTEND;TZID=America/Chicago:20250531T170000
DTSTAMP:20260421T185034
CREATED:20250121T130017Z
LAST-MODIFIED:20250526T141401Z
UID:5954-1748674800-1748710800@w5ias.com
SUMMARY:Ride to Remember Black Wall Street 2025
DESCRIPTION:The Community Light Foundation\, a non-profit organization founded by Osborne Celestain with a mission focus on feeding the hungry where they are in Tulsa and surrounding communities. This will be the inaugural Ride to Remember BWS. We set out to create a ‘rider friendly’ bicycling event in Tulsa to promote fitness and fun. We will be offering ride distances of 15\, 35\, 50\, & 70 miles. Our goal is to provide challenging and enjoyable routes for cyclists of levels. We encourage you to come out and join our cycling community. \nRegister to SAG – CLOSED\n 
URL:https://w5ias.com/event/ride-to-remember-black-wall-street-2025/
CATEGORIES:Event
END:VEVENT
BEGIN:VEVENT
DTSTART;TZID=America/Chicago:20250531T090000
DTEND;TZID=America/Chicago:20250531T110000
DTSTAMP:20260421T185034
CREATED:20250124T145546Z
LAST-MODIFIED:20250124T145552Z
UID:6031-1748682000-1748689200@w5ias.com
SUMMARY:Ham Testing - Evergreen Communications Group
DESCRIPTION:Walkins welcome until 1000. Office buildings east of the main building- west entrance\nALWAYS MAKE CONTACT WITH ORGANIZER TO MAKE SURE TESTING IS STILL SCHEDULED!
URL:https://w5ias.com/event/ham-testing-evergreen-communications-group-3/
LOCATION:Evergreen Church\, 10301 E 111th\, Bixby\, OK\, 74008\, United States
CATEGORIES:Testing
ORGANIZER;CN="Sam Blackburn":MAILTO:samblackburn1705@gmail.com
END:VEVENT
END:VCALENDAR