BEGIN:VCALENDAR
VERSION:2.0
PRODID:-//W 5 I A S - ECPv6.15.20//NONSGML v1.0//EN
CALSCALE:GREGORIAN
METHOD:PUBLISH
X-ORIGINAL-URL:https://w5ias.com
X-WR-CALDESC:Events for W 5 I A S
REFRESH-INTERVAL;VALUE=DURATION:PT1H
X-Robots-Tag:noindex
X-PUBLISHED-TTL:PT1H
BEGIN:VTIMEZONE
TZID:America/Chicago
BEGIN:DAYLIGHT
TZOFFSETFROM:-0600
TZOFFSETTO:-0500
TZNAME:CDT
DTSTART:20240310T080000
END:DAYLIGHT
BEGIN:STANDARD
TZOFFSETFROM:-0500
TZOFFSETTO:-0600
TZNAME:CST
DTSTART:20241103T070000
END:STANDARD
BEGIN:DAYLIGHT
TZOFFSETFROM:-0600
TZOFFSETTO:-0500
TZNAME:CDT
DTSTART:20250309T080000
END:DAYLIGHT
BEGIN:STANDARD
TZOFFSETFROM:-0500
TZOFFSETTO:-0600
TZNAME:CST
DTSTART:20251102T070000
END:STANDARD
BEGIN:DAYLIGHT
TZOFFSETFROM:-0600
TZOFFSETTO:-0500
TZNAME:CDT
DTSTART:20260308T080000
END:DAYLIGHT
BEGIN:STANDARD
TZOFFSETFROM:-0500
TZOFFSETTO:-0600
TZNAME:CST
DTSTART:20261101T070000
END:STANDARD
END:VTIMEZONE
BEGIN:VEVENT
DTSTART;TZID=America/Chicago:20250401T183000
DTEND;TZID=America/Chicago:20250401T200000
DTSTAMP:20260421T201626
CREATED:20250123T132332Z
LAST-MODIFIED:20250401T112822Z
UID:5994-1743532200-1743537600@w5ias.com
SUMMARY:TARC Tech Night
DESCRIPTION:Ready to do some Parks on the Air? Ready to enjoy some nice weather and radio? \nMike KI5EGH and Tony KA5TRO are ready to activate some of the local State Parks \nand they’re looking for others to join the fun. Get the details at the next Tech Night! \n  \nZoom\nTulsa Amateur is inviting you to a scheduled Zoom meeting. \nTopic: Tech Night\nTime: Apr 1\, 2025 06:30 PM Central Time (US and Canada)\nJoin Zoom Meeting\nhttps://us06web.zoom.us/j/82956095090?pwd=Phbei0tR7yjIDTib0exObPO0zsEY03.1 \nMeeting ID: 829 5609 5090\nPasscode: 876833 \n— \nOne tap mobile\n+17193594580\,\,82956095090#\,\,\,\,*876833# US\n+17207072699\,\,82956095090#\,\,\,\,*876833# US (Denver) \n— \nDial by your location\n• +1 719 359 4580 US\n• +1 720 707 2699 US (Denver)\n• +1 253 205 0468 US\n• +1 253 215 8782 US (Tacoma)\n• +1 346 248 7799 US (Houston)\n• +1 669 444 9171 US\n• +1 301 715 8592 US (Washington DC)\n• +1 305 224 1968 US\n• +1 309 205 3325 US\n• +1 312 626 6799 US (Chicago)\n• +1 360 209 5623 US\n• +1 386 347 5053 US\n• +1 507 473 4847 US\n• +1 564 217 2000 US\n• +1 646 558 8656 US (New York)\n• +1 646 931 3860 US\n• +1 689 278 1000 US \nMeeting ID: 829 5609 5090\nPasscode: 876833 \nFind your local number: https://us06web.zoom.us/u/kbyMaYZVZC \n 
URL:https://w5ias.com/event/tarc-tech-night-5/
LOCATION:Keplinger Hall\, Room 3140\, 430 S Gary Pl\, Tulsa\, OK\, 74104\, United States
CATEGORIES:Event
END:VEVENT
BEGIN:VEVENT
DTSTART;TZID=America/Chicago:20250411T080000
DTEND;TZID=America/Chicago:20250412T170000
DTSTAMP:20260421T201626
CREATED:20241013T164717Z
LAST-MODIFIED:20250121T121933Z
UID:5745-1744358400-1744477200@w5ias.com
SUMMARY:Green Country Hamfest
DESCRIPTION:More info to come as the new year rolls around \n  \n\n\n\n\nGreen Country Hamfest 2025\nClaremore\, OklahomaApril 11 and 12\, 2025\nThe Biggest and the Best in Oklahoma!\nA 501(c)3 non-profit corporation\nAn ARRL affiliated organization\nOklahoma ARRL State Convention\n\n\n\n\n\nCheck out our forums for 2024!\n2025 will be a similar slate!\n\n\n\n\n\n\n\nPurchase Hamfest admission and tables online and save!\nAdvance admission is $8.00.\nPreregistered flea market tables are $15.00 each.\nCommercial booths are $50.00 each.\nTickets are $10.00 at the door.\nTables are $20.00 at the door.\n \n\n\n\n\nAdvance admission is $8.00.\nPreregistered Tables are $15.00 each.\nCommercial booths are $50.00 each.\nTickets are $10.00 at the door.\nTables are $20.00 at the door.\nOrder early and save!\nMarch 31\, 2025\nThere are only 0 Commercial Tables remaining\n142 Flea Market Tables remaining\n\n\n\nOrder TICKETS and TABLES ONLINE now \, and SELECT YOUR TABLES!\nClick here to select and purchase tables and/or admission tickets.\nClicking the link above takes you to the registration window.\nMUST have cookies enabled in your browser to register!\nFollow all instructions to complete the reservation.\n\nPlease note: GCHF reserves the right to select alternate tables.\nAdvance admission is $8.00\, and required for entry. Commercial tables 50.00\n\n\n\n\n\nAbout the\nGreen Country Hamfest\nDates of the hamfest for 2025 are\nFriday\, April 11th and Saturday\, April 12\, 2025\n\n400 Veterans Parkway\nClaremore\, OK 74017
URL:https://w5ias.com/event/green-country-hamfest/
LOCATION:Claremore Expo Center\, 400 Veterans Parkway\, Claremore\, OK\, 74017\, United States
CATEGORIES:Hamfest
END:VEVENT
BEGIN:VEVENT
DTSTART;TZID=America/Chicago:20250411T181500
DTEND;TZID=America/Chicago:20250411T210000
DTSTAMP:20260421T201626
CREATED:20250124T175012Z
LAST-MODIFIED:20250124T175012Z
UID:6066-1744395300-1744405200@w5ias.com
SUMMARY:Green Country Hamfest Oklahoma DX Association DX DINNER
DESCRIPTION:The Rogers County Building is on the edge of the Parking Lot to the West across from the Claremore Expo Center building. \nSchedule of Events: \nDoors will open at 6:15PM \nPlease arrive early for check-in and to pick up your name tag and raffle tickets. \n7:00PM – Dinner\, followed by the program \nFood:\nA selection of entrees\, sides\, and deserts will be provided by Front Porch Bakery & Smokehouse Catering of Claremore. \nDX Dinner Agenda:\nWelcome & Introduction – Jeff – K5WE \nThe 3Y0J – Bouvet and TX5S – Clipperton DXpeditions – A Presentation by Dave Jorgensen – WD5COV\, a veteran DXpeditioner who has operated from 7O6T – Yemen\, VP8STI – South Sandwich\, VP8SGI – South Georgia\, 3D2R – Rotuma\, 3D2C – Conway\, E30FB – Eritrea\, 9M0W – Spratly\, E31A – Eritria\, ZK3A – Tokelau\, KH8/WD5COV – American Samoa\, 3Y0J – Bouvet\, TX5S – Clipperton\, and many others. \nOKDXA Raffle – We will do a raffle for prizes. OKDXA members are encouraged to bring at least one item to donate as a prize. Any one else can donate a prize if you like. This is the only fund-raising event we do as a club. Please buy some raffle tickets. This is how we raise money for the DXpeditions we support. Our thanks to DX Engineering\, Tennedyne\, and the Cubex Quads companies for prize donations. Thanks to Main Trading Company for special pricing on our Yaesu FT-710 Field Grand Prize. \nGrand Prize – We will have a drawing for a new Yaesu FT-710 Field transceiver. \n  \nCost: $45 per person which includes the meal and 5 raffle tickets. Additional raffle tickets are $2 each. Please use the following web app to register and the link to Paypal to pay. If you would like to join the OKDXA\, membership dues are $20 per year for regular membership\, $10 per year for Sr. Membership (Age 65 and older) and $10 per year for handicap membership. \nAddress any email inquiries to: OKDXASSN@gmail.com . \nWe will be taking reservations and payments beginning 1Jan2025. Seating is limited. Hope to CU at the DX Dinner. Thank you for supporting the Oklahoma DX Association.
URL:https://w5ias.com/event/green-country-hamfest-oklahoma-dx-association-dx-dinner/
LOCATION:Claremore Expo – Rogers County Building\, 416 S Brady St\, Claremore\, OK\, 74017\, United States
CATEGORIES:Event,Hamfest
END:VEVENT
BEGIN:VEVENT
DTSTART;TZID=America/Chicago:20250412T130000
DTEND;TZID=America/Chicago:20250412T140000
DTSTAMP:20260421T201626
CREATED:20250124T145545Z
LAST-MODIFIED:20250124T145551Z
UID:6028-1744462800-1744466400@w5ias.com
SUMMARY:Ham Testing Green Country Hamfest
DESCRIPTION:In conjunction with the Green Country Hamfest/ARRL Oklahoma State Convention we will have a HAM test\nALWAYS MAKE CONTACT WITH ORGANIZER TO MAKE SURE TESTING IS STILL SCHEDULED!
URL:https://w5ias.com/event/ham-testing-green-country-hamfest/
LOCATION:Claremore Expo – Rogers County Building\, 416 S Brady St\, Claremore\, OK\, 74017\, United States
CATEGORIES:Testing
ORGANIZER;CN="Merlin Griffin WB5OSM":MAILTO:wb5osm@hotmail.com
END:VEVENT
BEGIN:VEVENT
DTSTART;TZID=America/Chicago:20250415T190000
DTEND;TZID=America/Chicago:20250415T200000
DTSTAMP:20260421T201626
CREATED:20241012T144450Z
LAST-MODIFIED:20250415T103953Z
UID:5653-1744743600-1744747200@w5ias.com
SUMMARY:TARC Monthly Meeting
DESCRIPTION:The TARC meeting will be held at the TU campus at Keplinger Hall in room # 3140 \n  \nZOOM \nTulsa Amateur is inviting you to a scheduled Zoom meeting. \nTopic: TARC Monthly Meeting – April\nTime: Apr 15\, 2025 07:00 PM Central Time (US and Canada)\nJoin Zoom Meeting\nhttps://us06web.zoom.us/j/86886392510?pwd=B8cA7uatKbI3Uw29ajeYWOdTZYwQEk.1 \nMeeting ID: 868 8639 2510\nPasscode: 626263 \n— \nOne tap mobile\n+17193594580\,\,86886392510#\,\,\,\,*626263# US\n+17207072699\,\,86886392510#\,\,\,\,*626263# US (Denver) \n— \nDial by your location\n• +1 719 359 4580 US\n• +1 720 707 2699 US (Denver)\n• +1 253 205 0468 US\n• +1 253 215 8782 US (Tacoma)\n• +1 346 248 7799 US (Houston)\n• +1 669 444 9171 US\n• +1 507 473 4847 US\n• +1 564 217 2000 US\n• +1 646 558 8656 US (New York)\n• +1 646 931 3860 US\n• +1 689 278 1000 US\n• +1 301 715 8592 US (Washington DC)\n• +1 305 224 1968 US\n• +1 309 205 3325 US\n• +1 312 626 6799 US (Chicago)\n• +1 360 209 5623 US\n• +1 386 347 5053 US \nMeeting ID: 868 8639 2510\nPasscode: 626263 \nFind your local number: https://us06web.zoom.us/u/knroKLeBD \n 
URL:https://w5ias.com/event/tarc-monthly-meeting-4/
LOCATION:Keplinger Hall\, Room 3140\, 430 S Gary Pl\, Tulsa\, OK\, 74104\, United States
CATEGORIES:Meeting
END:VEVENT
BEGIN:VEVENT
DTSTART;VALUE=DATE:20250419
DTEND;VALUE=DATE:20250421
DTSTAMP:20260421T201626
CREATED:20250312T013704Z
LAST-MODIFIED:20250402T001331Z
UID:6271-1745020800-1745193599@w5ias.com
SUMMARY:Oklahoma Parks On The Air (OKPOTA)
DESCRIPTION:Put April 19th and 20th\, 2025\, on your calendar for the next Oklahoma Parks On The Air (OKPOTA) day. The POTA concept has taken the country by storm\, and hams of all types are getting interested in the program. While every day can be a POTA day\, we’re going to try to get Oklahoma on the map by activating as many of the 164 parks in Oklahoma over the weekend. And by getting as many Oklahoma POTA Hunters on the bands as possible. Activations will run from 0000Z on April 19th through 2359Z on April 20th. (7:00 PM CDT Friday through 6:59 PM CDT Sunday.) Please submit all log entries to the pota.app website by May 4th\, 2024. \n\nMore Info \nTARC FB EVENT
URL:https://w5ias.com/event/oklahoma-parks-on-the-air-okpota/
CATEGORIES:Event
END:VEVENT
BEGIN:VEVENT
DTSTART;TZID=America/Chicago:20250426T070000
DTEND;TZID=America/Chicago:20250426T190000
DTSTAMP:20260421T201626
CREATED:20250330T181241Z
LAST-MODIFIED:20250422T200614Z
UID:6416-1745650800-1745694000@w5ias.com
SUMMARY:CANCELLED - BSA Council Camporee - CANCELLED
DESCRIPTION:More info to follow…..
URL:https://w5ias.com/event/bsa-council-camporee/
CATEGORIES:TARC
END:VEVENT
BEGIN:VEVENT
DTSTART;TZID=America/Chicago:20250426T090000
DTEND;TZID=America/Chicago:20250426T100000
DTSTAMP:20260421T201626
CREATED:20250406T144106Z
LAST-MODIFIED:20250406T144500Z
UID:6447-1745658000-1745661600@w5ias.com
SUMMARY:Testing Bartlesville
DESCRIPTION:Contact\nkd5fzl@bartnet.net \n  \nBartlesville
URL:https://w5ias.com/event/testing/
LOCATION:Church of Jesus Christ LDS\, 1501 Swan Dr\, Bartlesville\, OK\, 74006\, United States
CATEGORIES:Testing
END:VEVENT
BEGIN:VEVENT
DTSTART;TZID=America/Chicago:20250426T100000
DTEND;TZID=America/Chicago:20250426T110000
DTSTAMP:20260421T201626
CREATED:20250321T141527Z
LAST-MODIFIED:20250321T142148Z
UID:6393-1745661600-1745665200@w5ias.com
SUMMARY:TARC Ham Testing
DESCRIPTION:The Tulsa Amateur Radio Club will be hosting our next ARRL amateur radio license exam session at The University of Tulsa in Keplinger Hall – Room 3140 @ 10AM. We test all levels from Technician to Amateur Extra. If you would like please sign up at the form below! (not required\, walk-ins are always welcome) \nPlease click here to read the ARRL “what to bring to an exam session” before you sign up. \nClick here if you do not already have an FCC FRN number. (first register for a username and then register for your FRN #). \nFull instructions on getting your FRN number are provided here \nPlease bring cash to the exam session. ($15 for those over 18 and $5 for youths under 18) \nPlease enable JavaScript in your browser to complete this form.Date of exam session I would like to sign up for: *TARC is no longer offering VE testing. Thank you to those who tested with us in the past.Name *FirstLastCall Sign (amateur radio call signs only)If you do not have one\, just type "NONE".Mobile Phone Number *Just in case we need to call you.Email *Exam(s) you would like to take: *TechnicianGeneralAmateur ExtraI read the ARRL "what to bring to an exam session" page linked above: *YesI have an FCC FRN Number: *YesThis is required to take the amateur radio license exam. (Social security numbers are no longer accepted\, link is above)Comments/Questions/ConcernsSubmit
URL:https://w5ias.com/event/tarc-ham-testing/
LOCATION:Keplinger Hall\, Room 3140\, 430 S Gary Pl\, Tulsa\, OK\, 74104\, United States
CATEGORIES:Testing
ORGANIZER;CN="David Kennedy N5DMK":MAILTO:n5dmk@att.net
END:VEVENT
END:VCALENDAR