BEGIN:VCALENDAR
VERSION:2.0
PRODID:-//W 5 I A S - ECPv6.15.20//NONSGML v1.0//EN
CALSCALE:GREGORIAN
METHOD:PUBLISH
X-ORIGINAL-URL:https://w5ias.com
X-WR-CALDESC:Events for W 5 I A S
REFRESH-INTERVAL;VALUE=DURATION:PT1H
X-Robots-Tag:noindex
X-PUBLISHED-TTL:PT1H
BEGIN:VTIMEZONE
TZID:America/Chicago
BEGIN:DAYLIGHT
TZOFFSETFROM:-0600
TZOFFSETTO:-0500
TZNAME:CDT
DTSTART:20240310T080000
END:DAYLIGHT
BEGIN:STANDARD
TZOFFSETFROM:-0500
TZOFFSETTO:-0600
TZNAME:CST
DTSTART:20241103T070000
END:STANDARD
BEGIN:DAYLIGHT
TZOFFSETFROM:-0600
TZOFFSETTO:-0500
TZNAME:CDT
DTSTART:20250309T080000
END:DAYLIGHT
BEGIN:STANDARD
TZOFFSETFROM:-0500
TZOFFSETTO:-0600
TZNAME:CST
DTSTART:20251102T070000
END:STANDARD
BEGIN:DAYLIGHT
TZOFFSETFROM:-0600
TZOFFSETTO:-0500
TZNAME:CDT
DTSTART:20260308T080000
END:DAYLIGHT
BEGIN:STANDARD
TZOFFSETFROM:-0500
TZOFFSETTO:-0600
TZNAME:CST
DTSTART:20261101T070000
END:STANDARD
END:VTIMEZONE
BEGIN:VEVENT
DTSTART;TZID=America/Chicago:20250301T090000
DTEND;TZID=America/Chicago:20250301T110000
DTSTAMP:20260421T212851
CREATED:20250124T145600Z
LAST-MODIFIED:20250124T145600Z
UID:6040-1740819600-1740826800@w5ias.com
SUMMARY:Ham Testing
DESCRIPTION:Ham Testing\nALWAYS MAKE CONTACT WITH ORGANIZER TO MAKE SURE TESTING IS STILL SCHEDULED!
URL:https://w5ias.com/event/ham-testing-6/
LOCATION:Broken Arrow Public Service Complex\, 1101 N 6th St\, Broken Arrow\, OK\, 74012\, United States
CATEGORIES:Testing
ORGANIZER;CN="Loyd Beeson AE5MM":MAILTO:ae5mm@arrl.net
END:VEVENT
BEGIN:VEVENT
DTSTART;TZID=America/Chicago:20250304T183000
DTEND;TZID=America/Chicago:20250304T200000
DTSTAMP:20260421T212851
CREATED:20250123T132332Z
LAST-MODIFIED:20250226T003241Z
UID:5993-1741113000-1741118400@w5ias.com
SUMMARY:TARC Tech Night
DESCRIPTION:
URL:https://w5ias.com/event/tarc-tech-night-4/
LOCATION:Keplinger Hall\, Room 3140\, 430 S Gary Pl\, Tulsa\, OK\, 74104\, United States
CATEGORIES:Event
END:VEVENT
BEGIN:VEVENT
DTSTART;TZID=America/Chicago:20250315T090000
DTEND;TZID=America/Chicago:20250315T130000
DTSTAMP:20260421T212851
CREATED:20250121T121719Z
LAST-MODIFIED:20250313T111021Z
UID:5944-1742029200-1742043600@w5ias.com
SUMMARY:NWS Storm Spotter Training
DESCRIPTION:OSU Tulsa Auditorium \nMore Info/Training – https://www.weather.gov/tsa/spotter_training
URL:https://w5ias.com/event/nws-storm-spotter-training/
LOCATION:OSU Tulsa\, 700 N Greenwood Ave\, Tulsa\, 74106\, United States
CATEGORIES:Event
END:VEVENT
BEGIN:VEVENT
DTSTART;TZID=America/Chicago:20250318T190000
DTEND;TZID=America/Chicago:20250318T200000
DTSTAMP:20260421T212851
CREATED:20241012T144450Z
LAST-MODIFIED:20241012T144450Z
UID:5652-1742324400-1742328000@w5ias.com
SUMMARY:TARC Monthly Meeting
DESCRIPTION:The TARC meeting will be held at the TU campus at Keplinger Hall in room # 3140
URL:https://w5ias.com/event/tarc-monthly-meeting-3/
LOCATION:Keplinger Hall\, Room 3140\, 430 S Gary Pl\, Tulsa\, OK\, 74104\, United States
CATEGORIES:Meeting
END:VEVENT
BEGIN:VEVENT
DTSTART;TZID=America/Chicago:20250320T190000
DTEND;TZID=America/Chicago:20250320T200000
DTSTAMP:20260421T212851
CREATED:20250124T145541Z
LAST-MODIFIED:20250124T145541Z
UID:6024-1742497200-1742500800@w5ias.com
SUMMARY:Ham Testing
DESCRIPTION:Third Thursday of Odd Months – Testing\nALWAYS MAKE CONTACT WITH ORGANIZER TO MAKE SURE TESTING IS STILL SCHEDULED!
URL:https://w5ias.com/event/ham-testing-2/
LOCATION:American Red Cross\, 10151 E 11th ST\, Tulsa\, OK\, 74128\, United States
CATEGORIES:Testing
ORGANIZER;CN="Merlin Griffin WB5OSM":MAILTO:wb5osm@hotmail.com
END:VEVENT
BEGIN:VEVENT
DTSTART;TZID=America/Chicago:20250329T090000
DTEND;TZID=America/Chicago:20250329T110000
DTSTAMP:20260421T212851
CREATED:20250124T145546Z
LAST-MODIFIED:20250124T145551Z
UID:6030-1743238800-1743246000@w5ias.com
SUMMARY:Ham Testing - Evergreen Communications Group
DESCRIPTION:Walkins welcome until 1000. Office buildings east of the main building- west entrance\nALWAYS MAKE CONTACT WITH ORGANIZER TO MAKE SURE TESTING IS STILL SCHEDULED!
URL:https://w5ias.com/event/ham-testing-evergreen-communications-group-2/
LOCATION:Evergreen Church\, 10301 E 111th\, Bixby\, OK\, 74008\, United States
CATEGORIES:Testing
ORGANIZER;CN="Sam Blackburn":MAILTO:samblackburn1705@gmail.com
END:VEVENT
BEGIN:VEVENT
DTSTART;TZID=America/Chicago:20250331T183000
DTEND;TZID=America/Chicago:20250331T200000
DTSTAMP:20260421T212851
CREATED:20250302T155626Z
LAST-MODIFIED:20250322T131743Z
UID:6239-1743445800-1743451200@w5ias.com
SUMMARY:TARC & Trail Life Communication Event
DESCRIPTION:We are looking for some hammies like you to help our with an event on Monday 3/31 as we introduce and talk all things HAM Radio with a group from Trail Life USA. If you can help from 6:30-8pm please reach out to W5JHC@arrl.net so we can connect and get you connected to the event! Even if you can’t make it out\, we can still use QTH support to help make contacts! \n  \n  \nMore INFO coming soon!
URL:https://w5ias.com/event/trail-life-communicaiton-event/
CATEGORIES:TARC
END:VEVENT
END:VCALENDAR