BEGIN:VCALENDAR
VERSION:2.0
PRODID:-//W 5 I A S - ECPv6.15.20//NONSGML v1.0//EN
CALSCALE:GREGORIAN
METHOD:PUBLISH
X-ORIGINAL-URL:https://w5ias.com
X-WR-CALDESC:Events for W 5 I A S
REFRESH-INTERVAL;VALUE=DURATION:PT1H
X-Robots-Tag:noindex
X-PUBLISHED-TTL:PT1H
BEGIN:VTIMEZONE
TZID:America/Chicago
BEGIN:DAYLIGHT
TZOFFSETFROM:-0600
TZOFFSETTO:-0500
TZNAME:CDT
DTSTART:20240310T080000
END:DAYLIGHT
BEGIN:STANDARD
TZOFFSETFROM:-0500
TZOFFSETTO:-0600
TZNAME:CST
DTSTART:20241103T070000
END:STANDARD
BEGIN:DAYLIGHT
TZOFFSETFROM:-0600
TZOFFSETTO:-0500
TZNAME:CDT
DTSTART:20250309T080000
END:DAYLIGHT
BEGIN:STANDARD
TZOFFSETFROM:-0500
TZOFFSETTO:-0600
TZNAME:CST
DTSTART:20251102T070000
END:STANDARD
BEGIN:DAYLIGHT
TZOFFSETFROM:-0600
TZOFFSETTO:-0500
TZNAME:CDT
DTSTART:20260308T080000
END:DAYLIGHT
BEGIN:STANDARD
TZOFFSETFROM:-0500
TZOFFSETTO:-0600
TZNAME:CST
DTSTART:20261101T070000
END:STANDARD
END:VTIMEZONE
BEGIN:VEVENT
DTSTART;TZID=America/Chicago:20250107T190000
DTEND;TZID=America/Chicago:20250107T200000
DTSTAMP:20260422T000925
CREATED:20250123T130726Z
LAST-MODIFIED:20250123T130726Z
UID:5987-1736276400-1736280000@w5ias.com
SUMMARY:TARC Tech Night
DESCRIPTION:
URL:https://w5ias.com/event/tarc-tech-night-2/
LOCATION:Keplinger Hall\, Room 3140\, 430 S Gary Pl\, Tulsa\, OK\, 74104\, United States
CATEGORIES:Event,TARC
END:VEVENT
BEGIN:VEVENT
DTSTART;TZID=America/Chicago:20250116T190000
DTEND;TZID=America/Chicago:20250116T200000
DTSTAMP:20260422T000925
CREATED:20250124T145540Z
LAST-MODIFIED:20250124T145540Z
UID:6023-1737054000-1737057600@w5ias.com
SUMMARY:Ham Testing
DESCRIPTION:Third Thursday of Odd Months – Testing\nALWAYS MAKE CONTACT WITH ORGANIZER TO MAKE SURE TESTING IS STILL SCHEDULED!
URL:https://w5ias.com/event/ham-testing/
LOCATION:American Red Cross\, 10151 E 11th ST\, Tulsa\, OK\, 74128\, United States
CATEGORIES:Testing
ORGANIZER;CN="Merlin Griffin WB5OSM":MAILTO:wb5osm@hotmail.com
END:VEVENT
BEGIN:VEVENT
DTSTART;TZID=America/Chicago:20250121T190000
DTEND;TZID=America/Chicago:20250121T200000
DTSTAMP:20260422T000925
CREATED:20241012T144449Z
LAST-MODIFIED:20241012T144449Z
UID:5650-1737486000-1737489600@w5ias.com
SUMMARY:TARC Monthly Meeting
DESCRIPTION:The TARC meeting will be held at the TU campus at Keplinger Hall in room # 3140
URL:https://w5ias.com/event/tarc-monthly-meeting/
LOCATION:Keplinger Hall\, Room 3140\, 430 S Gary Pl\, Tulsa\, OK\, 74104\, United States
CATEGORIES:Meeting
END:VEVENT
BEGIN:VEVENT
DTSTART;TZID=America/Chicago:20250125T120000
DTEND;TZID=America/Chicago:20250125T220000
DTSTAMP:20260422T000925
CREATED:20250121T115337Z
LAST-MODIFIED:20250121T120528Z
UID:5935-1737806400-1737842400@w5ias.com
SUMMARY:Winter Field Day
DESCRIPTION:The Tulsa Amateur Radio Club (TARC) will operate Winter Field Day at Haikey Creek Park\, \n11327 S Garnett Rd\, Broken Arrow\, OK 74011-9600\, starting at noon on Saturday.
URL:https://w5ias.com/event/winter-field-day/
LOCATION:Haikey Creek Park\, 11327 S Garnett Rd\, Broken Arrow\, OK\, 74011\, United States
CATEGORIES:Event
END:VEVENT
END:VCALENDAR