BEGIN:VCALENDAR
VERSION:2.0
PRODID:-//W 5 I A S - ECPv6.15.20//NONSGML v1.0//EN
CALSCALE:GREGORIAN
METHOD:PUBLISH
X-ORIGINAL-URL:https://w5ias.com
X-WR-CALDESC:Events for W 5 I A S
REFRESH-INTERVAL;VALUE=DURATION:PT1H
X-Robots-Tag:noindex
X-PUBLISHED-TTL:PT1H
BEGIN:VTIMEZONE
TZID:America/Chicago
BEGIN:DAYLIGHT
TZOFFSETFROM:-0600
TZOFFSETTO:-0500
TZNAME:CDT
DTSTART:20230312T080000
END:DAYLIGHT
BEGIN:STANDARD
TZOFFSETFROM:-0500
TZOFFSETTO:-0600
TZNAME:CST
DTSTART:20231105T070000
END:STANDARD
BEGIN:DAYLIGHT
TZOFFSETFROM:-0600
TZOFFSETTO:-0500
TZNAME:CDT
DTSTART:20240310T080000
END:DAYLIGHT
BEGIN:STANDARD
TZOFFSETFROM:-0500
TZOFFSETTO:-0600
TZNAME:CST
DTSTART:20241103T070000
END:STANDARD
BEGIN:DAYLIGHT
TZOFFSETFROM:-0600
TZOFFSETTO:-0500
TZNAME:CDT
DTSTART:20250309T080000
END:DAYLIGHT
BEGIN:STANDARD
TZOFFSETFROM:-0500
TZOFFSETTO:-0600
TZNAME:CST
DTSTART:20251102T070000
END:STANDARD
END:VTIMEZONE
BEGIN:VEVENT
DTSTART;VALUE=DATE:20241206
DTEND;VALUE=DATE:20241207
DTSTAMP:20260422T013338
CREATED:20241011T110201Z
LAST-MODIFIED:20241013T233704Z
UID:5580-1733443200-1733529599@w5ias.com
SUMMARY:City of Sand Springs Christmas Parade
DESCRIPTION:It’s been a great year.  Let’s help the City of Sand Springs put on a Christmas Parade! \nYes.  That’s right.  We help stage\, time and wrangle the Christmas Floats down the parade route.  Volunteers are always welcome. \nFor more information at this time\, see the City of Sand Springs website. More to come soon.
URL:https://w5ias.com/event/city-of-sand-springs-christmas-parade/
CATEGORIES:NET,TARC
END:VEVENT
BEGIN:VEVENT
DTSTART;TZID=America/Chicago:20241210T180000
DTEND;TZID=America/Chicago:20241210T210000
DTSTAMP:20260422T013338
CREATED:20241011T105121Z
LAST-MODIFIED:20250322T125951Z
UID:5565-1733853600-1733864400@w5ias.com
SUMMARY:TARC 100 Year Anniversary Gala
DESCRIPTION:This year the Tulsa Amateur Radio Club celebrates our 100 Year Anniversary! \nThis will be a special evening for our members and their guests. \nYour purchase of 100 Year Anniversary coffee mugs\, pins and T shirts helps defer the cost of this event. \nTime:  6:00 PM – 9:00 PM \nLocation:  Ti Amo Restaurant  (Private Tuscany Room pictured.  Limited Seating for 100 guests) \n6024 South Sheridan Rd. A  Tulsa\, OK \nCost:  Tickets are $55 / Credit Card $60 (per person) \nOther:  Buffett includes beef\, chicken\, pasta and vegetarian selection.  Cash bar with table service \nFor more information contact:  Ky Vargas KY5VAR (918) 760-6568 kvargas@assurance-partners.com \n  \nNB: Due to seat limitations\, we need to get a seat count ASAP so please make sure to fill out this form if you plan on going. If we end up over 100 participants\, we will have to look at our room alternatives. RSVP does not guarantee a seat. Credit card payment via paypal link will be provided. \n\nTICKET RSVP\nNB: You will find a link on the RSVP confirmation page to pay online
URL:https://w5ias.com/event/tarc-100-year-anniversary-gala/
LOCATION:Ti Amo Restaurant\, 6024 South Sheridan Rd. A\, Tulsa\, OK\, United States
END:VEVENT
END:VCALENDAR