BEGIN:VCALENDAR
VERSION:2.0
PRODID:-//W 5 I A S - ECPv6.15.20//NONSGML v1.0//EN
CALSCALE:GREGORIAN
METHOD:PUBLISH
X-WR-CALNAME:W 5 I A S
X-ORIGINAL-URL:https://w5ias.com
X-WR-CALDESC:Events for W 5 I A S
REFRESH-INTERVAL;VALUE=DURATION:PT1H
X-Robots-Tag:noindex
X-PUBLISHED-TTL:PT1H
BEGIN:VTIMEZONE
TZID:America/Chicago
BEGIN:DAYLIGHT
TZOFFSETFROM:-0600
TZOFFSETTO:-0500
TZNAME:CDT
DTSTART:20230312T080000
END:DAYLIGHT
BEGIN:STANDARD
TZOFFSETFROM:-0500
TZOFFSETTO:-0600
TZNAME:CST
DTSTART:20231105T070000
END:STANDARD
BEGIN:DAYLIGHT
TZOFFSETFROM:-0600
TZOFFSETTO:-0500
TZNAME:CDT
DTSTART:20240310T080000
END:DAYLIGHT
BEGIN:STANDARD
TZOFFSETFROM:-0500
TZOFFSETTO:-0600
TZNAME:CST
DTSTART:20241103T070000
END:STANDARD
BEGIN:DAYLIGHT
TZOFFSETFROM:-0600
TZOFFSETTO:-0500
TZNAME:CDT
DTSTART:20250309T080000
END:DAYLIGHT
BEGIN:STANDARD
TZOFFSETFROM:-0500
TZOFFSETTO:-0600
TZNAME:CST
DTSTART:20251102T070000
END:STANDARD
END:VTIMEZONE
BEGIN:VEVENT
DTSTART;TZID=America/Chicago:20240601T080000
DTEND;TZID=America/Chicago:20240601T180000
DTSTAMP:20260422T092448
CREATED:20241012T145214Z
LAST-MODIFIED:20241012T145214Z
UID:5673-1717228800-1717264800@w5ias.com
SUMMARY:Ride to Remember Black Wall Street
DESCRIPTION:The Community Light Foundation\, a non-profit organization founded by Osborne Celestain with a mission focus on feeding the hungry where they are in Tulsa and surrounding communities. This will be the inaugural Ride to Remember BWS. We set out to create a ‘rider friendly’ bicycling event in Tulsa to promote fitness and fun. We will be offering ride distances of 15\, 35\, 50\, & 70 miles. Our goal is to provide challenging and enjoyable routes for cyclists of levels. We encourage you to come out and join our cycling community. \nStart: E Independence Pl\, Tulsa\, OK 74120 ( OSU Tulsa ) \n  \nSag Sign Up – CLOSED
URL:https://w5ias.com/event/ride-to-remember-black-wall-street/
CATEGORIES:Event,TARC
END:VEVENT
BEGIN:VEVENT
DTSTART;TZID=America/Chicago:20240608T080000
DTEND;TZID=America/Chicago:20240608T180000
DTSTAMP:20260422T092448
CREATED:20241012T145106Z
LAST-MODIFIED:20241012T145106Z
UID:5671-1717833600-1717869600@w5ias.com
SUMMARY:Tulsa Tough 2024
DESCRIPTION:It’s on the calendar! More info to follow..\n\n\nSaint Francis Tulsa Tough will take place on June 8&9. Make sure to sign up as a volunteer if you are interested in helping out. There will be more information coming to our SAG team before the event. \nQUESTIONS?\nHead to our FAQ page for info on registration\, refunds\, transfers and more: www.tulsatough.com/faq \n\n\n  \nSign Up Form – CLOSED\n 
URL:https://w5ias.com/event/tulsa-tough-2024/
CATEGORIES:Event,TARC
END:VEVENT
BEGIN:VEVENT
DTSTART;TZID=America/Chicago:20240618T190000
DTEND;TZID=America/Chicago:20240618T200000
DTSTAMP:20260422T092448
CREATED:20241012T142541Z
LAST-MODIFIED:20241012T142541Z
UID:5638-1718737200-1718740800@w5ias.com
SUMMARY:TARC Monthly Meeting - June
DESCRIPTION:The June TARC meeting will be held at the TU campus at Keplinger Hall in room # 3140 \nTalk in is the 145.110 repeater. \nWe will be discussing Field Day planning at this meeting. \nMember Spotlight selects members who have explored their hobby.  We will have a short show and tell with questions from Ky Vargas KY5VAR and the audience.  You do not need a formal presentation or PowerPoint to share your story.  We want to celebrate your successes and commiserate your failures.  If you are willing to share your short Ham Radio story with your fellow members\, call or text Ky Vargas at 918-760-6568 to get on the schedule. \n  \nDon’t forget to purchase your 100th Anniversary coffee mugs\, shirts\, etc.
URL:https://w5ias.com/event/tarc-monthly-meeting-june/
CATEGORIES:Meeting
END:VEVENT
BEGIN:VEVENT
DTSTART;VALUE=DATE:20240622
DTEND;VALUE=DATE:20240624
DTSTAMP:20260422T092448
CREATED:20241011T110249Z
LAST-MODIFIED:20241011T110249Z
UID:5582-1719014400-1719187199@w5ias.com
SUMMARY:ARRL Field Day 2024
DESCRIPTION:Date: 6.22-23.2024\nLocation: Haikey Creek Park Shelter #2\nLocation: 35.9929971\,-95.8544497\nChairs: W5JHC Jack Conway & KY5VAR Ky Vargas\nCommittee Chairs: YOU!\nPIO: Any Club Officer \nBands: (80\,40\,20\,15\,10\,6)\nTalk IN: 443.850\nSimplex local :146.550 \nMuster: 9:00am 6.22\nSafety Meeting: 10:00A (ISH) Mandatory for operators (Main Gazebo)\nSetup: Noon 6.22\nStart Time: 1pm 6.22\nEnd Time: 1pm 6.23\nTear Down: 11am 6.23 \nDinner: 5PM (RSVP Required)\nCamping: bring your tent!! \nARRL Field Day on the fourth full weekend of June every year is the opportunity for thousands of amateur radio enthusiasts throughout the U.S and Canada to set up temporary communications stations and make contact with like-minded people. Licensed radio operators (often called “Hams”) spend the weekend practicing community outreach\, emergency preparedness\, and technical skills. It’s basically radio heaven. \nA contest is held each year with individuals\, clubs\, and teams trying to make contact with as many stations as possible over 24 hours. Field Day will take place on June 22 and June 23 with over 35\,00 people expected to take part. It begins at 18:00 UTC Saturday and runs through 20:59 UTC Sunday. Pack your camping equipment\, throw up some temporary antennas\, and spin the dials on your radio\, because this not-to-be-missed event is rich in history\, tradition\, and technology. \nAll hams or non-hams are invited and you don’t have to be a club member to participate. The staff will assist you in getting on the air and teach you how to operate. You don’t have to be licensed to operate. \nTARC Planning\n \nOperating Status: 7AOK\nMax Output: 100W \nSafety Officer: K5TZS David Griffon\nHydration/Safety: KE5EHM Paul Young\, KJ5GNN Brandon Morton\, N5LPR Chad Moser\, KJ5CWW Greg Fisher\nFREQ/Filter Coordinator: WB5ANX Paul Teel \nNB: This year we are blocking bands and time slots so we can help limit our interference with each other as well as have a means to contact each other if we think there is a problem. Please visit the info booth to RSVP a time or check the schedule.\nGOTA Station Lead:K5AEB Ann Bruun\nGOTA Station: KI5EGH Mike Toole\, WW0CJ\, CJ Pokowitz\nINFO Booth Lead: WA5MA Mark Adams\nInfo Booth: KC5MJE Kenny Adams\, KI5WDD Robert Kerns\, N5TWB Bart Pickens\, KI5VYF Linda Barnett\nRules Specialist: KC9THI Ian Duncan\nTrailer Chief: KF5VCQ Steve Childers\nCW Specialist: KY5VAR Ky Vargas\nCW: KD5SMF Mark Roberts\nDigital Modes: AE5ME Jeff Scoville\nLogging Setup: W5GGW Greg\nLogging Support: KG5GJ Brain Powers & KD5DBP  Doug Powers\, WW0CJ\, CJ Pokowitz\nPhotos : K5CAY Dan\, K3FBR Bruce Marriner\nResident Elmer: KA6DOY Remell Spencer\nCooling Station Courtesy : KA6DOY Remell Spencer\nSetup/Cleanup: KJ5FIS Billy Bruno\, W5PPA Dave Medrick \nW1AW Bulletin: OPEN\nNTS Message: OPEN \nSchedule of Events\n \n  \n  \n  \n  \n  \n  \n  \n  \nParking\nAs with previous years do not park in the main row in front of the covered gazebo. We share parking with the play park and what better way to get some young operators to stop by than giving them UP FRONT parking! Totally good with loading and unloading things for short term\, but let’s be good park friends and leave the space and make some new friends! \nDon’t forget to purchase your 100th Anniversary coffee mugs\, shirts\, etc. \nHelpful Documents\nField-Day-Rules\n4_35-ARRL-RAC Section List\n2024 ARRLRAC Section Checklist\n2018-Field-Day-2-page-dupesheet\n2019 FD Log Sheet\nW1AW Schedule\n4_1a-2024 Summary Sheet\n2_2-FD Really Trying\n1_92-FD Educational FAQ\nField Day Responsibilities Checklist\nWho’s in control\n1_85-2024 FD GOTA Scoring FAQ\n1_82-FD GOTA FAQ\n1_62- FD FAQ\n2024 Field Day Packet v1\nWASmap_Color\nPaperLogExample- MINIMUM DATA to LOG \n  \nDirections\n\n\n\n	\n		South Garnett Road\, Bixby\, Tulsa County\, Oklahoma\, 47133 \n	\n\n\n 
URL:https://w5ias.com/event/arrl-field-day-2024/
CATEGORIES:NET,TARC
END:VEVENT
END:VCALENDAR