BEGIN:VCALENDAR
VERSION:2.0
PRODID:-//W 5 I A S - ECPv6.15.20//NONSGML v1.0//EN
CALSCALE:GREGORIAN
METHOD:PUBLISH
X-ORIGINAL-URL:https://w5ias.com
X-WR-CALDESC:Events for W 5 I A S
REFRESH-INTERVAL;VALUE=DURATION:PT1H
X-Robots-Tag:noindex
X-PUBLISHED-TTL:PT1H
BEGIN:VTIMEZONE
TZID:America/Chicago
BEGIN:DAYLIGHT
TZOFFSETFROM:-0600
TZOFFSETTO:-0500
TZNAME:CDT
DTSTART:20250309T080000
END:DAYLIGHT
BEGIN:STANDARD
TZOFFSETFROM:-0500
TZOFFSETTO:-0600
TZNAME:CST
DTSTART:20251102T070000
END:STANDARD
BEGIN:DAYLIGHT
TZOFFSETFROM:-0600
TZOFFSETTO:-0500
TZNAME:CDT
DTSTART:20260308T080000
END:DAYLIGHT
BEGIN:STANDARD
TZOFFSETFROM:-0500
TZOFFSETTO:-0600
TZNAME:CST
DTSTART:20261101T070000
END:STANDARD
BEGIN:DAYLIGHT
TZOFFSETFROM:-0600
TZOFFSETTO:-0500
TZNAME:CDT
DTSTART:20270314T080000
END:DAYLIGHT
BEGIN:STANDARD
TZOFFSETFROM:-0500
TZOFFSETTO:-0600
TZNAME:CST
DTSTART:20271107T070000
END:STANDARD
END:VTIMEZONE
BEGIN:VEVENT
DTSTART;TZID=America/Chicago:20260421T190000
DTEND;TZID=America/Chicago:20260421T200000
DTSTAMP:20260421T094207
CREATED:20260105T124132Z
LAST-MODIFIED:20260407T120701Z
UID:7648-1776798000-1776801600@w5ias.com
SUMMARY:TARC Monthly Meeting
DESCRIPTION:The TARC meeting will be held at the TU campus at Keplinger Hall in room # 3140 \nPaul WB5ANX / Kelly Baker N5TUG	Bike Ride Prep / Skywarn \nZoom info \nRegister in advance for this meeting:\nhttps://us06web.zoom.us/meeting/register/bq5CWAuFRzCPvpxazM_iDg \nAfter registering\, you will receive a confirmation email containing information about joining the meeting.
URL:https://w5ias.com/event/tarc-monthly-meeting-15/
LOCATION:Keplinger Hall\, Room 3140\, 430 S Gary Pl\, Tulsa\, OK\, 74104\, United States
CATEGORIES:Meeting
END:VEVENT
BEGIN:VEVENT
DTSTART;TZID=America/Chicago:20260519T190000
DTEND;TZID=America/Chicago:20260519T200000
DTSTAMP:20260421T094207
CREATED:20260105T124133Z
LAST-MODIFIED:20260407T120855Z
UID:7649-1779217200-1779220800@w5ias.com
SUMMARY:TARC Monthly Meeting
DESCRIPTION:The TARC meeting will be held at the TU campus at Keplinger Hall in room # 3140 \nWB5ANX / W5JHC	Bike Ride Prep / Field Day Prep \nZoom info \nRegister in advance for this meeting:\nhttps://us06web.zoom.us/meeting/register/bq5CWAuFRzCPvpxazM_iDg \nAfter registering\, you will receive a confirmation email containing information about joining the meeting.
URL:https://w5ias.com/event/tarc-monthly-meeting-16/
LOCATION:Keplinger Hall\, Room 3140\, 430 S Gary Pl\, Tulsa\, OK\, 74104\, United States
CATEGORIES:Meeting
END:VEVENT
BEGIN:VEVENT
DTSTART;TZID=America/Chicago:20260616T190000
DTEND;TZID=America/Chicago:20260616T200000
DTSTAMP:20260421T094207
CREATED:20260105T124139Z
LAST-MODIFIED:20260124T175853Z
UID:7650-1781636400-1781640000@w5ias.com
SUMMARY:TARC Monthly Meeting
DESCRIPTION:The TARC meeting will be held at the TU campus at Keplinger Hall in room # 3140 \nZoom info \nRegister in advance for this meeting:\nhttps://us06web.zoom.us/meeting/register/bq5CWAuFRzCPvpxazM_iDg \nAfter registering\, you will receive a confirmation email containing information about joining the meeting.
URL:https://w5ias.com/event/tarc-monthly-meeting-17/
LOCATION:Keplinger Hall\, Room 3140\, 430 S Gary Pl\, Tulsa\, OK\, 74104\, United States
CATEGORIES:Meeting
END:VEVENT
BEGIN:VEVENT
DTSTART;TZID=America/Chicago:20260721T190000
DTEND;TZID=America/Chicago:20260721T200000
DTSTAMP:20260421T094207
CREATED:20260105T124139Z
LAST-MODIFIED:20260124T175841Z
UID:7651-1784660400-1784664000@w5ias.com
SUMMARY:TARC Monthly Meeting
DESCRIPTION:The TARC meeting will be held at the TU campus at Keplinger Hall in room # 3140 \nZoom info \nRegister in advance for this meeting:\nhttps://us06web.zoom.us/meeting/register/bq5CWAuFRzCPvpxazM_iDg \nAfter registering\, you will receive a confirmation email containing information about joining the meeting.
URL:https://w5ias.com/event/tarc-monthly-meeting-18/
LOCATION:Keplinger Hall\, Room 3140\, 430 S Gary Pl\, Tulsa\, OK\, 74104\, United States
CATEGORIES:Meeting
END:VEVENT
BEGIN:VEVENT
DTSTART;TZID=America/Chicago:20260818T190000
DTEND;TZID=America/Chicago:20260818T200000
DTSTAMP:20260421T094207
CREATED:20260105T124139Z
LAST-MODIFIED:20260124T175832Z
UID:7652-1787079600-1787083200@w5ias.com
SUMMARY:TARC Monthly Meeting
DESCRIPTION:The TARC meeting will be held at the TU campus at Keplinger Hall in room # 3140 \nZoom info \nRegister in advance for this meeting:\nhttps://us06web.zoom.us/meeting/register/bq5CWAuFRzCPvpxazM_iDg \nAfter registering\, you will receive a confirmation email containing information about joining the meeting.
URL:https://w5ias.com/event/tarc-monthly-meeting-19/
LOCATION:Keplinger Hall\, Room 3140\, 430 S Gary Pl\, Tulsa\, OK\, 74104\, United States
CATEGORIES:Meeting
END:VEVENT
BEGIN:VEVENT
DTSTART;TZID=America/Chicago:20260915T190000
DTEND;TZID=America/Chicago:20260915T200000
DTSTAMP:20260421T094207
CREATED:20260105T124140Z
LAST-MODIFIED:20260124T175822Z
UID:7653-1789498800-1789502400@w5ias.com
SUMMARY:TARC Monthly Meeting
DESCRIPTION:The TARC meeting will be held at the TU campus at Keplinger Hall in room # 3140 \nZoom info \nRegister in advance for this meeting:\nhttps://us06web.zoom.us/meeting/register/bq5CWAuFRzCPvpxazM_iDg \nAfter registering\, you will receive a confirmation email containing information about joining the meeting.
URL:https://w5ias.com/event/tarc-monthly-meeting-20/
LOCATION:Keplinger Hall\, Room 3140\, 430 S Gary Pl\, Tulsa\, OK\, 74104\, United States
CATEGORIES:Meeting
END:VEVENT
BEGIN:VEVENT
DTSTART;TZID=America/Chicago:20261020T190000
DTEND;TZID=America/Chicago:20261020T200000
DTSTAMP:20260421T094207
CREATED:20260105T124140Z
LAST-MODIFIED:20260124T175811Z
UID:7654-1792522800-1792526400@w5ias.com
SUMMARY:TARC Monthly Meeting
DESCRIPTION:The TARC meeting will be held at the TU campus at Keplinger Hall in room # 3140 \nZoom info \nRegister in advance for this meeting:\nhttps://us06web.zoom.us/meeting/register/bq5CWAuFRzCPvpxazM_iDg \nAfter registering\, you will receive a confirmation email containing information about joining the meeting.
URL:https://w5ias.com/event/tarc-monthly-meeting-21/
LOCATION:Keplinger Hall\, Room 3140\, 430 S Gary Pl\, Tulsa\, OK\, 74104\, United States
CATEGORIES:Meeting
END:VEVENT
BEGIN:VEVENT
DTSTART;TZID=America/Chicago:20261117T190000
DTEND;TZID=America/Chicago:20261117T200000
DTSTAMP:20260421T094207
CREATED:20260105T124806Z
LAST-MODIFIED:20260124T175802Z
UID:7664-1794942000-1794945600@w5ias.com
SUMMARY:TARC Monthly Meeting
DESCRIPTION:The TARC meeting will be held at the TU campus at Keplinger Hall in room # 3140 \nZoom info \nRegister in advance for this meeting:\nhttps://us06web.zoom.us/meeting/register/bq5CWAuFRzCPvpxazM_iDg \nAfter registering\, you will receive a confirmation email containing information about joining the meeting.
URL:https://w5ias.com/event/tarc-monthly-meeting-22/
LOCATION:Keplinger Hall\, Room 3140\, 430 S Gary Pl\, Tulsa\, OK\, 74104\, United States
CATEGORIES:Meeting
END:VEVENT
BEGIN:VEVENT
DTSTART;TZID=America/Chicago:20261215T190000
DTEND;TZID=America/Chicago:20261215T200000
DTSTAMP:20260421T094207
CREATED:20260105T124807Z
LAST-MODIFIED:20260124T175743Z
UID:7665-1797361200-1797364800@w5ias.com
SUMMARY:TARC Monthly Meeting
DESCRIPTION:The TARC meeting will be held at the TU campus at Keplinger Hall in room # 3140 \nZoom info \nRegister in advance for this meeting:\nhttps://us06web.zoom.us/meeting/register/bq5CWAuFRzCPvpxazM_iDg \nAfter registering\, you will receive a confirmation email containing information about joining the meeting.
URL:https://w5ias.com/event/tarc-monthly-meeting-23/
LOCATION:Keplinger Hall\, Room 3140\, 430 S Gary Pl\, Tulsa\, OK\, 74104\, United States
CATEGORIES:Meeting
END:VEVENT
END:VCALENDAR