BEGIN:VCALENDAR
VERSION:2.0
PRODID:-//W 5 I A S - ECPv6.15.20//NONSGML v1.0//EN
CALSCALE:GREGORIAN
METHOD:PUBLISH
X-ORIGINAL-URL:https://w5ias.com
X-WR-CALDESC:Events for W 5 I A S
REFRESH-INTERVAL;VALUE=DURATION:PT1H
X-Robots-Tag:noindex
X-PUBLISHED-TTL:PT1H
BEGIN:VTIMEZONE
TZID:America/Chicago
BEGIN:DAYLIGHT
TZOFFSETFROM:-0600
TZOFFSETTO:-0500
TZNAME:CDT
DTSTART:20230312T080000
END:DAYLIGHT
BEGIN:STANDARD
TZOFFSETFROM:-0500
TZOFFSETTO:-0600
TZNAME:CST
DTSTART:20231105T070000
END:STANDARD
BEGIN:DAYLIGHT
TZOFFSETFROM:-0600
TZOFFSETTO:-0500
TZNAME:CDT
DTSTART:20240310T080000
END:DAYLIGHT
BEGIN:STANDARD
TZOFFSETFROM:-0500
TZOFFSETTO:-0600
TZNAME:CST
DTSTART:20241103T070000
END:STANDARD
BEGIN:DAYLIGHT
TZOFFSETFROM:-0600
TZOFFSETTO:-0500
TZNAME:CDT
DTSTART:20250309T080000
END:DAYLIGHT
BEGIN:STANDARD
TZOFFSETFROM:-0500
TZOFFSETTO:-0600
TZNAME:CST
DTSTART:20251102T070000
END:STANDARD
BEGIN:DAYLIGHT
TZOFFSETFROM:-0600
TZOFFSETTO:-0500
TZNAME:CDT
DTSTART:20260308T080000
END:DAYLIGHT
BEGIN:STANDARD
TZOFFSETFROM:-0500
TZOFFSETTO:-0600
TZNAME:CST
DTSTART:20261101T070000
END:STANDARD
BEGIN:DAYLIGHT
TZOFFSETFROM:-0600
TZOFFSETTO:-0500
TZNAME:CDT
DTSTART:20270314T080000
END:DAYLIGHT
BEGIN:STANDARD
TZOFFSETFROM:-0500
TZOFFSETTO:-0600
TZNAME:CST
DTSTART:20271107T070000
END:STANDARD
END:VTIMEZONE
BEGIN:VEVENT
DTSTART;TZID=America/Chicago:20260317T180000
DTEND;TZID=America/Chicago:20260317T200000
DTSTAMP:20260421T112742
CREATED:20260105T124129Z
LAST-MODIFIED:20260222T162905Z
UID:7647-1773770400-1773777600@w5ias.com
SUMMARY:TARC Monthly Meeting
DESCRIPTION:Due to the Storm Spotter Training for Tulsa we will be skipping our normal meeting for this meeting.
URL:https://w5ias.com/event/tarc-monthly-meeting-14/
LOCATION:Centennial Center in Veterans Park\, 1028 E 6th St\, Tulsa\, OK\, 74120\, United States
CATEGORIES:Meeting
END:VEVENT
BEGIN:VEVENT
DTSTART;TZID=America/Chicago:20260217T190000
DTEND;TZID=America/Chicago:20260217T200000
DTSTAMP:20260421T112742
CREATED:20260105T124129Z
LAST-MODIFIED:20260124T175636Z
UID:7646-1771354800-1771358400@w5ias.com
SUMMARY:TARC Monthly Meeting
DESCRIPTION:The TARC meeting will be held at the TU campus at Keplinger Hall in room # 3140 \n  \nZoom info \nRegister in advance for this meeting:\nhttps://us06web.zoom.us/meeting/register/bq5CWAuFRzCPvpxazM_iDg \nAfter registering\, you will receive a confirmation email containing information about joining the meeting.
URL:https://w5ias.com/event/tarc-monthly-meeting-13/
LOCATION:Keplinger Hall\, Room 3140\, 430 S Gary Pl\, Tulsa\, OK\, 74104\, United States
CATEGORIES:Meeting
END:VEVENT
BEGIN:VEVENT
DTSTART;TZID=America/Chicago:20260120T190000
DTEND;TZID=America/Chicago:20260120T200000
DTSTAMP:20260421T112742
CREATED:20260105T124128Z
LAST-MODIFIED:20260105T125909Z
UID:7645-1768935600-1768939200@w5ias.com
SUMMARY:TARC Monthly Meeting
DESCRIPTION:The TARC meeting will be held at the TU campus at Keplinger Hall in room # 3140 \n  \nZoom Info \n  \nTulsa Amateur is inviting you to a scheduled Zoom meeting. \nTopic: My Meeting\nTime: Jan 20\, 2026 07:00 PM Central Time (US and Canada)\nEvery month on the Third Tue\, 12 occurrence(s)\nPlease download and import the following iCalendar (.ics) files to your calendar system.\nMonthly: https://us06web.zoom.us/meeting/tZYlcO6trzorHdalC23AW1mn5KKINv2PW7bA/ics?icsToken=DIkq3Ogm6WIskthL6gAALAAAAJSrw3aW6-W3Cs_fBqhuf_wssPTL3LYQB10CJyJ6hzHPYDk35TuImxWIa4DdZFIp59RB7f8uLuiGeq71OTAwMDAwMQ&meetingMasterEventId=mH41jaZBQkCeN3VaK3NUMA\nJoin Zoom Meeting\nhttps://us06web.zoom.us/j/82877511172?pwd=QWXrmEJD3YTuRaoRskxhWaM87ghL5a.1 \nMeeting ID: 828 7751 1172\nPasscode: 659222 \n— \nOne tap mobile\n+13462487799\,\,82877511172#\,\,\,\,*659222# US (Houston)\n+16694449171\,\,82877511172#\,\,\,\,*659222# US \nJoin instructions\nhttps://us06web.zoom.us/meetings/82877511172/invitations?signature=xxB7CYsEeeF2ijN2C75QEmw5lhp3iqiN8LFQOE_MZ2U \n 
URL:https://w5ias.com/event/tarc-monthly-meeting-12/
LOCATION:Keplinger Hall\, Room 3140\, 430 S Gary Pl\, Tulsa\, OK\, 74104\, United States
CATEGORIES:Meeting
END:VEVENT
BEGIN:VEVENT
DTSTART;TZID=America/Chicago:20251209T180000
DTEND;TZID=America/Chicago:20251209T200000
DTSTAMP:20260421T112742
CREATED:20251201T124650Z
LAST-MODIFIED:20251201T124650Z
UID:7421-1765303200-1765310400@w5ias.com
SUMMARY:Christmas Party
DESCRIPTION:The TARC Christmas Party is December 9th 6:00 PM at the Golden Corral 71st and Mingo\nRaffle prizes\, good food and ham radio! Nothing better!
URL:https://w5ias.com/event/christmas-party/
LOCATION:OK
CATEGORIES:Meeting
END:VEVENT
BEGIN:VEVENT
DTSTART;TZID=America/Chicago:20251118T190000
DTEND;TZID=America/Chicago:20251118T200000
DTSTAMP:20260421T112742
CREATED:20251118T133723Z
LAST-MODIFIED:20260120T181900Z
UID:7406-1763492400-1763496000@w5ias.com
SUMMARY:TARC Monthly Meeting
DESCRIPTION:The TARC meeting will be held at the TU campus at Keplinger Hall in room # 3140 \n============ \n  \nTulsa Amateur is inviting you to a scheduled Zoom meeting. \nTopic: TARC November Club Meeting\nTime: Nov 18\, 2025 07:00 PM Central Time (US and Canada)\nJoin Zoom Meeting\nhttps://us06web.zoom.us/j/88293819162?pwd=yx5rpse2jhARalRW8c6fDQNmy8C9UR.1 \nMeeting ID: 882 9381 9162\nPasscode: 295175 \n— \nOne tap mobile\n+12532050468\,\,88293819162#\,\,\,\,*295175# US\n+12532158782\,\,88293819162#\,\,\,\,*295175# US (Tacoma) \nJoin instructions \n 
URL:https://w5ias.com/event/tarc-monthly-meeting-11/
LOCATION:Keplinger Hall\, Room 3140\, 430 S Gary Pl\, Tulsa\, OK\, 74104\, United States
CATEGORIES:Meeting
END:VEVENT
BEGIN:VEVENT
DTSTART;TZID=America/Chicago:20251021T190000
DTEND;TZID=America/Chicago:20251021T200000
DTSTAMP:20260421T112742
CREATED:20241012T144454Z
LAST-MODIFIED:20250804T121716Z
UID:5659-1761073200-1761076800@w5ias.com
SUMMARY:TARC Monthly Meeting
DESCRIPTION:The TARC meeting will be held at the TU campus at Keplinger Hall in room # 3140 \n  \nTulsa Amateur is inviting you to a scheduled Zoom meeting. \nTopic: TARC Monthly Meeting\nTime: Oct 21\, 2025 07:00 PM Central Time (US and Canada)\nJoin Zoom Meeting\nhttps://us06web.zoom.us/j/81870413109?pwd=32Nn8vJhGJ1kZ1iZa9Kzn1uaSAwumh.1 \nMeeting ID: 818 7041 3109\nPasscode: 162302 \n— \nOne tap mobile\n+16694449171\,\,81870413109#\,\,\,\,*162302# US\n+17193594580\,\,81870413109#\,\,\,\,*162302# US \n— \nDial by your location\n• +1 669 444 9171 US\n• +1 719 359 4580 US\n• +1 720 707 2699 US (Denver)\n• +1 253 205 0468 US\n• +1 253 215 8782 US (Tacoma)\n• +1 346 248 7799 US (Houston)\n• +1 689 278 1000 US\n• +1 301 715 8592 US (Washington DC)\n• +1 305 224 1968 US\n• +1 309 205 3325 US\n• +1 312 626 6799 US (Chicago)\n• +1 360 209 5623 US\n• +1 386 347 5053 US\n• +1 507 473 4847 US\n• +1 564 217 2000 US\n• +1 646 558 8656 US (New York)\n• +1 646 931 3860 US \nMeeting ID: 818 7041 3109\nPasscode: 162302 \nFind your local number: https://us06web.zoom.us/u/kdsYia9vsv \n 
URL:https://w5ias.com/event/tarc-monthly-meeting-10/
LOCATION:Keplinger Hall\, Room 3140\, 430 S Gary Pl\, Tulsa\, OK\, 74104\, United States
CATEGORIES:Meeting
END:VEVENT
BEGIN:VEVENT
DTSTART;TZID=America/Chicago:20250916T190000
DTEND;TZID=America/Chicago:20250916T200000
DTSTAMP:20260421T112742
CREATED:20241012T144453Z
LAST-MODIFIED:20251201T133809Z
UID:5658-1758049200-1758052800@w5ias.com
SUMMARY:TARC Monthly Meeting
DESCRIPTION:The TARC meeting will be held at the TU campus at Keplinger Hall in room # 3140 \n  \nTulsa \nTulsa Amateur is inviting you to a scheduled Zoom meeting. \nTopic: TARC Monthly Meeting\nTime: Sep 16\, 2025 07:00 PM Central Time (US and Canada)\nJoin Zoom Meeting\nhttps://us06web.zoom.us/j/87638767366?pwd=vNqiBVPBE6djBnkV3Bjb3DiUX5iSOf.1 \nMeeting ID: 876 3876 7366\nPasscode: 653287 \n— \nOne tap mobile\n+13462487799\,\,87638767366#\,\,\,\,*653287# US (Houston)\n+16694449171\,\,87638767366#\,\,\,\,*653287# US \nJoin instructions
URL:https://w5ias.com/event/tarc-monthly-meeting-9/
LOCATION:Keplinger Hall\, Room 3140\, 430 S Gary Pl\, Tulsa\, OK\, 74104\, United States
CATEGORIES:Meeting
END:VEVENT
BEGIN:VEVENT
DTSTART;TZID=America/Chicago:20250819T180000
DTEND;TZID=America/Chicago:20250819T193000
DTSTAMP:20260421T112742
CREATED:20241012T144453Z
LAST-MODIFIED:20250816T142929Z
UID:5657-1755626400-1755631800@w5ias.com
SUMMARY:TARC Monthly Meeting - ICE CREAM SOCIAL
DESCRIPTION:This month’s meeting will be the ICE CREAM SOCIAL. \n  \nWhere: Chandler Park – 6500 W. 21st St. | Tulsa\, OK 74107 @ Pavilion 1 (at the top of the hill it will be the FIRST building with a fireplace on your left before you hit the end of the road to the turn… look for a lot of cars and antennae’s too….) \n  \nRSVP – Closed but we should have enough for everyone!\n 
URL:https://w5ias.com/event/tarc-monthly-meeting-8/
LOCATION:OK
CATEGORIES:Meeting
END:VEVENT
BEGIN:VEVENT
DTSTART;TZID=America/Chicago:20250715T190000
DTEND;TZID=America/Chicago:20250715T200000
DTSTAMP:20260421T112742
CREATED:20241012T144453Z
LAST-MODIFIED:20250630T134930Z
UID:5656-1752606000-1752609600@w5ias.com
SUMMARY:TARC Monthly Meeting
DESCRIPTION:The TARC meeting will be held at the TU campus at Keplinger Hall in room # 3140 \n  \nZOOM INFO \n  \nJoin Zoom Meeting\nhttps://us06web.zoom.us/j/88453365763?pwd=3rSyy3GqiiPqKDZafeDpOMBOGr49YV.1 \n  \nMeeting ID: 884 5336 5763\nPasscode: 903273 \n  \nTulsa Amateur is inviting you to a scheduled Zoom meeting. \nTopic: TARC Monthly Meeting\nTime: Jul 15\, 2025 07:00 PM Central Time (US and Canada)\nView meeting insights with Zoom AI Companion\nhttps://us06web.zoom.us/launch/edl?muid=77a41fc6-cdb0-4f67-95b8-09c2b734dd74 \n  \n— \nOne tap mobile\n+17207072699\,\,88453365763#\,\,\,\,*903273# US (Denver)\n+12532050468\,\,88453365763#\,\,\,\,*903273# US \n— \nDial by your location\n• +1 720 707 2699 US (Denver)\n• +1 253 205 0468 US\n• +1 253 215 8782 US (Tacoma)\n• +1 346 248 7799 US (Houston)\n• +1 669 444 9171 US\n• +1 719 359 4580 US\n• +1 564 217 2000 US\n• +1 646 558 8656 US (New York)\n• +1 646 931 3860 US\n• +1 689 278 1000 US\n• +1 301 715 8592 US (Washington DC)\n• +1 305 224 1968 US\n• +1 309 205 3325 US\n• +1 312 626 6799 US (Chicago)\n• +1 360 209 5623 US\n• +1 386 347 5053 US\n• +1 507 473 4847 US \nMeeting ID: 884 5336 5763\nPasscode: 903273 \nFind your local number: https://us06web.zoom.us/u/kpufTidGh \n  \n 
URL:https://w5ias.com/event/tarc-monthly-meeting-7/
LOCATION:Keplinger Hall\, Room 3140\, 430 S Gary Pl\, Tulsa\, OK\, 74104\, United States
CATEGORIES:Meeting
END:VEVENT
BEGIN:VEVENT
DTSTART;TZID=America/Chicago:20250708T190000
DTEND;TZID=America/Chicago:20250708T200000
DTSTAMP:20260421T112742
CREATED:20250701T130744Z
LAST-MODIFIED:20250701T130744Z
UID:6784-1752001200-1752004800@w5ias.com
SUMMARY:New Ham Roadmap & Club Orientation (ZOOM)
DESCRIPTION:All hams are welcome and new hams from TARC are highly suggested to attend but we will record this meeting if you can’t make it. Below are just some of the topics and areas we will focus on to help you navigate the hobby and the club. \nTopics\n\nNew Ham Roadmap\nTesting\nWWW\n\nDivisions\nElmers\nRepeaters\nEvents\n\nClub Meeting\nTech Night\n\n\nFB\n\n\nARES\nVolunteering\nYour Input!\n\n  \nTulsa Amateur is inviting you to a scheduled Zoom meeting. \nTopic: New Ham Roadmap & Club Orientation\nTime: Jul 8\, 2025 07:00 PM Central Time (US and Canada)\n****** Join Zoom Meeting ********\nhttps://us06web.zoom.us/j/87328641192?pwd=hWuUN4qdRpXinZs9t3AkTTnnspuqbD.1\nView meeting insights with Zoom AI Companion\nhttps://us06web.zoom.us/launch/edl?muid=357ecb54-59e0-4172-8fe0-a5be376d38ea \nMeeting ID: 873 2864 1192\nPasscode: 336847 \n— \nOne tap mobile\n+12532050468\,\,87328641192#\,\,\,\,*336847# US\n+12532158782\,\,87328641192#\,\,\,\,*336847# US (Tacoma) \n— \nDial by your location\n• +1 253 205 0468 US\n• +1 253 215 8782 US (Tacoma)\n• +1 346 248 7799 US (Houston)\n• +1 669 444 9171 US\n• +1 719 359 4580 US\n• +1 720 707 2699 US (Denver)\n• +1 689 278 1000 US\n• +1 301 715 8592 US (Washington DC)\n• +1 305 224 1968 US\n• +1 309 205 3325 US\n• +1 312 626 6799 US (Chicago)\n• +1 360 209 5623 US\n• +1 386 347 5053 US\n• +1 507 473 4847 US\n• +1 564 217 2000 US\n• +1 646 558 8656 US (New York)\n• +1 646 931 3860 US \nMeeting ID: 873 2864 1192\nPasscode: 336847 \nFind your local number: https://us06web.zoom.us/u/kbVEPStQqR \n 
URL:https://w5ias.com/event/new-ham-roadmap-club-orientation-zoom/
LOCATION:OK
CATEGORIES:Meeting
END:VEVENT
BEGIN:VEVENT
DTSTART;TZID=America/Chicago:20250617T190000
DTEND;TZID=America/Chicago:20250617T200000
DTSTAMP:20260421T112742
CREATED:20241012T144452Z
LAST-MODIFIED:20250603T122559Z
UID:5655-1750186800-1750190400@w5ias.com
SUMMARY:TARC Monthly Meeting
DESCRIPTION:The TARC meeting will be held at the TU campus at Keplinger Hall in room # 3140 \n  \nZOOM INFO \nTulsa Amateur is inviting you to a scheduled Zoom meeting. \nTopic: TARC Monthly Meeting\nTime: Jun 17\, 2025 07:00 PM Central Time (US and Canada)\nJoin Zoom Meeting\nhttps://us06web.zoom.us/j/87812145285?pwd=ZaSOmCobLlWZCfWKYXCsoMbAb1TLcy.1 \nView meeting insights with Zoom AI Companion\nhttps://us06web.zoom.us/launch/edl?muid=95da2a44-5c9d-454b-9c2b-0a5a6d9c992a \nMeeting ID: 878 1214 5285\nPasscode: 493930 \n— \nOne tap mobile\n+16694449171\,\,87812145285#\,\,\,\,*493930# US\n+17193594580\,\,87812145285#\,\,\,\,*493930# US \n— \nDial by your location\n• +1 669 444 9171 US\n• +1 719 359 4580 US\n• +1 720 707 2699 US (Denver)\n• +1 253 205 0468 US\n• +1 253 215 8782 US (Tacoma)\n• +1 346 248 7799 US (Houston)\n• +1 360 209 5623 US\n• +1 386 347 5053 US\n• +1 507 473 4847 US\n• +1 564 217 2000 US\n• +1 646 558 8656 US (New York)\n• +1 646 931 3860 US\n• +1 689 278 1000 US\n• +1 301 715 8592 US (Washington DC)\n• +1 305 224 1968 US\n• +1 309 205 3325 US\n• +1 312 626 6799 US (Chicago) \nMeeting ID: 878 1214 5285\nPasscode: 493930 \nFind your local number: https://us06web.zoom.us/u/kpaofpOkb \n 
URL:https://w5ias.com/event/tarc-monthly-meeting-6/
LOCATION:Keplinger Hall\, Room 3140\, 430 S Gary Pl\, Tulsa\, OK\, 74104\, United States
CATEGORIES:Meeting
END:VEVENT
BEGIN:VEVENT
DTSTART;TZID=America/Chicago:20250520T190000
DTEND;TZID=America/Chicago:20250520T200000
DTSTAMP:20260421T112742
CREATED:20241012T144450Z
LAST-MODIFIED:20250520T232835Z
UID:5654-1747767600-1747771200@w5ias.com
SUMMARY:TARC Monthly Meeting
DESCRIPTION:The TARC meeting will be held at the TU campus at Keplinger Hall in room # 3140 \n  \nTulsa Amateur is inviting you to a scheduled Zoom meeting. \nTopic: TARC Monthly Meeting – May\nTime: May 20\, 2025 07:00 PM Central Time (US and Canada)\nJoin Zoom Meeting\nhttps://us06web.zoom.us/j/87913104836?pwd=Oby0mplNlaPwduUK18f8yy2LWYBgaa.1 \nMeeting ID: 879 1310 4836\nPasscode: 564704 \n— \nOne tap mobile\n+17193594580\,\,87913104836#\,\,\,\,*564704# US\n+17207072699\,\,87913104836#\,\,\,\,*564704# US (Denver) \n— \nDial by your location\n• +1 719 359 4580 US\n• +1 720 707 2699 US (Denver)\n• +1 253 205 0468 US\n• +1 253 215 8782 US (Tacoma)\n• +1 346 248 7799 US (Houston)\n• +1 669 444 9171 US\n• +1 360 209 5623 US\n• +1 386 347 5053 US\n• +1 507 473 4847 US\n• +1 564 217 2000 US\n• +1 646 558 8656 US (New York)\n• +1 646 931 3860 US\n• +1 689 278 1000 US\n• +1 301 715 8592 US (Washington DC)\n• +1 305 224 1968 US\n• +1 309 205 3325 US\n• +1 312 626 6799 US (Chicago) \nMeeting ID: 879 1310 4836\nPasscode: 564704 \nFind your local number: https://us06web.zoom.us/u/kcXvUjIQD4 \n 
URL:https://w5ias.com/event/tarc-monthly-meeting-5/
LOCATION:Keplinger Hall\, Room 3140\, 430 S Gary Pl\, Tulsa\, OK\, 74104\, United States
CATEGORIES:Meeting
END:VEVENT
BEGIN:VEVENT
DTSTART;TZID=America/Chicago:20250415T190000
DTEND;TZID=America/Chicago:20250415T200000
DTSTAMP:20260421T112742
CREATED:20241012T144450Z
LAST-MODIFIED:20250415T103953Z
UID:5653-1744743600-1744747200@w5ias.com
SUMMARY:TARC Monthly Meeting
DESCRIPTION:The TARC meeting will be held at the TU campus at Keplinger Hall in room # 3140 \n  \nZOOM \nTulsa Amateur is inviting you to a scheduled Zoom meeting. \nTopic: TARC Monthly Meeting – April\nTime: Apr 15\, 2025 07:00 PM Central Time (US and Canada)\nJoin Zoom Meeting\nhttps://us06web.zoom.us/j/86886392510?pwd=B8cA7uatKbI3Uw29ajeYWOdTZYwQEk.1 \nMeeting ID: 868 8639 2510\nPasscode: 626263 \n— \nOne tap mobile\n+17193594580\,\,86886392510#\,\,\,\,*626263# US\n+17207072699\,\,86886392510#\,\,\,\,*626263# US (Denver) \n— \nDial by your location\n• +1 719 359 4580 US\n• +1 720 707 2699 US (Denver)\n• +1 253 205 0468 US\n• +1 253 215 8782 US (Tacoma)\n• +1 346 248 7799 US (Houston)\n• +1 669 444 9171 US\n• +1 507 473 4847 US\n• +1 564 217 2000 US\n• +1 646 558 8656 US (New York)\n• +1 646 931 3860 US\n• +1 689 278 1000 US\n• +1 301 715 8592 US (Washington DC)\n• +1 305 224 1968 US\n• +1 309 205 3325 US\n• +1 312 626 6799 US (Chicago)\n• +1 360 209 5623 US\n• +1 386 347 5053 US \nMeeting ID: 868 8639 2510\nPasscode: 626263 \nFind your local number: https://us06web.zoom.us/u/knroKLeBD \n 
URL:https://w5ias.com/event/tarc-monthly-meeting-4/
LOCATION:Keplinger Hall\, Room 3140\, 430 S Gary Pl\, Tulsa\, OK\, 74104\, United States
CATEGORIES:Meeting
END:VEVENT
BEGIN:VEVENT
DTSTART;TZID=America/Chicago:20250318T190000
DTEND;TZID=America/Chicago:20250318T200000
DTSTAMP:20260421T112742
CREATED:20241012T144450Z
LAST-MODIFIED:20241012T144450Z
UID:5652-1742324400-1742328000@w5ias.com
SUMMARY:TARC Monthly Meeting
DESCRIPTION:The TARC meeting will be held at the TU campus at Keplinger Hall in room # 3140
URL:https://w5ias.com/event/tarc-monthly-meeting-3/
LOCATION:Keplinger Hall\, Room 3140\, 430 S Gary Pl\, Tulsa\, OK\, 74104\, United States
CATEGORIES:Meeting
END:VEVENT
BEGIN:VEVENT
DTSTART;TZID=America/Chicago:20250218T190000
DTEND;TZID=America/Chicago:20250218T200000
DTSTAMP:20260421T112742
CREATED:20241012T144449Z
LAST-MODIFIED:20250217T010005Z
UID:5651-1739905200-1739908800@w5ias.com
SUMMARY:TARC Monthly Meeting - CANCELLED
DESCRIPTION:Due to weather this meeting has been cancelled.
URL:https://w5ias.com/event/tarc-monthly-meeting-2/
LOCATION:Keplinger Hall\, Room 3140\, 430 S Gary Pl\, Tulsa\, OK\, 74104\, United States
CATEGORIES:Meeting
END:VEVENT
BEGIN:VEVENT
DTSTART;TZID=America/Chicago:20250121T190000
DTEND;TZID=America/Chicago:20250121T200000
DTSTAMP:20260421T112742
CREATED:20241012T144449Z
LAST-MODIFIED:20241012T144449Z
UID:5650-1737486000-1737489600@w5ias.com
SUMMARY:TARC Monthly Meeting
DESCRIPTION:The TARC meeting will be held at the TU campus at Keplinger Hall in room # 3140
URL:https://w5ias.com/event/tarc-monthly-meeting/
LOCATION:Keplinger Hall\, Room 3140\, 430 S Gary Pl\, Tulsa\, OK\, 74104\, United States
CATEGORIES:Meeting
END:VEVENT
BEGIN:VEVENT
DTSTART;TZID=America/Chicago:20241015T190000
DTEND;TZID=America/Chicago:20241015T200000
DTSTAMP:20260421T112742
CREATED:20241011T111010Z
LAST-MODIFIED:20241011T111136Z
UID:5588-1729018800-1729022400@w5ias.com
SUMMARY:TARC Monthly Meeting - October
DESCRIPTION:This TARC meeting will be held at the TU campus at Keplinger Hall in room # 3140 \nTalk in is the 145.110 repeater. \nShare your ham radio experience with us.  Win\, lose or draw we want to know what you’ve been up to.  Sign up for Member Spotlight today! \nMember Spotlight selects members who have explored their hobby.  We will have a short show and tell with questions from Ky Vargas KY5VAR and the audience.  You do not need a formal presentation or PowerPoint to share your story.  We want to celebrate your successes and commiserate your failures.  If you are willing to share your short Ham Radio story with your fellow members\, call or text Ky Vargas at 918-760-6568 to get on the schedule. \n  \nDon’t forget to purchase your 100th Anniversary coffee mugs\, shirts\, etc.
URL:https://w5ias.com/event/tarc-monthly-meeting-october/
LOCATION:Keplinger Hall\, Room 3140\, 430 S Gary Pl\, Tulsa\, OK\, 74104\, United States
CATEGORIES:Meeting,TARC
END:VEVENT
BEGIN:VEVENT
DTSTART;TZID=America/Chicago:20240917T190000
DTEND;TZID=America/Chicago:20240917T200000
DTSTAMP:20260421T112742
CREATED:20241011T111644Z
LAST-MODIFIED:20241011T111644Z
UID:5594-1726599600-1726603200@w5ias.com
SUMMARY:TARC Monthly Meeting - September
DESCRIPTION:This TARC meeting will be held at the TU campus at Keplinger Hall in room # 3140 \nTalk in is the 145.110 repeater. \nAt this meeting we will wrap up Route 66! \nMember Spotlight selects members who have explored their hobby.  We will have a short show and tell with questions from Ky Vargas KY5VAR and the audience.  You do not need a formal presentation or PowerPoint to share your story.  We want to celebrate your successes and commiserate your failures.  If you are willing to share your short Ham Radio story with your fellow members\, call or text Ky Vargas at 918-760-6568 to get on the schedule. \n  \nDon’t forget to purchase your 100th Anniversary coffee mugs\, shirts\, etc.
URL:https://w5ias.com/event/tarc-monthly-meeting-september/
LOCATION:Keplinger Hall\, Room 3140\, 430 S Gary Pl\, Tulsa\, OK\, 74104\, United States
CATEGORIES:Meeting
END:VEVENT
BEGIN:VEVENT
DTSTART;TZID=America/Chicago:20240820T190000
DTEND;TZID=America/Chicago:20240820T200000
DTSTAMP:20260421T112742
CREATED:20241011T111727Z
LAST-MODIFIED:20241011T111727Z
UID:5596-1724180400-1724184000@w5ias.com
SUMMARY:TARC Monthly Meeting - August
DESCRIPTION:The August TARC meeting will be our annual Ice Cream Social at a nearby park! \nTalk in is the 145.110 repeater. \nMember Spotlight selects members who have explored their hobby.  We will have a short show and tell with questions from Ky Vargas KY5VAR and the audience.  You do not need a formal presentation or PowerPoint to share your story.  We want to celebrate your successes and commiserate your failures.  If you are willing to share your short Ham Radio story with your fellow members\, call or text Ky Vargas at 918-760-6568 to get on the schedule. \n  \nDon’t forget to purchase your 100th Anniversary coffee mugs\, shirts\, etc.
URL:https://w5ias.com/event/tarc-monthly-meeting-august/
LOCATION:Keplinger Hall\, Room 3140\, 430 S Gary Pl\, Tulsa\, OK\, 74104\, United States
CATEGORIES:Meeting
END:VEVENT
BEGIN:VEVENT
DTSTART;TZID=America/Chicago:20240716T190000
DTEND;TZID=America/Chicago:20240716T200000
DTSTAMP:20260421T112742
CREATED:20241011T111805Z
LAST-MODIFIED:20241011T111805Z
UID:5598-1721156400-1721160000@w5ias.com
SUMMARY:TARC Monthly Meeting - July
DESCRIPTION:The July TARC meeting will be held at the TU campus at Keplinger Hall in room # 3140 \nTalk in is the 145.110 repeater. \nLooking to Spotlight one of our members for this monthly meeting.  If you are excited about your hobby\, share it with us! \nMember Spotlight selects members who have explored their hobby.  We will have a short show and tell with questions from Ky Vargas KY5VAR and the audience.  You do not need a formal presentation or PowerPoint to share your story.  We want to celebrate your successes and commiserate your failures.  If you are willing to share your short Ham Radio story with your fellow members\, call or text Ky Vargas at 918-760-6568 to get on the schedule. \n  \nDon’t forget to purchase your 100th Anniversary coffee mugs\, shirts\, etc.
URL:https://w5ias.com/event/tarc-monthly-meeting-july/
LOCATION:Keplinger Hall\, Room 3140\, 430 S Gary Pl\, Tulsa\, OK\, 74104\, United States
CATEGORIES:Meeting
END:VEVENT
BEGIN:VEVENT
DTSTART;TZID=America/Chicago:20240618T190000
DTEND;TZID=America/Chicago:20240618T200000
DTSTAMP:20260421T112742
CREATED:20241012T142541Z
LAST-MODIFIED:20241012T142541Z
UID:5638-1718737200-1718740800@w5ias.com
SUMMARY:TARC Monthly Meeting - June
DESCRIPTION:The June TARC meeting will be held at the TU campus at Keplinger Hall in room # 3140 \nTalk in is the 145.110 repeater. \nWe will be discussing Field Day planning at this meeting. \nMember Spotlight selects members who have explored their hobby.  We will have a short show and tell with questions from Ky Vargas KY5VAR and the audience.  You do not need a formal presentation or PowerPoint to share your story.  We want to celebrate your successes and commiserate your failures.  If you are willing to share your short Ham Radio story with your fellow members\, call or text Ky Vargas at 918-760-6568 to get on the schedule. \n  \nDon’t forget to purchase your 100th Anniversary coffee mugs\, shirts\, etc.
URL:https://w5ias.com/event/tarc-monthly-meeting-june/
LOCATION:OK
CATEGORIES:Meeting
END:VEVENT
BEGIN:VEVENT
DTSTART;TZID=America/Chicago:20240521T190000
DTEND;TZID=America/Chicago:20240521T200000
DTSTAMP:20260421T112742
CREATED:20241012T142645Z
LAST-MODIFIED:20241012T142645Z
UID:5640-1716318000-1716321600@w5ias.com
SUMMARY:TARC Monthly Meeting - May
DESCRIPTION:The May TARC meeting will be held at the TU campus at Keplinger Hall in room # 3140 \nTalk in is the 145.110 repeater. \nWe will be discussing Field Day planning at this meeting. \nMember Spotlight selects members who have explored their hobby.  We will have a short show and tell with questions from Ky Vargas KY5VAR and the audience.  You do not need a formal presentation or PowerPoint to share your story.  We want to celebrate your successes and commiserate your failures.  If you are willing to share your short Ham Radio story with your fellow members\, call or text Ky Vargas at 918-760-6568 to get on the schedule. \n  \nDon’t forget to purchase your 100th Anniversary coffee mugs\, shirts\, etc.
URL:https://w5ias.com/event/tarc-monthly-meeting-may/
LOCATION:OK
CATEGORIES:Meeting
END:VEVENT
BEGIN:VEVENT
DTSTART;TZID=America/Chicago:20240416T190000
DTEND;TZID=America/Chicago:20240416T200000
DTSTAMP:20260421T112742
CREATED:20241012T142808Z
LAST-MODIFIED:20241012T142808Z
UID:5644-1713294000-1713297600@w5ias.com
SUMMARY:TARC Monthly Meeting - April
DESCRIPTION:The April TARC meeting will be held at the TU campus at Keplinger Hall in room # 3140 \nTalk in is the 145.110 repeater. \nWe will be discussing bike rides\, etc. preparations. \nMember Spotlight selects members who have explored their hobby.  We will have a short show and tell with questions from Ky Vargas KY5VAR and the audience.  You do not need a formal presentation or PowerPoint to share your story.  We want to celebrate your successes and commiserate your failures.  If you are willing to share your short Ham Radio story with your fellow members\, call or text Ky Vargas at 918-760-6568 to get on the schedule. \nDon’t forget to purchase your 100th Anniversary coffee mugs\, shirts\, etc.
URL:https://w5ias.com/event/tarc-monthly-meeting-april/
LOCATION:OK
CATEGORIES:Meeting
END:VEVENT
BEGIN:VEVENT
DTSTART;TZID=America/Chicago:20240319T190000
DTEND;TZID=America/Chicago:20240319T200000
DTSTAMP:20260421T112742
CREATED:20241012T142729Z
LAST-MODIFIED:20241012T142729Z
UID:5642-1710874800-1710878400@w5ias.com
SUMMARY:TARC Monthly Meeting - March
DESCRIPTION:The March TARC meeting will be held at the TU campus at Keplinger Hall in room # 3140 \nTalk in is the 145.110 repeater. \n  \nMember Spotlight selects members who have explored their hobby.  We will have a short show and tell with questions from Ky Vargas KY5VAR and the audience.  You do not need a formal presentation or PowerPoint to share your story.  We want to celebrate your successes and commiserate your failures.  If you are willing to share your short Ham Radio story with your fellow members\, call or text Ky Vargas at 918-760-6568 to get on the schedule. \nThis month Andrew Shead will share his radio kit prowess and demonstrate his (tr)uSDX radio.   A link to the manual is here:  \nDon’t forget to purchase your 100th Anniversary coffee mugs\, shirts\, etc.
URL:https://w5ias.com/event/tarc-monthly-meeting-march/
LOCATION:OK
CATEGORIES:Meeting
END:VEVENT
END:VCALENDAR