BEGIN:VCALENDAR
VERSION:2.0
PRODID:-//W 5 I A S - ECPv6.15.20//NONSGML v1.0//EN
CALSCALE:GREGORIAN
METHOD:PUBLISH
X-ORIGINAL-URL:https://w5ias.com
X-WR-CALDESC:Events for W 5 I A S
REFRESH-INTERVAL;VALUE=DURATION:PT1H
X-Robots-Tag:noindex
X-PUBLISHED-TTL:PT1H
BEGIN:VTIMEZONE
TZID:America/Chicago
BEGIN:DAYLIGHT
TZOFFSETFROM:-0600
TZOFFSETTO:-0500
TZNAME:CDT
DTSTART:20250309T080000
END:DAYLIGHT
BEGIN:STANDARD
TZOFFSETFROM:-0500
TZOFFSETTO:-0600
TZNAME:CST
DTSTART:20251102T070000
END:STANDARD
BEGIN:DAYLIGHT
TZOFFSETFROM:-0600
TZOFFSETTO:-0500
TZNAME:CDT
DTSTART:20260308T080000
END:DAYLIGHT
BEGIN:STANDARD
TZOFFSETFROM:-0500
TZOFFSETTO:-0600
TZNAME:CST
DTSTART:20261101T070000
END:STANDARD
BEGIN:DAYLIGHT
TZOFFSETFROM:-0600
TZOFFSETTO:-0500
TZNAME:CDT
DTSTART:20270314T080000
END:DAYLIGHT
BEGIN:STANDARD
TZOFFSETFROM:-0500
TZOFFSETTO:-0600
TZNAME:CST
DTSTART:20271107T070000
END:STANDARD
END:VTIMEZONE
BEGIN:VEVENT
DTSTART;TZID=America/Chicago:20260317T180000
DTEND;TZID=America/Chicago:20260317T200000
DTSTAMP:20260421T145755
CREATED:20260105T124129Z
LAST-MODIFIED:20260222T162905Z
UID:7647-1773770400-1773777600@w5ias.com
SUMMARY:TARC Monthly Meeting
DESCRIPTION:Due to the Storm Spotter Training for Tulsa we will be skipping our normal meeting for this meeting.
URL:https://w5ias.com/event/tarc-monthly-meeting-14/
LOCATION:Centennial Center in Veterans Park\, 1028 E 6th St\, Tulsa\, OK\, 74120\, United States
CATEGORIES:Meeting
END:VEVENT
END:VCALENDAR