BEGIN:VCALENDAR
VERSION:2.0
PRODID:-//W 5 I A S - ECPv6.15.20//NONSGML v1.0//EN
CALSCALE:GREGORIAN
METHOD:PUBLISH
X-ORIGINAL-URL:https://w5ias.com
X-WR-CALDESC:Events for W 5 I A S
REFRESH-INTERVAL;VALUE=DURATION:PT1H
X-Robots-Tag:noindex
X-PUBLISHED-TTL:PT1H
BEGIN:VTIMEZONE
TZID:America/Chicago
BEGIN:DAYLIGHT
TZOFFSETFROM:-0600
TZOFFSETTO:-0500
TZNAME:CDT
DTSTART:20240310T080000
END:DAYLIGHT
BEGIN:STANDARD
TZOFFSETFROM:-0500
TZOFFSETTO:-0600
TZNAME:CST
DTSTART:20241103T070000
END:STANDARD
BEGIN:DAYLIGHT
TZOFFSETFROM:-0600
TZOFFSETTO:-0500
TZNAME:CDT
DTSTART:20250309T080000
END:DAYLIGHT
BEGIN:STANDARD
TZOFFSETFROM:-0500
TZOFFSETTO:-0600
TZNAME:CST
DTSTART:20251102T070000
END:STANDARD
BEGIN:DAYLIGHT
TZOFFSETFROM:-0600
TZOFFSETTO:-0500
TZNAME:CDT
DTSTART:20260308T080000
END:DAYLIGHT
BEGIN:STANDARD
TZOFFSETFROM:-0500
TZOFFSETTO:-0600
TZNAME:CST
DTSTART:20261101T070000
END:STANDARD
END:VTIMEZONE
BEGIN:VEVENT
DTSTART;TZID=America/Chicago:20250809T090000
DTEND;TZID=America/Chicago:20250809T110000
DTSTAMP:20260421T213137
CREATED:20250124T145547Z
LAST-MODIFIED:20250124T145552Z
UID:6032-1754730000-1754737200@w5ias.com
SUMMARY:Ham Testing - Evergreen Communications Group
DESCRIPTION:Walkins welcome until 1000. Office buildings east of the main building- west entrance\nALWAYS MAKE CONTACT WITH ORGANIZER TO MAKE SURE TESTING IS STILL SCHEDULED!
URL:https://w5ias.com/event/ham-testing-evergreen-communications-group-4/
LOCATION:Evergreen Church\, 10301 E 111th\, Bixby\, OK\, 74008\, United States
CATEGORIES:Testing
ORGANIZER;CN="Sam Blackburn":MAILTO:samblackburn1705@gmail.com
END:VEVENT
BEGIN:VEVENT
DTSTART;TZID=America/Chicago:20250809T093000
DTEND;TZID=America/Chicago:20250809T103000
DTSTAMP:20260421T213137
CREATED:20250206T221044Z
LAST-MODIFIED:20250206T221044Z
UID:6126-1754731800-1754735400@w5ias.com
SUMMARY:Ham Testing
DESCRIPTION:Second Saturday of even months except for April due to Green Country Hamfest\nALWAYS MAKE CONTACT WITH ORGANIZER TO MAKE SURE TESTING IS STILL SCHEDULED!
URL:https://w5ias.com/event/ham-testing-13/
LOCATION:Broken Arrow Public Service Complex\, 1101 N 6th St\, Broken Arrow\, OK\, 74012\, United States
CATEGORIES:Testing
ORGANIZER;CN="Donald Doyle AC5II":MAILTO:ac5ii@arrl.net
END:VEVENT
END:VCALENDAR