BEGIN:VCALENDAR
VERSION:2.0
PRODID:-//W 5 I A S - ECPv6.15.20//NONSGML v1.0//EN
CALSCALE:GREGORIAN
METHOD:PUBLISH
X-WR-CALNAME:W 5 I A S
X-ORIGINAL-URL:https://w5ias.com
X-WR-CALDESC:Events for W 5 I A S
REFRESH-INTERVAL;VALUE=DURATION:PT1H
X-Robots-Tag:noindex
X-PUBLISHED-TTL:PT1H
BEGIN:VTIMEZONE
TZID:America/Chicago
BEGIN:DAYLIGHT
TZOFFSETFROM:-0600
TZOFFSETTO:-0500
TZNAME:CDT
DTSTART:20240310T080000
END:DAYLIGHT
BEGIN:STANDARD
TZOFFSETFROM:-0500
TZOFFSETTO:-0600
TZNAME:CST
DTSTART:20241103T070000
END:STANDARD
BEGIN:DAYLIGHT
TZOFFSETFROM:-0600
TZOFFSETTO:-0500
TZNAME:CDT
DTSTART:20250309T080000
END:DAYLIGHT
BEGIN:STANDARD
TZOFFSETFROM:-0500
TZOFFSETTO:-0600
TZNAME:CST
DTSTART:20251102T070000
END:STANDARD
BEGIN:DAYLIGHT
TZOFFSETFROM:-0600
TZOFFSETTO:-0500
TZNAME:CDT
DTSTART:20260308T080000
END:DAYLIGHT
BEGIN:STANDARD
TZOFFSETFROM:-0500
TZOFFSETTO:-0600
TZNAME:CST
DTSTART:20261101T070000
END:STANDARD
END:VTIMEZONE
BEGIN:VEVENT
DTSTART;TZID=America/Chicago:20251004T090000
DTEND;TZID=America/Chicago:20251004T110000
DTSTAMP:20260421T172953
CREATED:20250124T145600Z
LAST-MODIFIED:20250124T145600Z
UID:6038-1759568400-1759575600@w5ias.com
SUMMARY:Ham Testing - Evergreen Communications Group
DESCRIPTION:Walkins welcome until 1000. Office buildings east of the main building- west entrance\nALWAYS MAKE CONTACT WITH ORGANIZER TO MAKE SURE TESTING IS STILL SCHEDULED!
URL:https://w5ias.com/event/ham-testing-evergreen-communications-group-5/
LOCATION:Evergreen Church\, 10301 E 111th\, Bixby\, OK\, 74008\, United States
CATEGORIES:Testing
ORGANIZER;CN="Sam Blackburn":MAILTO:samblackburn1705@gmail.com
END:VEVENT
BEGIN:VEVENT
DTSTART;TZID=America/Chicago:20251011T093000
DTEND;TZID=America/Chicago:20251011T103000
DTSTAMP:20260421T172953
CREATED:20250206T221044Z
LAST-MODIFIED:20250206T221044Z
UID:6127-1760175000-1760178600@w5ias.com
SUMMARY:Ham Testing
DESCRIPTION:Second Saturday of even months except for April due to Green Country Hamfest\nALWAYS MAKE CONTACT WITH ORGANIZER TO MAKE SURE TESTING IS STILL SCHEDULED!
URL:https://w5ias.com/event/ham-testing-14/
LOCATION:Broken Arrow Public Service Complex\, 1101 N 6th St\, Broken Arrow\, OK\, 74012\, United States
CATEGORIES:Testing
ORGANIZER;CN="Donald Doyle AC5II":MAILTO:ac5ii@arrl.net
END:VEVENT
BEGIN:VEVENT
DTSTART;TZID=America/Chicago:20251018T100000
DTEND;TZID=America/Chicago:20251018T110000
DTSTAMP:20260421T172953
CREATED:20250321T141528Z
LAST-MODIFIED:20251023T043137Z
UID:6396-1760781600-1760785200@w5ias.com
SUMMARY:TARC Ham Testing
DESCRIPTION:The Tulsa Amateur Radio Club will be hosting an ARRL amateur radio license exam session at The University of Tulsa in Keplinger Hall – Room 3140 @ 10AM. We test all levels (Technician\, General\, and Amateur Extra). You must take the exams in order. \nIf you would like\, please sign up at the form below. (not required\, walk-ins are always welcome!) \nPlease click here to read the ARRL “what to bring to an exam session” before you sign up. \nClick here if you do not already have an FCC FRN number. (first register for a username and then register for your FRN #). \nFull instructions on getting your FRN number are provided here.  \nPlease bring cash to the exam session. ($15 for those over 18 and $5 for those under 18) \nPlease enable JavaScript in your browser to complete this form.Date of exam session I would like to sign up for: *TARC is no longer offering VE testing. Thank you to those who tested with us in the past.Name *FirstLastCall Sign (amateur radio call signs only)If you do not have one\, just type "NONE".Mobile Phone Number *Just in case we need to call you.Email *Exam(s) you would like to take: *TechnicianGeneralAmateur ExtraI read the ARRL "what to bring to an exam session" page linked above: *YesI have an FCC FRN Number: *YesThis is required to take the amateur radio license exam. (Social security numbers are no longer accepted\, link is above)Comments/Questions/ConcernsSubmit
URL:https://w5ias.com/event/tarc-ham-testing-4/
LOCATION:Keplinger Hall\, Room 3140\, 430 S Gary Pl\, Tulsa\, OK\, 74104\, United States
CATEGORIES:Testing
ORGANIZER;CN="David Kennedy N5DMK":MAILTO:n5dmk@att.net
END:VEVENT
BEGIN:VEVENT
DTSTART;TZID=America/Chicago:20251021T190000
DTEND;TZID=America/Chicago:20251021T200000
DTSTAMP:20260421T172953
CREATED:20241012T144454Z
LAST-MODIFIED:20250804T121716Z
UID:5659-1761073200-1761076800@w5ias.com
SUMMARY:TARC Monthly Meeting
DESCRIPTION:The TARC meeting will be held at the TU campus at Keplinger Hall in room # 3140 \n  \nTulsa Amateur is inviting you to a scheduled Zoom meeting. \nTopic: TARC Monthly Meeting\nTime: Oct 21\, 2025 07:00 PM Central Time (US and Canada)\nJoin Zoom Meeting\nhttps://us06web.zoom.us/j/81870413109?pwd=32Nn8vJhGJ1kZ1iZa9Kzn1uaSAwumh.1 \nMeeting ID: 818 7041 3109\nPasscode: 162302 \n— \nOne tap mobile\n+16694449171\,\,81870413109#\,\,\,\,*162302# US\n+17193594580\,\,81870413109#\,\,\,\,*162302# US \n— \nDial by your location\n• +1 669 444 9171 US\n• +1 719 359 4580 US\n• +1 720 707 2699 US (Denver)\n• +1 253 205 0468 US\n• +1 253 215 8782 US (Tacoma)\n• +1 346 248 7799 US (Houston)\n• +1 689 278 1000 US\n• +1 301 715 8592 US (Washington DC)\n• +1 305 224 1968 US\n• +1 309 205 3325 US\n• +1 312 626 6799 US (Chicago)\n• +1 360 209 5623 US\n• +1 386 347 5053 US\n• +1 507 473 4847 US\n• +1 564 217 2000 US\n• +1 646 558 8656 US (New York)\n• +1 646 931 3860 US \nMeeting ID: 818 7041 3109\nPasscode: 162302 \nFind your local number: https://us06web.zoom.us/u/kdsYia9vsv \n 
URL:https://w5ias.com/event/tarc-monthly-meeting-10/
LOCATION:Keplinger Hall\, Room 3140\, 430 S Gary Pl\, Tulsa\, OK\, 74104\, United States
CATEGORIES:Meeting
END:VEVENT
END:VCALENDAR