BEGIN:VCALENDAR
VERSION:2.0
PRODID:-//W 5 I A S - ECPv6.15.20//NONSGML v1.0//EN
CALSCALE:GREGORIAN
METHOD:PUBLISH
X-WR-CALNAME:W 5 I A S
X-ORIGINAL-URL:https://w5ias.com
X-WR-CALDESC:Events for W 5 I A S
REFRESH-INTERVAL;VALUE=DURATION:PT1H
X-Robots-Tag:noindex
X-PUBLISHED-TTL:PT1H
BEGIN:VTIMEZONE
TZID:America/Chicago
BEGIN:DAYLIGHT
TZOFFSETFROM:-0600
TZOFFSETTO:-0500
TZNAME:CDT
DTSTART:20240310T080000
END:DAYLIGHT
BEGIN:STANDARD
TZOFFSETFROM:-0500
TZOFFSETTO:-0600
TZNAME:CST
DTSTART:20241103T070000
END:STANDARD
BEGIN:DAYLIGHT
TZOFFSETFROM:-0600
TZOFFSETTO:-0500
TZNAME:CDT
DTSTART:20250309T080000
END:DAYLIGHT
BEGIN:STANDARD
TZOFFSETFROM:-0500
TZOFFSETTO:-0600
TZNAME:CST
DTSTART:20251102T070000
END:STANDARD
BEGIN:DAYLIGHT
TZOFFSETFROM:-0600
TZOFFSETTO:-0500
TZNAME:CDT
DTSTART:20260308T080000
END:DAYLIGHT
BEGIN:STANDARD
TZOFFSETFROM:-0500
TZOFFSETTO:-0600
TZNAME:CST
DTSTART:20261101T070000
END:STANDARD
END:VTIMEZONE
BEGIN:VEVENT
DTSTART;TZID=America/Chicago:20250906T090000
DTEND;TZID=America/Chicago:20250906T110000
DTSTAMP:20260421T185051
CREATED:20250124T150455Z
LAST-MODIFIED:20250124T150704Z
UID:6043-1757149200-1757156400@w5ias.com
SUMMARY:Ham Testing
DESCRIPTION:Ham Testing\nALWAYS MAKE CONTACT WITH ORGANIZER TO MAKE SURE TESTING IS STILL SCHEDULED!
URL:https://w5ias.com/event/ham-testing-9/
LOCATION:Broken Arrow Public Service Complex\, 1101 N 6th St\, Broken Arrow\, OK\, 74012\, United States
CATEGORIES:Testing
ORGANIZER;CN="Loyd Beeson AE5MM":MAILTO:ae5mm@arrl.net
END:VEVENT
BEGIN:VEVENT
DTSTART;TZID=America/Chicago:20250906T090000
DTEND;TZID=America/Chicago:20250906T170000
DTSTAMP:20260421T185051
CREATED:20250821T001619Z
LAST-MODIFIED:20250821T001619Z
UID:7195-1757149200-1757178000@w5ias.com
SUMMARY:TARC & RCWA Route 66 Event
DESCRIPTION:More to come but join us in a joint effort to operate as W6L ! \n  \nRoute 66 on the Air 2025
URL:https://w5ias.com/event/tarc-rcwa-route-66-event/
LOCATION:Claremore Expo – Rogers County Building\, 416 S Brady St\, Claremore\, OK\, 74017\, United States
CATEGORIES:TARC
END:VEVENT
BEGIN:VEVENT
DTSTART;TZID=America/Chicago:20250913T090000
DTEND;TZID=America/Chicago:20250913T170000
DTSTAMP:20260421T185051
CREATED:20250821T001735Z
LAST-MODIFIED:20250821T001735Z
UID:7197-1757754000-1757782800@w5ias.com
SUMMARY:TARC & RCWA Route 66 Event
DESCRIPTION:More info to follow on location\, but come join us as we team up with RCWA to operate as W6L \n  \nRoute 66 on the Air 2025
URL:https://w5ias.com/event/tarc-rcwa-route-66-event-2/
LOCATION:OK
CATEGORIES:TARC
END:VEVENT
BEGIN:VEVENT
DTSTART;TZID=America/Chicago:20250916T190000
DTEND;TZID=America/Chicago:20250916T200000
DTSTAMP:20260421T185051
CREATED:20241012T144453Z
LAST-MODIFIED:20251201T133809Z
UID:5658-1758049200-1758052800@w5ias.com
SUMMARY:TARC Monthly Meeting
DESCRIPTION:The TARC meeting will be held at the TU campus at Keplinger Hall in room # 3140 \n  \nTulsa \nTulsa Amateur is inviting you to a scheduled Zoom meeting. \nTopic: TARC Monthly Meeting\nTime: Sep 16\, 2025 07:00 PM Central Time (US and Canada)\nJoin Zoom Meeting\nhttps://us06web.zoom.us/j/87638767366?pwd=vNqiBVPBE6djBnkV3Bjb3DiUX5iSOf.1 \nMeeting ID: 876 3876 7366\nPasscode: 653287 \n— \nOne tap mobile\n+13462487799\,\,87638767366#\,\,\,\,*653287# US (Houston)\n+16694449171\,\,87638767366#\,\,\,\,*653287# US \nJoin instructions
URL:https://w5ias.com/event/tarc-monthly-meeting-9/
LOCATION:Keplinger Hall\, Room 3140\, 430 S Gary Pl\, Tulsa\, OK\, 74104\, United States
CATEGORIES:Meeting
END:VEVENT
BEGIN:VEVENT
DTSTART;TZID=America/Chicago:20250918T190000
DTEND;TZID=America/Chicago:20250918T200000
DTSTAMP:20260421T185051
CREATED:20250124T145542Z
LAST-MODIFIED:20250124T145542Z
UID:6027-1758222000-1758225600@w5ias.com
SUMMARY:Ham Testing
DESCRIPTION:Third Thursday of Odd Months – Testing\nALWAYS MAKE CONTACT WITH ORGANIZER TO MAKE SURE TESTING IS STILL SCHEDULED!
URL:https://w5ias.com/event/ham-testing-5/
LOCATION:American Red Cross\, 10151 E 11th ST\, Tulsa\, OK\, 74128\, United States
CATEGORIES:Testing
ORGANIZER;CN="Merlin Griffin WB5OSM":MAILTO:wb5osm@hotmail.com
END:VEVENT
BEGIN:VEVENT
DTSTART;TZID=America/Chicago:20250920T093000
DTEND;TZID=America/Chicago:20250920T160000
DTSTAMP:20260421T185051
CREATED:20250821T002136Z
LAST-MODIFIED:20260120T181841Z
UID:7199-1758360600-1758384000@w5ias.com
SUMMARY:TinkerFest
DESCRIPTION:More info to follow\, but we will be out showing people what we do! \n  \nhttps://www.discoverylab.org/special-programs
URL:https://w5ias.com/event/tinkerfest/
LOCATION:OK
CATEGORIES:TARC
END:VEVENT
BEGIN:VEVENT
DTSTART;TZID=America/Chicago:20250927T080000
DTEND;TZID=America/Chicago:20250927T170000
DTSTAMP:20260421T185051
CREATED:20250716T133212Z
LAST-MODIFIED:20250825T191838Z
UID:6867-1758960000-1758992400@w5ias.com
SUMMARY:BSA Council Camporee
DESCRIPTION:As promised the BSA did pick another date/time to have their fun event with an overnight campout and a lot of fun during the day. We get to do what we like to do an operate and show off our skills for all the campers.. This only happens every 4 years so this is the event to be at ! Get hands on with a project that you can show to others\, break out the straight key and start talking to someone far away.. There are new kiddos that have never been exposed to our hobby so what better way to show it off! PLUS\, if you RSVP a week before the event you even get added to a SCOUT MEAL for lunch! \nWHERE: Babbitt Cub World at Zink Scout Ranch \nWHEN: 9.27.2025 8-5 \nICS 205 (Coming Soon!) \nZOOM Meeting on 9.18 to go over last minute details! \nREGISTER \nSign Up To Help!
URL:https://w5ias.com/event/bsa-council-camporee-2/
LOCATION:Zink Scout Ranch\, 14667 Zink Ranch Rd\, Skiatook\, OK\, 74070
CATEGORIES:TARC
END:VEVENT
END:VCALENDAR