BEGIN:VCALENDAR
VERSION:2.0
PRODID:-//W 5 I A S - ECPv6.15.20//NONSGML v1.0//EN
CALSCALE:GREGORIAN
METHOD:PUBLISH
X-WR-CALNAME:W 5 I A S
X-ORIGINAL-URL:https://w5ias.com
X-WR-CALDESC:Events for W 5 I A S
REFRESH-INTERVAL;VALUE=DURATION:PT1H
X-Robots-Tag:noindex
X-PUBLISHED-TTL:PT1H
BEGIN:VTIMEZONE
TZID:America/Chicago
BEGIN:DAYLIGHT
TZOFFSETFROM:-0600
TZOFFSETTO:-0500
TZNAME:CDT
DTSTART:20230312T080000
END:DAYLIGHT
BEGIN:STANDARD
TZOFFSETFROM:-0500
TZOFFSETTO:-0600
TZNAME:CST
DTSTART:20231105T070000
END:STANDARD
BEGIN:DAYLIGHT
TZOFFSETFROM:-0600
TZOFFSETTO:-0500
TZNAME:CDT
DTSTART:20240310T080000
END:DAYLIGHT
BEGIN:STANDARD
TZOFFSETFROM:-0500
TZOFFSETTO:-0600
TZNAME:CST
DTSTART:20241103T070000
END:STANDARD
BEGIN:DAYLIGHT
TZOFFSETFROM:-0600
TZOFFSETTO:-0500
TZNAME:CDT
DTSTART:20250309T080000
END:DAYLIGHT
BEGIN:STANDARD
TZOFFSETFROM:-0500
TZOFFSETTO:-0600
TZNAME:CST
DTSTART:20251102T070000
END:STANDARD
BEGIN:DAYLIGHT
TZOFFSETFROM:-0600
TZOFFSETTO:-0500
TZNAME:CDT
DTSTART:20260308T080000
END:DAYLIGHT
BEGIN:STANDARD
TZOFFSETFROM:-0500
TZOFFSETTO:-0600
TZNAME:CST
DTSTART:20261101T070000
END:STANDARD
BEGIN:DAYLIGHT
TZOFFSETFROM:-0600
TZOFFSETTO:-0500
TZNAME:CDT
DTSTART:20270314T080000
END:DAYLIGHT
BEGIN:STANDARD
TZOFFSETFROM:-0500
TZOFFSETTO:-0600
TZNAME:CST
DTSTART:20271107T070000
END:STANDARD
END:VTIMEZONE
BEGIN:VEVENT
DTSTART;TZID=America/Chicago:20260410T080000
DTEND;TZID=America/Chicago:20260411T170000
DTSTAMP:20260421T125321
CREATED:20260124T172726Z
LAST-MODIFIED:20260124T172726Z
UID:7824-1775808000-1775926800@w5ias.com
SUMMARY:Green Country Hamfest 2026
DESCRIPTION:Claremore\, OklahomaApril 10 and 11\, 2026 \nhttp://www.greencountryhamfest.org/index.php \n  \n\n\n\n\nOnline Registration Will OPEN Around The First Of February 2026!\nAdvance admission is $8.\nPreregistered flea market tables are $15 each.\nCommercial booths are $50 each.\nTickets are $10 at the door.\nTables are $20 at the door.\n \n\n\n\n\nAdvance admission is $8.\nPreregistered Tables are $15 each.\nCommercial booths are $50 each.\nTickets are $10 at the door.\nTables are $20 at the door.\nOrder early and save!\nOnline Preregistration Closed\nMarch 31\, 2026\nThere are only 10 Commercial Tables remaining\n226 Flea Market Tables remaining\n\n\nClick here to see what tables are still available for purchase at the door.\nClicking the link above opens a new window.\nREGISTRATION CLOSED.\n\n\n\nAbout the\nGreen Country Hamfest\nDates of the hamfest for 2026 are\nFriday\, April 10th and Saturday\, April 11\, 2026\n\n400 Veterans Parkway\nClaremore\, OK 74017 \n\n\n\n\n\n\nFriday open to public at 4 PM to 9 PM\nSaturday open to public 8 AM to 3 PM\nSetup Friday 12:00PM.\nSetup at 7:00AM Saturday until 8:00AM.\nTest it before you buy it during the hamfest open hours.\nARRL VE-Testing Friday evening at 1800\nARRL VE-Testing Saturday at 1300\nFriday testing will be in the Expo Will Rogers Room.\nSaturday testing will be in the 4H Building on the west side of the Expo Parking lot.\n\n\n\n\n\n\nForum Schedule\n\n\n\n\n\nOKDXA table and they do Card Checking for DXCC/WAC/WAS/VUCC. \nNote:  Applicants should complete the award application on the ARRL website and bring all required paperwork?\nMeet ARRL Division and Section representatives.\nMark Kleine – N5HZR\, ARRL Oklahoma Section Manager\nARES Forum – Mark Conklin N7XYO Oklahoma Section Emergency Coordinator\nLarge selection of Vendors\nSaturday Forums\nDoor Prizes drawing every hour\n32\,000 square feet climate controlled facility\n280 Tables\nEasy access and free parking\nGreen Country Hamfest provides shuttle rides to and from the Expo Building and the parking lot.
URL:https://w5ias.com/event/green-country-hamfest-2026/
CATEGORIES:Hamfest
END:VEVENT
BEGIN:VEVENT
DTSTART;TZID=America/Chicago:20260321T080000
DTEND;TZID=America/Chicago:20260321T170000
DTSTAMP:20260421T125321
CREATED:20260124T172525Z
LAST-MODIFIED:20260124T172525Z
UID:7822-1774080000-1774112400@w5ias.com
SUMMARY:ST. Patricks Hamfest Midland Tx
DESCRIPTION:The 70th Annual St. Patrick’s Day Hamfest and ARRL West Texas Section Convention will be held Saturday\, March 21\, 2026\, at the MLK Community Center in Midland\, TX. \nHome \n \n. \n 
URL:https://w5ias.com/event/st-patricks-hamfest-midland-tx/
CATEGORIES:Hamfest
END:VEVENT
BEGIN:VEVENT
DTSTART;TZID=America/Chicago:20260227T130000
DTEND;TZID=America/Chicago:20260228T183000
DTSTAMP:20260421T125321
CREATED:20260124T172201Z
LAST-MODIFIED:20260124T172252Z
UID:7818-1772197200-1772303400@w5ias.com
SUMMARY:Orange Hamfest 2026 - Orange Tx
DESCRIPTION:https://www.qsl.net/w5nd/index_files/HAMFEST%20INFO/hamfest%20info.htm \nOrange Hamfest 2026\n                         Our 51st year! \n                  Hosted by: \nOrange ARC\, Jefferson County ARC and Beaumont ARC \nThe Orange Hamfest is an ARRL sanctioned event. \nWHEN: Friday/Saturday\, February 27th – 28th\, 2026 – A Two-Day Event! \nWHERE: Orange County Convention & Expo Center @ 11475 FM 1442    \nOrange\, Texas 77632 \n  \n(Coordinates: 30 07.28N & 093 52.92W or 30.1244\,-93.8922) \nHamfest TIME: Feb. 27th – 1PM to 6:30PM and Feb. 28th – 7:00 a.m. to 2:00 p.m.
URL:https://w5ias.com/event/orange-hamfest-2026-orange-tx/
CATEGORIES:Hamfest
END:VEVENT
BEGIN:VEVENT
DTSTART;TZID=America/Chicago:20260220T120000
DTEND;TZID=America/Chicago:20260221T150000
DTSTAMP:20260421T125321
CREATED:20260124T172047Z
LAST-MODIFIED:20260124T172047Z
UID:7816-1771588800-1771686000@w5ias.com
SUMMARY:Houston Hamfest 2026
DESCRIPTION:Greater Houston HamFest and Texas State Convention \n \n  \nFort Bend County Fairgrounds 4310 TX- 36 S\, Rosenberg\, TX 77471\n2026 will be February 20 Noon to 6pm  and February 21st 8am till 3pm
URL:https://w5ias.com/event/houston-hamfest-2026/
CATEGORIES:Hamfest
END:VEVENT
BEGIN:VEVENT
DTSTART;TZID=America/Chicago:20260207T080000
DTEND;TZID=America/Chicago:20260207T120000
DTSTAMP:20260421T125321
CREATED:20260124T171804Z
LAST-MODIFIED:20260124T171804Z
UID:7814-1770451200-1770465600@w5ias.com
SUMMARY:Mine Creek Hamfest - Mound City KS - 2026
DESCRIPTION:Saturday\, February 07\, 2026\, 08:00am – 12:00pm\nContact Public Contact: Ron Cowan \, KB0DTI PO Box 36 LaCygne\, KS 66040 Phone: 913-757-4456 Email: kb0dti@arrl.net\n\nSponsor: Mine Creek ARC \nLinn County Fair 4H Building\n8510 KS-7 Hwy\nMound City\, KS 66056 \nTalk-In: 147.285+ ( 91.5 )\nPublic Contact: Ron Cowan \, KB0DTI\nPO Box 36 LaCygne\, KS 66040\nPhone: 913-757-4456\nEmail: kb0dti@arrl.net \n\n  \nhttps://sftarc.org/index.php/calendar-jevent/eventdetail/261/-/mine-creek-hamfest
URL:https://w5ias.com/event/mine-creek-hamfest-mound-city-ks-2026/
CATEGORIES:Hamfest
END:VEVENT
BEGIN:VEVENT
DTSTART;TZID=America/Chicago:20250816T080000
DTEND;TZID=America/Chicago:20250817T163000
DTSTAMP:20260421T125321
CREATED:20241012T141628Z
LAST-MODIFIED:20241012T141628Z
UID:5636-1755331200-1755448200@w5ias.com
SUMMARY:Huntsville Hamfest - Huntsville AL
DESCRIPTION:The origins of the Huntsville Hamfest date back to August 1954 when the annual North Alabama Hamfest alternated between the communities of Huntsville\, Decatur\, and Florence.  After a few years the Hamfest was held in Decatur in the odd numbered years and in Huntsville in the even numbered years.  The Huntsville location was in the lobby of what was known as “The Mall”\, located at the corner of University Drive and the Parkway\, and was a one-day (Sunday) event with an outdoor flea market and a Saturday night banquet.  Several ham organizations used upstairs rooms for meetings but there were no forums. \nIn 1980 the North Alabama Hamfest used the just-opened Von Braun Center.  It was still a one-day event but now the Flea Market was indoors and there were much better facilities for meetings & forums. With the success of the 1980 event\, in 1981 the North Alabama Hamfest became the Huntsville Hamfest\, a two-day event with forums\, meetings\, and other activities on both days.
URL:https://w5ias.com/event/huntsville-hamfest-huntsville-al/
CATEGORIES:Hamfest
END:VEVENT
BEGIN:VEVENT
DTSTART;TZID=America/Chicago:20250725T080000
DTEND;TZID=America/Chicago:20250726T170000
DTSTAMP:20260421T125321
CREATED:20250220T183044Z
LAST-MODIFIED:20250220T183044Z
UID:6212-1753430400-1753549200@w5ias.com
SUMMARY:OKC Ham Holiday 2025
DESCRIPTION:More Info can be found online.
URL:https://w5ias.com/event/okc-ham-holiday-2025/
LOCATION:Oklahoma City Community College\, 7777 S. May Ave\, Oklahoma City\, OK\, 73159\, United States
CATEGORIES:Hamfest
END:VEVENT
BEGIN:VEVENT
DTSTART;TZID=America/Chicago:20250516T090000
DTEND;TZID=America/Chicago:20250518T170000
DTSTAMP:20260421T125321
CREATED:20241012T141423Z
LAST-MODIFIED:20241012T141423Z
UID:5634-1747386000-1747587600@w5ias.com
SUMMARY:Dayton Hamvention
DESCRIPTION:More to Come
URL:https://w5ias.com/event/dayton-hamvention/
CATEGORIES:Hamfest
END:VEVENT
BEGIN:VEVENT
DTSTART;TZID=America/Chicago:20250411T181500
DTEND;TZID=America/Chicago:20250411T210000
DTSTAMP:20260421T125321
CREATED:20250124T175012Z
LAST-MODIFIED:20250124T175012Z
UID:6066-1744395300-1744405200@w5ias.com
SUMMARY:Green Country Hamfest Oklahoma DX Association DX DINNER
DESCRIPTION:The Rogers County Building is on the edge of the Parking Lot to the West across from the Claremore Expo Center building. \nSchedule of Events: \nDoors will open at 6:15PM \nPlease arrive early for check-in and to pick up your name tag and raffle tickets. \n7:00PM – Dinner\, followed by the program \nFood:\nA selection of entrees\, sides\, and deserts will be provided by Front Porch Bakery & Smokehouse Catering of Claremore. \nDX Dinner Agenda:\nWelcome & Introduction – Jeff – K5WE \nThe 3Y0J – Bouvet and TX5S – Clipperton DXpeditions – A Presentation by Dave Jorgensen – WD5COV\, a veteran DXpeditioner who has operated from 7O6T – Yemen\, VP8STI – South Sandwich\, VP8SGI – South Georgia\, 3D2R – Rotuma\, 3D2C – Conway\, E30FB – Eritrea\, 9M0W – Spratly\, E31A – Eritria\, ZK3A – Tokelau\, KH8/WD5COV – American Samoa\, 3Y0J – Bouvet\, TX5S – Clipperton\, and many others. \nOKDXA Raffle – We will do a raffle for prizes. OKDXA members are encouraged to bring at least one item to donate as a prize. Any one else can donate a prize if you like. This is the only fund-raising event we do as a club. Please buy some raffle tickets. This is how we raise money for the DXpeditions we support. Our thanks to DX Engineering\, Tennedyne\, and the Cubex Quads companies for prize donations. Thanks to Main Trading Company for special pricing on our Yaesu FT-710 Field Grand Prize. \nGrand Prize – We will have a drawing for a new Yaesu FT-710 Field transceiver. \n  \nCost: $45 per person which includes the meal and 5 raffle tickets. Additional raffle tickets are $2 each. Please use the following web app to register and the link to Paypal to pay. If you would like to join the OKDXA\, membership dues are $20 per year for regular membership\, $10 per year for Sr. Membership (Age 65 and older) and $10 per year for handicap membership. \nAddress any email inquiries to: OKDXASSN@gmail.com . \nWe will be taking reservations and payments beginning 1Jan2025. Seating is limited. Hope to CU at the DX Dinner. Thank you for supporting the Oklahoma DX Association.
URL:https://w5ias.com/event/green-country-hamfest-oklahoma-dx-association-dx-dinner/
LOCATION:Claremore Expo – Rogers County Building\, 416 S Brady St\, Claremore\, OK\, 74017\, United States
CATEGORIES:Event,Hamfest
END:VEVENT
BEGIN:VEVENT
DTSTART;TZID=America/Chicago:20250411T080000
DTEND;TZID=America/Chicago:20250412T170000
DTSTAMP:20260421T125321
CREATED:20241013T164717Z
LAST-MODIFIED:20250121T121933Z
UID:5745-1744358400-1744477200@w5ias.com
SUMMARY:Green Country Hamfest
DESCRIPTION:More info to come as the new year rolls around \n  \n\n\n\n\nGreen Country Hamfest 2025\nClaremore\, OklahomaApril 11 and 12\, 2025\nThe Biggest and the Best in Oklahoma!\nA 501(c)3 non-profit corporation\nAn ARRL affiliated organization\nOklahoma ARRL State Convention\n\n\n\n\n\nCheck out our forums for 2024!\n2025 will be a similar slate!\n\n\n\n\n\n\n\nPurchase Hamfest admission and tables online and save!\nAdvance admission is $8.00.\nPreregistered flea market tables are $15.00 each.\nCommercial booths are $50.00 each.\nTickets are $10.00 at the door.\nTables are $20.00 at the door.\n \n\n\n\n\nAdvance admission is $8.00.\nPreregistered Tables are $15.00 each.\nCommercial booths are $50.00 each.\nTickets are $10.00 at the door.\nTables are $20.00 at the door.\nOrder early and save!\nMarch 31\, 2025\nThere are only 0 Commercial Tables remaining\n142 Flea Market Tables remaining\n\n\n\nOrder TICKETS and TABLES ONLINE now \, and SELECT YOUR TABLES!\nClick here to select and purchase tables and/or admission tickets.\nClicking the link above takes you to the registration window.\nMUST have cookies enabled in your browser to register!\nFollow all instructions to complete the reservation.\n\nPlease note: GCHF reserves the right to select alternate tables.\nAdvance admission is $8.00\, and required for entry. Commercial tables 50.00\n\n\n\n\n\nAbout the\nGreen Country Hamfest\nDates of the hamfest for 2025 are\nFriday\, April 11th and Saturday\, April 12\, 2025\n\n400 Veterans Parkway\nClaremore\, OK 74017
URL:https://w5ias.com/event/green-country-hamfest/
LOCATION:Claremore Expo Center\, 400 Veterans Parkway\, Claremore\, OK\, 74017\, United States
CATEGORIES:Hamfest
END:VEVENT
BEGIN:VEVENT
DTSTART;TZID=America/Chicago:20250207T090000
DTEND;TZID=America/Chicago:20250209T170000
DTSTAMP:20260421T125321
CREATED:20241012T141324Z
LAST-MODIFIED:20241012T141324Z
UID:5632-1738918800-1739120400@w5ias.com
SUMMARY:HamCation 2025  Orlando\, Fl
DESCRIPTION:HamCation® is the 2nd largest gathering of radio amateurs in the world annually. \nHamCation will kick off on Friday\, Saturday\, and Sunday\, February 9-11\, hosted at the Central Florida Fairgrounds and Expo Park in Orlando\, an 87-acre lakefront fairground. \nHamCation is sponsored by the Orlando Amateur Radio Club\, an ARRL-affiliated club\, and is supported by volunteers from radio clubs throughout the region. The published gate figure for 2023 was 21\,800 (all 3 days). Our website includes details on tickets and information about forums\, exhibits (including information for vendors and tailgaters)\, testing\, travel\, and preferred hotels with special rates. \nHamCation acknowledges that the pandemic has introduced uncertainty into any long-term planning. We will follow all government and health requirements and guidelines as plans are committed for the 2025 event. Further details and any changes will be shared via our website: \n73\, \nMichael Cauley\, W4ORL\nGeneral Chairman – Orlando HamCation® \nhttps://www.hamcation.com/
URL:https://w5ias.com/event/hamcation-2025-orlando-fl/
CATEGORIES:Hamfest
END:VEVENT
BEGIN:VEVENT
DTSTART;TZID=America/Chicago:20241109T080000
DTEND;TZID=America/Chicago:20241109T130000
DTSTAMP:20260421T125321
CREATED:20241012T141200Z
LAST-MODIFIED:20241012T141200Z
UID:5630-1731139200-1731157200@w5ias.com
SUMMARY:NARCfest 2024 Nixa\, MO
DESCRIPTION:HAMFEST/CONVENTION \nThe Nixa ARC hamfest is used to raise funds to support the Southwest Missouri Linked Repeater System of which the Nixa ARC is a founding partner. In 2024\, we were able to add a new repeater in Golden City\, MO to help cover the Joplin\, Barton County and other areas out into Kansas and Oklahoma much better. This repeater is linked to the SMLRS 100% of the time and can be accessed on 146.790-\, PL 91.5 Hz. This repeater was made possible by funds from past successful hamfests and we thank everyone that’s been involved. This fall\, we have plans to completely overhaul the 147.015+ PL 162.2 Hz Springfield East repeater and it should be ready to show off by this year’s hamfest. We have aspirations to greatly improve our Branson 146.655- PL 91.5 Hz repeater if we can raise the funds this year but we need almost $14\,000 to make the new site a reality. \n11/09/2024\nStart Date: 11/09/2024\nEnd Date: 11/09/2024\nLocation: Aldersgate Church\n460 Aldersgate Drive\nNixa\, MO 65714\nWebsite: https://smlrs.info/hamfest-information/\nSponsor: Nixa Amateur Radio Club\, Inc.\nType: ARRL Hamfest\nTalk-In: 147.015 MHz PL 162.2 Hz\nPublic Contact: Paul Hulett \, KE0MPI\n4525 S. Dury Ct. Springfield\, MO 65810\nPhone: 417-886-6089\nEmail: PaulHulett1@gmail.com
URL:https://w5ias.com/event/narcfest-2024-nixa-mo/
CATEGORIES:Hamfest
END:VEVENT
BEGIN:VEVENT
DTSTART;VALUE=DATE:20241026
DTEND;VALUE=DATE:20241027
DTSTAMP:20260421T125321
CREATED:20241011T124516Z
LAST-MODIFIED:20241011T124516Z
UID:5615-1729900800-1729987199@w5ias.com
SUMMARY:Raytown Club 2024 Hamfest - South Cedar Belton MO
DESCRIPTION:Raytown Club 2024 Hamfest\n\nHAMFEST/CONVENTION \n10/26/2024Start Date: 10/26/2024\nEnd Date: 10/26/2024\nLocation: Good Shepard Community of Christ Church\n4341 Blue Ridge Blvd.\nKansas City\, MO 64101\nSponsor: Raytown Amateur Radio Club\nType: ARRL Hamfest\nTalk-In: K0GQ VHF Repeater 145.170(-) PL:151.4\nPublic Contact: Jennifer Albright \, KE0VFG\n1106 South Cedar Belton\, MO 64012\nPhone: (816) 739-1830\nEmail: ke0vfg@gmail.com
URL:https://w5ias.com/event/raytown-club-2024-hamfest-south-cedar-belton-mo/
CATEGORIES:Event,Hamfest
END:VEVENT
BEGIN:VEVENT
DTSTART;VALUE=DATE:20241019
DTEND;VALUE=DATE:20241020
DTSTAMP:20260421T125321
CREATED:20241011T124425Z
LAST-MODIFIED:20241011T124425Z
UID:5613-1729296000-1729382399@w5ias.com
SUMMARY:Springtown Hamfest - Weatherford\, TX
DESCRIPTION:Springtown Hamfest and Preparedness Expo\n\nHAMFEST/CONVENTION \n10/19/2024Start Date: 10/19/2024\nEnd Date: 10/19/2024\nLocation: Cornerstone Community Church\n2233 E Hwy 199\nSpringtown\, TX 76082\nSponsor:\nType: ARRL Hamfest\nTalk-In: 147.160+ CSS 110.9\nPublic Contact: Hannah Tondre \, KI5RUC\nP.O. Box 1975 Weatherford\, TX 76086\nPhone: 817-719-6496\nEmail: tsuhunny@gmail.com
URL:https://w5ias.com/event/springtown-hamfest-weatherford-tx/
CATEGORIES:Event,Hamfest
END:VEVENT
BEGIN:VEVENT
DTSTART;TZID=America/Chicago:20241012T080000
DTEND;TZID=America/Chicago:20241012T150000
DTSTAMP:20260421T125321
CREATED:20241011T124335Z
LAST-MODIFIED:20241011T124335Z
UID:5611-1728720000-1728745200@w5ias.com
SUMMARY:K5BOC Memorial Ham Fest - Morrilton AR
DESCRIPTION:Petit Jean Lutheran Camp \n110 Montgomery Trace\nMorrilton\, AR 72110 \n  \nGPS Coordinates 35.133653\, -92.926370  \n  \nClick here for directions to the camp with photos
URL:https://w5ias.com/event/k5boc-memorial-ham-fest-morrilton-ar/
CATEGORIES:Event,Hamfest
END:VEVENT
BEGIN:VEVENT
DTSTART;TZID=America/Chicago:20241012T080000
DTEND;TZID=America/Chicago:20241012T120000
DTSTAMP:20260421T125321
CREATED:20241011T124208Z
LAST-MODIFIED:20241011T124219Z
UID:5609-1728720000-1728734400@w5ias.com
SUMMARY:Sparkfest - Sedalia MO
DESCRIPTION:8am-12pm\nSaturday October 12th in Sedalia\, MO\nAt Our Savior Lutheran Church\n3700 W Broadway Sedalia\, MO\n“Central Missouri’s Biggest Hamfest”\nSparkfest 2024 will be bigger than before.\nLast year’s event sold out quickly.\nTesting will be offered at 10am\nFor further information contact:\nBret (w0vk) hota2@hotmail.com\nJoel (ke0wjx) tritonboy@live.com\nSetup Friday October 11th 3pm-8pm or day of at 6am
URL:https://w5ias.com/event/sparkfest-sedalia-mo/
CATEGORIES:Event,Hamfest
END:VEVENT
BEGIN:VEVENT
DTSTART;TZID=America/Chicago:20240412T080000
DTEND;TZID=America/Chicago:20240414T170000
DTSTAMP:20260421T125322
CREATED:20241012T150413Z
LAST-MODIFIED:20241012T150413Z
UID:5683-1712908800-1713114000@w5ias.com
SUMMARY:Green Country Hamfest 2024
DESCRIPTION:Volunteer signup – https://volunteersignup.org/mklb9 \nMore info to follow\, but we will have our normal table at the Hamfest! \n\nFriday open to public at 4 PM to 9 PM\nSaturday open to public 8 AM to 3 PM\nSetup Friday 12:00PM.\nSetup at 7:00AM Saturday until 8:00AM.\n\n  \n· Premier & Largest Hamfest In Oklahoma\n· \n\n\n\nTest it before you buy it during the hamfest open hours.\nARRL VE-Testing Friday evening at 1800\nARRL VE-Testing Saturday at 1300\nTesting will be in the 4H Building on the west side of the Expo Parking lot.\n\n\n\n\nForum Schedule\n\n\nOKDXA table and they do Card Checking for DXCC/WAC/WAS/VUCC. \nNote:  Applicants should complete the award application on the ARRL website and bring all required paperwork?\nMeet ARRL Division and Section representatives.\nMark Kleine – N5HZR\, ARRL Oklahoma Section Manager\nARES Forum – Mark Conklin N7XYO Oklahoma Section Emergency Coordinator\nLarge selection of Vendors\nSaturday Forums\nDoor Prizes drawing every hour\n32\,000 square feet climate controlled facility\n280 Tables\nEasy access and free parking\nGreen Country Hamfest provides shuttle rides to and from the Expo Building and the parking lot.\n\nClaremore Expo Center\n400 Veterans Parkway\nClaremore OK 74017 \nTalk-In\n147.090 (+.600)\n88.5 PL Tone \nTickets:\nAdvanced : $ 8.00\nAt the door: $10.00\nTables: (No Limit) Advanced: $10.00\nAt the door: $15.00
URL:https://w5ias.com/event/green-country-hamfest-2024/
CATEGORIES:Hamfest
END:VEVENT
BEGIN:VEVENT
DTSTART;TZID=America/Chicago:20240106T080000
DTEND;TZID=America/Chicago:20240106T170000
DTSTAMP:20260421T125322
CREATED:20241012T151235Z
LAST-MODIFIED:20241012T151235Z
UID:5698-1704528000-1704560400@w5ias.com
SUMMARY:CARC Hamfest
DESCRIPTION:50/50 tickets\nDoor Prizes Every Hour\nPresale Grand Prize for Mystery Radio Package worth $500+ retail price.\nTickets for $20 each. Drawn at 2pm day of Ham Fest Need not be present to win \n$10 at the door includes one door prize entry.\nExtra door prize entries available $2 each or 6 for $10.\n$20 vendor tables includes one door entry\n$15 individual tables\nPreorder your table/tickets at www.carcradio.org/hamfest \nFlyer : Hamfestcarc 2024 \nDirections:\nThis years hamfest will be located at the Granite Station Cowboy Church located at 1128 White Stag Ave\, Checotah\, OK 74426.\nFrom Ft. Smith exit #265 south onto Business 69 for 1/4 mile exiting left on to White Stag Ave for 1/10 of a mile. Event is on the left. From Oklahoma City\, Exit #265 south onto Business 69 and make an left turn onto White Stag Ave for 1/10 of a mile. Event is on the left. From US 69 North or South\, exit onto I40 East Bound to Ft. Smith go 3/10 of a mile to Exit #265 south onto Business 69 and make an left turn onto White Stag Ave for 1/10 of a mile. Event is on the left. \nCrossroads Amateur Radio Club \nPO Box 21 Checotah\, OK 744264 \nEmail: radiocarc@gmail.com Website: www.carcradio.org
URL:https://w5ias.com/event/carc-hamfest/
CATEGORIES:Hamfest
END:VEVENT
END:VCALENDAR