BEGIN:VCALENDAR
VERSION:2.0
PRODID:-//W 5 I A S - ECPv6.15.20//NONSGML v1.0//EN
CALSCALE:GREGORIAN
METHOD:PUBLISH
X-ORIGINAL-URL:https://w5ias.com
X-WR-CALDESC:Events for W 5 I A S
REFRESH-INTERVAL;VALUE=DURATION:PT1H
X-Robots-Tag:noindex
X-PUBLISHED-TTL:PT1H
BEGIN:VTIMEZONE
TZID:America/Chicago
BEGIN:DAYLIGHT
TZOFFSETFROM:-0600
TZOFFSETTO:-0500
TZNAME:CDT
DTSTART:20240310T080000
END:DAYLIGHT
BEGIN:STANDARD
TZOFFSETFROM:-0500
TZOFFSETTO:-0600
TZNAME:CST
DTSTART:20241103T070000
END:STANDARD
BEGIN:DAYLIGHT
TZOFFSETFROM:-0600
TZOFFSETTO:-0500
TZNAME:CDT
DTSTART:20250309T080000
END:DAYLIGHT
BEGIN:STANDARD
TZOFFSETFROM:-0500
TZOFFSETTO:-0600
TZNAME:CST
DTSTART:20251102T070000
END:STANDARD
BEGIN:DAYLIGHT
TZOFFSETFROM:-0600
TZOFFSETTO:-0500
TZNAME:CDT
DTSTART:20260308T080000
END:DAYLIGHT
BEGIN:STANDARD
TZOFFSETFROM:-0500
TZOFFSETTO:-0600
TZNAME:CST
DTSTART:20261101T070000
END:STANDARD
END:VTIMEZONE
BEGIN:VEVENT
DTSTART;TZID=America/Chicago:20251004T090000
DTEND;TZID=America/Chicago:20251004T120000
DTSTAMP:20260421T161025
CREATED:20250121T131311Z
LAST-MODIFIED:20250917T004148Z
UID:5964-1759568400-1759579200@w5ias.com
SUMMARY:Tulsa County ARES - Simulated Emergency Test 2025
DESCRIPTION:2024 data is below.. more to come… This is just a place holder… \nThe Tulsa County Amateur Radio Emergency Services organization will be conducting the annual Simulated Emergency Test (SET).  This is an exercise that tests our processes and skills that we would use during an actual emergency.  The exercise will begin at 0900 on Saturday\, October 5.  We will be using several local repeaters along with Winlink gateways.  We are also coordinating with Rogers County on their SET as well.  Operations begin with volunteers checking in on the Staging Net at 0900 using the 145.110 repeater.  Volunteers will then be given a tasking to change frequencies to another net based upon their skills and training.  We also are planning to conduct a test of our Hospital Net during the exercise. \nICS LINKS \nFor more information\, please contact Paul Teel\, WB5ANX\, Tulsa County ARES Emergency Coordinator at WB5ANX@arrl.net. \n 
URL:https://w5ias.com/event/tulsa-county-ares-simulated-emergency-test-2025/
CATEGORIES:Event
END:VEVENT
BEGIN:VEVENT
DTSTART;TZID=America/Chicago:20251007T190000
DTEND;TZID=America/Chicago:20251007T200000
DTSTAMP:20260421T161025
CREATED:20250123T132336Z
LAST-MODIFIED:20250923T183429Z
UID:6000-1759863600-1759867200@w5ias.com
SUMMARY:TARC Tech Night
DESCRIPTION:
URL:https://w5ias.com/event/tarc-tech-night-11/
LOCATION:Keplinger Hall\, Room 3140\, 430 S Gary Pl\, Tulsa\, OK\, 74104\, United States
CATEGORIES:Event
END:VEVENT
BEGIN:VEVENT
DTSTART;VALUE=DATE:20251017
DTEND;VALUE=DATE:20251020
DTSTAMP:20260421T161025
CREATED:20250121T131548Z
LAST-MODIFIED:20250827T115850Z
UID:5966-1760659200-1760918399@w5ias.com
SUMMARY:BSA Jamboree On The Air (JOTA) 2025
DESCRIPTION: 68th Jamboree on the Air (JOTA) \nJack Graves Scout Reservation – Robson Side \n101 E St Broken Arrow\, OK (101 & County Line) \nK2BSA/5\nOctober 18\, 2025 \n(Gate opens at 8:15 am on Saturday morning and will conclude by 5 pm CST) \nMore info can be found on the FLYER \nSCOTA Info \nK2BSA Info \nRSVP\nhttps://w5ias.com/sheet/bsa-camporee-2/
URL:https://w5ias.com/event/bsa-jamboree-on-the-air-jota-2025/
CATEGORIES:Event
END:VEVENT
END:VCALENDAR