BEGIN:VCALENDAR
VERSION:2.0
PRODID:-//W 5 I A S - ECPv6.15.20//NONSGML v1.0//EN
CALSCALE:GREGORIAN
METHOD:PUBLISH
X-ORIGINAL-URL:https://w5ias.com
X-WR-CALDESC:Events for W 5 I A S
REFRESH-INTERVAL;VALUE=DURATION:PT1H
X-Robots-Tag:noindex
X-PUBLISHED-TTL:PT1H
BEGIN:VTIMEZONE
TZID:America/Chicago
BEGIN:DAYLIGHT
TZOFFSETFROM:-0600
TZOFFSETTO:-0500
TZNAME:CDT
DTSTART:20240310T080000
END:DAYLIGHT
BEGIN:STANDARD
TZOFFSETFROM:-0500
TZOFFSETTO:-0600
TZNAME:CST
DTSTART:20241103T070000
END:STANDARD
BEGIN:DAYLIGHT
TZOFFSETFROM:-0600
TZOFFSETTO:-0500
TZNAME:CDT
DTSTART:20250309T080000
END:DAYLIGHT
BEGIN:STANDARD
TZOFFSETFROM:-0500
TZOFFSETTO:-0600
TZNAME:CST
DTSTART:20251102T070000
END:STANDARD
BEGIN:DAYLIGHT
TZOFFSETFROM:-0600
TZOFFSETTO:-0500
TZNAME:CDT
DTSTART:20260308T080000
END:DAYLIGHT
BEGIN:STANDARD
TZOFFSETFROM:-0500
TZOFFSETTO:-0600
TZNAME:CST
DTSTART:20261101T070000
END:STANDARD
END:VTIMEZONE
BEGIN:VEVENT
DTSTART;TZID=America/Chicago:20250701T183000
DTEND;TZID=America/Chicago:20250701T200000
DTSTAMP:20260421T201118
CREATED:20250123T132335Z
LAST-MODIFIED:20250226T003654Z
UID:5997-1751394600-1751400000@w5ias.com
SUMMARY:TARC Tech Night
DESCRIPTION:
URL:https://w5ias.com/event/tarc-tech-night-8/
LOCATION:Keplinger Hall\, Room 3140\, 430 S Gary Pl\, Tulsa\, OK\, 74104\, United States
CATEGORIES:Event
END:VEVENT
BEGIN:VEVENT
DTSTART;TZID=America/Chicago:20250723T183000
DTEND;TZID=America/Chicago:20250723T193000
DTSTAMP:20260421T201118
CREATED:20250709T163638Z
LAST-MODIFIED:20250720T181438Z
UID:6828-1753295400-1753299000@w5ias.com
SUMMARY:Ares Training
DESCRIPTION:his meeting will review the purpose of ARES\, how to get involved\, and the training requirements. We will also look at starting a Position Task Book\, what is in a communications go-kit\, and more. This is open to everyone\, you do not have to be a member of ARES to attend. \nFor more info contact: \nWB5ANX – Paul Teel – paulhteel@gmail.com \nWA5MA – Mark Adams – wa5ma.mark@gmail.com
URL:https://w5ias.com/event/ares-training/
LOCATION:Keplinger Hall\, Room 3140\, 430 S Gary Pl\, Tulsa\, OK\, 74104\, United States
CATEGORIES:Event
END:VEVENT
BEGIN:VEVENT
DTSTART;TZID=America/Chicago:20250725T080000
DTEND;TZID=America/Chicago:20250726T170000
DTSTAMP:20260421T201118
CREATED:20250220T183044Z
LAST-MODIFIED:20250220T183044Z
UID:6212-1753430400-1753549200@w5ias.com
SUMMARY:OKC Ham Holiday 2025
DESCRIPTION:More Info can be found online.
URL:https://w5ias.com/event/okc-ham-holiday-2025/
LOCATION:Oklahoma City Community College\, 7777 S. May Ave\, Oklahoma City\, OK\, 73159\, United States
CATEGORIES:Hamfest
END:VEVENT
END:VCALENDAR