BEGIN:VCALENDAR
VERSION:2.0
PRODID:-//W 5 I A S - ECPv6.15.20//NONSGML v1.0//EN
CALSCALE:GREGORIAN
METHOD:PUBLISH
X-ORIGINAL-URL:https://w5ias.com
X-WR-CALDESC:Events for W 5 I A S
REFRESH-INTERVAL;VALUE=DURATION:PT1H
X-Robots-Tag:noindex
X-PUBLISHED-TTL:PT1H
BEGIN:VTIMEZONE
TZID:America/Chicago
BEGIN:DAYLIGHT
TZOFFSETFROM:-0600
TZOFFSETTO:-0500
TZNAME:CDT
DTSTART:20230312T080000
END:DAYLIGHT
BEGIN:STANDARD
TZOFFSETFROM:-0500
TZOFFSETTO:-0600
TZNAME:CST
DTSTART:20231105T070000
END:STANDARD
BEGIN:DAYLIGHT
TZOFFSETFROM:-0600
TZOFFSETTO:-0500
TZNAME:CDT
DTSTART:20240310T080000
END:DAYLIGHT
BEGIN:STANDARD
TZOFFSETFROM:-0500
TZOFFSETTO:-0600
TZNAME:CST
DTSTART:20241103T070000
END:STANDARD
BEGIN:DAYLIGHT
TZOFFSETFROM:-0600
TZOFFSETTO:-0500
TZNAME:CDT
DTSTART:20250309T080000
END:DAYLIGHT
BEGIN:STANDARD
TZOFFSETFROM:-0500
TZOFFSETTO:-0600
TZNAME:CST
DTSTART:20251102T070000
END:STANDARD
END:VTIMEZONE
BEGIN:VEVENT
DTSTART;TZID=America/Chicago:20240504T080000
DTEND;TZID=America/Chicago:20240504T180000
DTSTAMP:20260422T144620
CREATED:20241012T145503Z
LAST-MODIFIED:20241012T145503Z
UID:5677-1714809600-1714845600@w5ias.com
SUMMARY:Tour de Tulsa 2024
DESCRIPTION:  \nLocation: River West Festival Park. \nStart checking your essential gear: reflective vest\, bike rack (or pickup bed)\, mobile radio with at least 25 watts\, (optional) handheld radio for use when out of vehicle\, first aid kit\, ice chest\, personal comfort items\, cover for seats to be used by sweaty riders\, (optional) bike repair kit\, air pump (TARC has loanable pumps). These are the basic items and you can supplement the list as you see fit. \nThis ride will be using only the APRS units provided by the Tulsa Repeater Organization and the APRS digipeaters provided by TARC. If you have your own APRS\, please plan to use one of the provided units so the unit numbers are more easily tracked on the TRO computer system. Net Control will only be looking for those unit numbers on the mapping sys-tem so outside APRS IDs will not show up on the system for tracking. \nE-mail any questions to me and plan on a good time. We’ll discuss more details on how to support a ride at the next TARC meeting at TU. \nCheck out radios and programming. The band plan and what frequencies we are going to use can be found here – ICS 205 – Radio Communications Plan – TdT 2024 ICS 205 Comms Plan updated 5124 \nMaps\n2024 TdT\, 22.5 mi \n2024 TdT\, 35.6 mi \n2024 TdT\, 48.9 mi\, half century \n2024 TdT\, 59.9 mi\, metric century \n2024 TdT\, 100.4 mi\, century \nSIGN UP FORM – Closed \n 
URL:https://w5ias.com/event/tour-de-tulsa-2024/
CATEGORIES:Event,TARC
END:VEVENT
BEGIN:VEVENT
DTSTART;VALUE=DATE:20240517
DTEND;VALUE=DATE:20240520
DTSTAMP:20260422T144620
CREATED:20241011T105950Z
LAST-MODIFIED:20241011T105950Z
UID:5575-1715904000-1716163199@w5ias.com
SUMMARY:Dayton Hamvention\, ARRL National Convention 2024
DESCRIPTION:Start Date: 05/17/2024\nEnd Date: 05/19/2024\nLocation: Greene County Fairgrounds and Expo Center\n210 Fairgrounds Road\nXenia\, OH 45385\nWebsite: https://hamvention.org\nSponsor: Dayton Amateur Radio Association\nType: ARRL Convention\nTalk-In: 146.94 (-) 123.0 PL\nPublic Contact: Jim Gifford \, KD8APT\nPO Box 964 Dayton\, OH 45401\nPhone: 937-276-6930\nEmail: media@hamvention.org\n\n\n\n\n\n\n\n\n\n\n\n\n\n\n\n\n\n\n\n\nCoordinates are 39.702 N – 83.9420 W\n\n\n\n\n\n\n\n\n 
URL:https://w5ias.com/event/dayton-hamvention-arrl-national-convention-2024/
CATEGORIES:Event
END:VEVENT
BEGIN:VEVENT
DTSTART;TZID=America/Chicago:20240518T080000
DTEND;TZID=America/Chicago:20240518T180000
DTSTAMP:20260422T144620
CREATED:20241012T145317Z
LAST-MODIFIED:20241012T145317Z
UID:5675-1716019200-1716055200@w5ias.com
SUMMARY:Cop Land Classic 2024
DESCRIPTION:The Cop Land Classic Bike Ride is the largest fundraiser for the Tulsa Police Officers’ Memorial and is put on annually 2 weeks following the Memorial Service held to honor the 41 fallen officers of the Tulsa Police Department. \n5 routes with elevations: \n\n“The Misdemeanor” (15 mile)https://ridewithgps.com/routes/31295289\n“The Felony” (31 mile)https://ridewithgps.com/routes/31440685\n“Deferred Sentance” (44 mile)https://ridewithgps.com/routes/31295943\n“Escape Route” (57 mile)https://ridewithgps.com/routes/31295843\n“The 67 to Life” (67 mile)https://ridewithgps.com/routes/31260804\n\nThe ride will start and finish at the Tulsa Police Officers’ Memorial at the Tulsa Police Training Center\, 6066 E. 66 St. N.\, Tulsa on May 18th.ÂÂ  The facility also has showers. \nE-mail any questions to me and plan on a good time. We’ll discuss more details on how to support a ride at the next TARC meeting at TU. \nCheck out radios and programming. The band plan and what frequencies we are going to use can be found here – ICS 205 – Radio Communications Plan. \nMORE INFO COMING!! \nSign Up Form – Closed \n 
URL:https://w5ias.com/event/cop-land-classic-2024/
CATEGORIES:Event,TARC
END:VEVENT
END:VCALENDAR