BEGIN:VCALENDAR
VERSION:2.0
PRODID:-//W 5 I A S - ECPv6.15.20//NONSGML v1.0//EN
CALSCALE:GREGORIAN
METHOD:PUBLISH
X-WR-CALNAME:W 5 I A S
X-ORIGINAL-URL:https://w5ias.com
X-WR-CALDESC:Events for W 5 I A S
REFRESH-INTERVAL;VALUE=DURATION:PT1H
X-Robots-Tag:noindex
X-PUBLISHED-TTL:PT1H
BEGIN:VTIMEZONE
TZID:America/Chicago
BEGIN:DAYLIGHT
TZOFFSETFROM:-0600
TZOFFSETTO:-0500
TZNAME:CDT
DTSTART:20240310T080000
END:DAYLIGHT
BEGIN:STANDARD
TZOFFSETFROM:-0500
TZOFFSETTO:-0600
TZNAME:CST
DTSTART:20241103T070000
END:STANDARD
BEGIN:DAYLIGHT
TZOFFSETFROM:-0600
TZOFFSETTO:-0500
TZNAME:CDT
DTSTART:20250309T080000
END:DAYLIGHT
BEGIN:STANDARD
TZOFFSETFROM:-0500
TZOFFSETTO:-0600
TZNAME:CST
DTSTART:20251102T070000
END:STANDARD
BEGIN:DAYLIGHT
TZOFFSETFROM:-0600
TZOFFSETTO:-0500
TZNAME:CDT
DTSTART:20260308T080000
END:DAYLIGHT
BEGIN:STANDARD
TZOFFSETFROM:-0500
TZOFFSETTO:-0600
TZNAME:CST
DTSTART:20261101T070000
END:STANDARD
END:VTIMEZONE
BEGIN:VEVENT
DTSTART;TZID=America/Chicago:20250823T080000
DTEND;TZID=America/Chicago:20250823T170000
DTSTAMP:20260421T160439
CREATED:20250121T130551Z
LAST-MODIFIED:20250822T205026Z
UID:5958-1755936000-1755968400@w5ias.com
SUMMARY:Maker Faire 2025
DESCRIPTION:Join TARC as we do a show and tell of all things Amateur Radio and work to make some first contacts for anyone that stops by. Got a project that you have been wanting to tinker on or build\, bring it and discuss with people walking by. Wanna build out some antennae’s and test them\, totally fair game! This is our time to shine with others interesting in that are of doing! \n\n\nWhat is Maker Faire?\n\n\n\n\nMaker Faire is a gathering of fascinating\, curious people who enjoy learning and who love sharing what they can do. From engineers to artists to scientists to crafters\, Maker Faire is a venue for these “makers” to show hobbies\, experiments\, projects. \nWe call it the Greatest Show (& Tell) on Earth – a family-friendly showcase of invention\, creativity\, and resourcefulness. \nGlimpse the future and get inspired! \nICS 205 – Makers Faire 2025 \nRSVP\n(When done with this form don’t forget to click the link to choose the area you want to work) \nPlease enable JavaScript in your browser to complete this form.Call SignName *FirstLastEmail *Submit
URL:https://w5ias.com/event/maker-faire-2025/
CATEGORIES:Event
END:VEVENT
BEGIN:VEVENT
DTSTART;TZID=America/Chicago:20250823T100000
DTEND;TZID=America/Chicago:20250823T110000
DTSTAMP:20260421T160439
CREATED:20250321T141528Z
LAST-MODIFIED:20250321T142135Z
UID:6395-1755943200-1755946800@w5ias.com
SUMMARY:TARC Ham Testing
DESCRIPTION:The Tulsa Amateur Radio Club will be hosting our next ARRL amateur radio license exam session at The University of Tulsa in Keplinger Hall – Room 3140 @ 10AM. We test all levels from Technician to Amateur Extra. If you would like please sign up at the form below! (not required\, walk-ins are always welcome) \nPlease click here to read the ARRL “what to bring to an exam session” before you sign up. \nClick here if you do not already have an FCC FRN number. (first register for a username and then register for your FRN #). \nFull instructions on getting your FRN number are provided here \nPlease bring cash to the exam session. ($15 for those over 18 and $5 for youths under 18) \nPlease enable JavaScript in your browser to complete this form.Date of exam session I would like to sign up for: *TARC is no longer offering VE testing. Thank you to those who tested with us in the past.Name *FirstLastCall Sign (amateur radio call signs only)If you do not have one\, just type "NONE".Mobile Phone Number *Just in case we need to call you.Email *Exam(s) you would like to take: *TechnicianGeneralAmateur ExtraI read the ARRL "what to bring to an exam session" page linked above: *YesI have an FCC FRN Number: *YesThis is required to take the amateur radio license exam. (Social security numbers are no longer accepted\, link is above)Comments/Questions/ConcernsSubmit
URL:https://w5ias.com/event/tarc-ham-testing-3/
LOCATION:Keplinger Hall\, Room 3140\, 430 S Gary Pl\, Tulsa\, OK\, 74104\, United States
CATEGORIES:Testing
ORGANIZER;CN="David Kennedy N5DMK":MAILTO:n5dmk@att.net
END:VEVENT
END:VCALENDAR