BEGIN:VCALENDAR
VERSION:2.0
PRODID:-//W 5 I A S - ECPv6.15.20//NONSGML v1.0//EN
CALSCALE:GREGORIAN
METHOD:PUBLISH
X-ORIGINAL-URL:https://w5ias.com
X-WR-CALDESC:Events for W 5 I A S
REFRESH-INTERVAL;VALUE=DURATION:PT1H
X-Robots-Tag:noindex
X-PUBLISHED-TTL:PT1H
BEGIN:VTIMEZONE
TZID:America/Chicago
BEGIN:DAYLIGHT
TZOFFSETFROM:-0600
TZOFFSETTO:-0500
TZNAME:CDT
DTSTART:20240310T080000
END:DAYLIGHT
BEGIN:STANDARD
TZOFFSETFROM:-0500
TZOFFSETTO:-0600
TZNAME:CST
DTSTART:20241103T070000
END:STANDARD
BEGIN:DAYLIGHT
TZOFFSETFROM:-0600
TZOFFSETTO:-0500
TZNAME:CDT
DTSTART:20250309T080000
END:DAYLIGHT
BEGIN:STANDARD
TZOFFSETFROM:-0500
TZOFFSETTO:-0600
TZNAME:CST
DTSTART:20251102T070000
END:STANDARD
BEGIN:DAYLIGHT
TZOFFSETFROM:-0600
TZOFFSETTO:-0500
TZNAME:CDT
DTSTART:20260308T080000
END:DAYLIGHT
BEGIN:STANDARD
TZOFFSETFROM:-0500
TZOFFSETTO:-0600
TZNAME:CST
DTSTART:20261101T070000
END:STANDARD
END:VTIMEZONE
BEGIN:VEVENT
DTSTART;TZID=America/Chicago:20250805T183000
DTEND;TZID=America/Chicago:20250805T200000
DTSTAMP:20260421T160014
CREATED:20250123T132336Z
LAST-MODIFIED:20250805T110238Z
UID:5998-1754418600-1754424000@w5ias.com
SUMMARY:TARC Tech Night
DESCRIPTION:Want to learn more about FT8 or operate… This is the meeting for that! Also a great time bring in your gear to try and setup as much as possible or maybe even program a radio. Come on to get a lot of questions answered! \nTulsa Amateur is inviting you to a scheduled Zoom meeting.\n\nTopic: Tech Night\nTime: Aug 5\, 2025 06:30 PM Central Time (US and Canada)\nJoin Zoom Meeting\nhttps://us06web.zoom.us/j/81824652167?pwd=Ta0qjyihw7t4aq6sMbyH0uTooXdaqH.1\n\nMeeting ID: 818 2465 2167\nPasscode: 871891\n\n—\n\nOne tap mobile\n+12532158782\,\,81824652167#\,\,\,\,*871891# US (Tacoma)\n+13462487799\,\,81824652167#\,\,\,\,*871891# US (Houston)\n\n—\n\nDial by your location\n• +1 253 215 8782 US (Tacoma)\n• +1 346 248 7799 US (Houston)\n• +1 669 444 9171 US\n• +1 719 359 4580 US\n• +1 720 707 2699 US (Denver)\n• +1 253 205 0468 US\n• +1 507 473 4847 US\n• +1 564 217 2000 US\n• +1 646 558 8656 US (New York)\n• +1 646 931 3860 US\n• +1 689 278 1000 US\n• +1 301 715 8592 US (Washington DC)\n• +1 305 224 1968 US\n• +1 309 205 3325 US\n• +1 312 626 6799 US (Chicago)\n• +1 360 209 5623 US\n• +1 386 347 5053 US\n\nMeeting ID: 818 2465 2167\nPasscode: 871891\n\nFind your local number: https://us06web.zoom.us/u/k1ijKTwJL
URL:https://w5ias.com/event/tarc-tech-night-9/
LOCATION:Keplinger Hall\, Room 3140\, 430 S Gary Pl\, Tulsa\, OK\, 74104\, United States
CATEGORIES:Event
END:VEVENT
END:VCALENDAR