BEGIN:VCALENDAR
VERSION:2.0
PRODID:-//W 5 I A S - ECPv6.15.20//NONSGML v1.0//EN
CALSCALE:GREGORIAN
METHOD:PUBLISH
X-ORIGINAL-URL:https://w5ias.com
X-WR-CALDESC:Events for W 5 I A S
REFRESH-INTERVAL;VALUE=DURATION:PT1H
X-Robots-Tag:noindex
X-PUBLISHED-TTL:PT1H
BEGIN:VTIMEZONE
TZID:America/Chicago
BEGIN:DAYLIGHT
TZOFFSETFROM:-0600
TZOFFSETTO:-0500
TZNAME:CDT
DTSTART:20240310T080000
END:DAYLIGHT
BEGIN:STANDARD
TZOFFSETFROM:-0500
TZOFFSETTO:-0600
TZNAME:CST
DTSTART:20241103T070000
END:STANDARD
BEGIN:DAYLIGHT
TZOFFSETFROM:-0600
TZOFFSETTO:-0500
TZNAME:CDT
DTSTART:20250309T080000
END:DAYLIGHT
BEGIN:STANDARD
TZOFFSETFROM:-0500
TZOFFSETTO:-0600
TZNAME:CST
DTSTART:20251102T070000
END:STANDARD
BEGIN:DAYLIGHT
TZOFFSETFROM:-0600
TZOFFSETTO:-0500
TZNAME:CDT
DTSTART:20260308T080000
END:DAYLIGHT
BEGIN:STANDARD
TZOFFSETFROM:-0500
TZOFFSETTO:-0600
TZNAME:CST
DTSTART:20261101T070000
END:STANDARD
END:VTIMEZONE
BEGIN:VEVENT
DTSTART;TZID=America/Chicago:20250607T070000
DTEND;TZID=America/Chicago:20250608T170000
DTSTAMP:20260421T185154
CREATED:20250121T130217Z
LAST-MODIFIED:20250526T150232Z
UID:5956-1749279600-1749402000@w5ias.com
SUMMARY:Tulsa Tough 2025
DESCRIPTION:Three days of crits and two days of rides \nWhether you’re a professional cyclist\, new to crits and rides\, or simply a casual cyclist seeking a fun experience\, Saint Francis Tulsa Tough is the event for you. This prominent bike race in Tulsa\, Oklahoma\, offers three days of crits\, each taking place on a different course and at a unique venue. The payouts are generous\, and the atmosphere created by the enthusiastic crowds is unparalleled. For those who prefer a festive and enjoyable cycling experience\, don’t miss out on the Fondo rides held on Saturday and Sunday. On Sunday\, riders can choose from three different distances\, while Saturday offers two distances\, allowing you to select the route that aligns with your desired pace and challenge level. \n  \nREGISTER TO SAG – CLOSED\n 
URL:https://w5ias.com/event/tulsa-tough-2025/
CATEGORIES:Event
END:VEVENT
END:VCALENDAR