BEGIN:VCALENDAR
VERSION:2.0
PRODID:-//W 5 I A S - ECPv6.15.20//NONSGML v1.0//EN
CALSCALE:GREGORIAN
METHOD:PUBLISH
X-ORIGINAL-URL:https://w5ias.com
X-WR-CALDESC:Events for W 5 I A S
REFRESH-INTERVAL;VALUE=DURATION:PT1H
X-Robots-Tag:noindex
X-PUBLISHED-TTL:PT1H
BEGIN:VTIMEZONE
TZID:America/Chicago
BEGIN:DAYLIGHT
TZOFFSETFROM:-0600
TZOFFSETTO:-0500
TZNAME:CDT
DTSTART:20240310T080000
END:DAYLIGHT
BEGIN:STANDARD
TZOFFSETFROM:-0500
TZOFFSETTO:-0600
TZNAME:CST
DTSTART:20241103T070000
END:STANDARD
BEGIN:DAYLIGHT
TZOFFSETFROM:-0600
TZOFFSETTO:-0500
TZNAME:CDT
DTSTART:20250309T080000
END:DAYLIGHT
BEGIN:STANDARD
TZOFFSETFROM:-0500
TZOFFSETTO:-0600
TZNAME:CST
DTSTART:20251102T070000
END:STANDARD
BEGIN:DAYLIGHT
TZOFFSETFROM:-0600
TZOFFSETTO:-0500
TZNAME:CDT
DTSTART:20260308T080000
END:DAYLIGHT
BEGIN:STANDARD
TZOFFSETFROM:-0500
TZOFFSETTO:-0600
TZNAME:CST
DTSTART:20261101T070000
END:STANDARD
END:VTIMEZONE
BEGIN:VEVENT
DTSTART;TZID=America/Chicago:20250503T070000
DTEND;TZID=America/Chicago:20250503T170000
DTSTAMP:20260421T201626
CREATED:20250121T125608Z
LAST-MODIFIED:20250418T134959Z
UID:5949-1746255600-1746291600@w5ias.com
SUMMARY:Tour de Tulsa 2025
DESCRIPTION:Location: River West Festival Park. \nStart checking your essential gear: reflective vest\, bike rack (or pickup bed)\, mobile radio with at least 25 watts\, (optional) handheld radio for use when out of vehicle\, first aid kit\, ice chest\, personal comfort items\, cover for seats to be used by sweaty riders\, (optional) bike repair kit\, air pump (TARC has loanable pumps). These are the basic items and you can supplement the list as you see fit. \nThis ride will be using only the APRS units provided by the Tulsa Repeater Organization and the APRS digipeaters provided by TARC. If you have your own APRS\, please plan to use one of the provided units so the unit numbers are more easily tracked on the TRO computer system. Net Control will only be looking for those unit numbers on the mapping sys-tem so outside APRS IDs will not show up on the system for tracking. \nE-mail any questions to me and plan on a good time. We’ll discuss more details on how to support a ride at the next TARC meeting at TU. \nCheck out radios and programming. The band plan and what frequencies we are going to use can be found here – ICS 205 – Radio Communications Plan –  \nMaps\nTBD \n36th Annual Tour de Tulsa\nbenefitting Tulsa’s River Parks\nSaturday\, May 3rd\, 2025\nThe Tour de Tulsa has been a spring cycling ritual for Tulsa-area cyclists for more than 30 years.  The ride is presented by the Tulsa Bicycle Club and held at Tulsa’s River Parks. \nTour de Tulsa offers routes ranging from 20 to 100 miles and includes a family fun ride with options ranging from 5 to 10 miles.\n\nProceeds from the 2025 Tour de Tulsa will benefit the River Parks Foundation\, enhancing the quality of life in Tulsa through its River Parks System.\nTulsa’s premier spring community bicycle ride features good food\, great rest stops\, full on-road support\, and friendly riders all along the way.\n\nSAG Registration – Closed
URL:https://w5ias.com/event/tour-de-tulsa-2025/
CATEGORIES:Event
END:VEVENT
BEGIN:VEVENT
DTSTART;TZID=America/Chicago:20250503T090000
DTEND;TZID=America/Chicago:20250503T110000
DTSTAMP:20260421T201626
CREATED:20250124T145600Z
LAST-MODIFIED:20250124T145600Z
UID:6041-1746262800-1746270000@w5ias.com
SUMMARY:Ham Testing
DESCRIPTION:Ham Testing\nALWAYS MAKE CONTACT WITH ORGANIZER TO MAKE SURE TESTING IS STILL SCHEDULED!
URL:https://w5ias.com/event/ham-testing-7/
LOCATION:Broken Arrow Public Service Complex\, 1101 N 6th St\, Broken Arrow\, OK\, 74012\, United States
CATEGORIES:Testing
ORGANIZER;CN="Loyd Beeson AE5MM":MAILTO:ae5mm@arrl.net
END:VEVENT
END:VCALENDAR