BEGIN:VCALENDAR
VERSION:2.0
PRODID:-//W 5 I A S - ECPv6.15.20//NONSGML v1.0//EN
CALSCALE:GREGORIAN
METHOD:PUBLISH
X-WR-CALNAME:W 5 I A S
X-ORIGINAL-URL:https://w5ias.com
X-WR-CALDESC:Events for W 5 I A S
REFRESH-INTERVAL;VALUE=DURATION:PT1H
X-Robots-Tag:noindex
X-PUBLISHED-TTL:PT1H
BEGIN:VTIMEZONE
TZID:America/Chicago
BEGIN:DAYLIGHT
TZOFFSETFROM:-0600
TZOFFSETTO:-0500
TZNAME:CDT
DTSTART:20230312T080000
END:DAYLIGHT
BEGIN:STANDARD
TZOFFSETFROM:-0500
TZOFFSETTO:-0600
TZNAME:CST
DTSTART:20231105T070000
END:STANDARD
BEGIN:DAYLIGHT
TZOFFSETFROM:-0600
TZOFFSETTO:-0500
TZNAME:CDT
DTSTART:20240310T080000
END:DAYLIGHT
BEGIN:STANDARD
TZOFFSETFROM:-0500
TZOFFSETTO:-0600
TZNAME:CST
DTSTART:20241103T070000
END:STANDARD
BEGIN:DAYLIGHT
TZOFFSETFROM:-0600
TZOFFSETTO:-0500
TZNAME:CDT
DTSTART:20250309T080000
END:DAYLIGHT
BEGIN:STANDARD
TZOFFSETFROM:-0500
TZOFFSETTO:-0600
TZNAME:CST
DTSTART:20251102T070000
END:STANDARD
END:VTIMEZONE
BEGIN:VEVENT
DTSTART;TZID=America/Chicago:20241015T190000
DTEND;TZID=America/Chicago:20241015T200000
DTSTAMP:20260422T052223
CREATED:20241011T111010Z
LAST-MODIFIED:20241011T111136Z
UID:5588-1729018800-1729022400@w5ias.com
SUMMARY:TARC Monthly Meeting - October
DESCRIPTION:This TARC meeting will be held at the TU campus at Keplinger Hall in room # 3140 \nTalk in is the 145.110 repeater. \nShare your ham radio experience with us.  Win\, lose or draw we want to know what you’ve been up to.  Sign up for Member Spotlight today! \nMember Spotlight selects members who have explored their hobby.  We will have a short show and tell with questions from Ky Vargas KY5VAR and the audience.  You do not need a formal presentation or PowerPoint to share your story.  We want to celebrate your successes and commiserate your failures.  If you are willing to share your short Ham Radio story with your fellow members\, call or text Ky Vargas at 918-760-6568 to get on the schedule. \n  \nDon’t forget to purchase your 100th Anniversary coffee mugs\, shirts\, etc.
URL:https://w5ias.com/event/tarc-monthly-meeting-october/
LOCATION:Keplinger Hall\, Room 3140\, 430 S Gary Pl\, Tulsa\, OK\, 74104\, United States
CATEGORIES:Meeting,TARC
END:VEVENT
END:VCALENDAR