BEGIN:VCALENDAR
VERSION:2.0
PRODID:-//W 5 I A S - ECPv6.15.20//NONSGML v1.0//EN
CALSCALE:GREGORIAN
METHOD:PUBLISH
X-WR-CALNAME:W 5 I A S
X-ORIGINAL-URL:https://w5ias.com
X-WR-CALDESC:Events for W 5 I A S
REFRESH-INTERVAL;VALUE=DURATION:PT1H
X-Robots-Tag:noindex
X-PUBLISHED-TTL:PT1H
BEGIN:VTIMEZONE
TZID:America/Chicago
BEGIN:DAYLIGHT
TZOFFSETFROM:-0600
TZOFFSETTO:-0500
TZNAME:CDT
DTSTART:20230312T080000
END:DAYLIGHT
BEGIN:STANDARD
TZOFFSETFROM:-0500
TZOFFSETTO:-0600
TZNAME:CST
DTSTART:20231105T070000
END:STANDARD
BEGIN:DAYLIGHT
TZOFFSETFROM:-0600
TZOFFSETTO:-0500
TZNAME:CDT
DTSTART:20240310T080000
END:DAYLIGHT
BEGIN:STANDARD
TZOFFSETFROM:-0500
TZOFFSETTO:-0600
TZNAME:CST
DTSTART:20241103T070000
END:STANDARD
BEGIN:DAYLIGHT
TZOFFSETFROM:-0600
TZOFFSETTO:-0500
TZNAME:CDT
DTSTART:20250309T080000
END:DAYLIGHT
BEGIN:STANDARD
TZOFFSETFROM:-0500
TZOFFSETTO:-0600
TZNAME:CST
DTSTART:20251102T070000
END:STANDARD
END:VTIMEZONE
BEGIN:VEVENT
DTSTART;TZID=America/Chicago:20240618T190000
DTEND;TZID=America/Chicago:20240618T200000
DTSTAMP:20260422T105823
CREATED:20241012T142541Z
LAST-MODIFIED:20241012T142541Z
UID:5638-1718737200-1718740800@w5ias.com
SUMMARY:TARC Monthly Meeting - June
DESCRIPTION:The June TARC meeting will be held at the TU campus at Keplinger Hall in room # 3140 \nTalk in is the 145.110 repeater. \nWe will be discussing Field Day planning at this meeting. \nMember Spotlight selects members who have explored their hobby.  We will have a short show and tell with questions from Ky Vargas KY5VAR and the audience.  You do not need a formal presentation or PowerPoint to share your story.  We want to celebrate your successes and commiserate your failures.  If you are willing to share your short Ham Radio story with your fellow members\, call or text Ky Vargas at 918-760-6568 to get on the schedule. \n  \nDon’t forget to purchase your 100th Anniversary coffee mugs\, shirts\, etc.
URL:https://w5ias.com/event/tarc-monthly-meeting-june/
CATEGORIES:Meeting
END:VEVENT
END:VCALENDAR