BEGIN:VCALENDAR
VERSION:2.0
PRODID:-//W 5 I A S - ECPv6.15.20//NONSGML v1.0//EN
CALSCALE:GREGORIAN
METHOD:PUBLISH
X-ORIGINAL-URL:https://w5ias.com
X-WR-CALDESC:Events for W 5 I A S
REFRESH-INTERVAL;VALUE=DURATION:PT1H
X-Robots-Tag:noindex
X-PUBLISHED-TTL:PT1H
BEGIN:VTIMEZONE
TZID:America/Chicago
BEGIN:DAYLIGHT
TZOFFSETFROM:-0600
TZOFFSETTO:-0500
TZNAME:CDT
DTSTART:20230312T080000
END:DAYLIGHT
BEGIN:STANDARD
TZOFFSETFROM:-0500
TZOFFSETTO:-0600
TZNAME:CST
DTSTART:20231105T070000
END:STANDARD
BEGIN:DAYLIGHT
TZOFFSETFROM:-0600
TZOFFSETTO:-0500
TZNAME:CDT
DTSTART:20240310T080000
END:DAYLIGHT
BEGIN:STANDARD
TZOFFSETFROM:-0500
TZOFFSETTO:-0600
TZNAME:CST
DTSTART:20241103T070000
END:STANDARD
BEGIN:DAYLIGHT
TZOFFSETFROM:-0600
TZOFFSETTO:-0500
TZNAME:CDT
DTSTART:20250309T080000
END:DAYLIGHT
BEGIN:STANDARD
TZOFFSETFROM:-0500
TZOFFSETTO:-0600
TZNAME:CST
DTSTART:20251102T070000
END:STANDARD
END:VTIMEZONE
BEGIN:VEVENT
DTSTART;TZID=America/Chicago:20240406T110000
DTEND;TZID=America/Chicago:20240406T150000
DTSTAMP:20260422T132739
CREATED:20241011T110115Z
LAST-MODIFIED:20241011T110115Z
UID:5578-1712401200-1712415600@w5ias.com
SUMMARY:Severe Weather Awareness Expo
DESCRIPTION:We are excited to bring the Severe Weather Awareness Expo back to Woodland Hills Mall on Saturday\, April 6th from 11AM-3pm! This fun event intends to educate the community of severe weather safety and resources available to them. \nAttendees can visit with meteorologists and storm chasers from local news stations KJRH Channel 2\, KOTV Channel 6\, KTUL Channel 8\,  KOKI Fox23\, 98.5 The Bull radio station\, and meteorologist Aaron Tuttle. In addition\, on hand will be meteorologists from the National Weather Service and other industry professionals from non-profit and governmental entities and private businesses.  Families can enjoy photo opportunities with first response vehicles and storm chasing vehicles outside in the Pinecone Parking lot on the north side of the mall. The first 150 guests will receive a free Woodland Hills Mall umbrella. Eclipse Glasses will be handing out throughout the event. \nThe following organizations and business’s joining us this year. \nGrand River Dam Authority Police \nTulsa Police Department \nCity of Tulsa Fire Department \nTulsa Sheriff’s Office \nTulsa Weather Coalition/211 \nTulsa Area Emergency Management Agency \nUS Army Corps of Engineers \nLegal Aid Services of Oklahoma \nOklahoma Medical Reserve Corps/Tulsa Health Department Emergency Preparedness and Response Program \nMental Health Association Oklahoma \nCatholic Charities \nEMSA \nHumane Society of Tulsa \nMonster Tree Service \nBarnesCRETE \nOklahoma Disaster Restoration \nTulsa Amateur Radio Club \nFor vendor booth and/or sponsorship inquiries\, please contact Eileen Neighbors at 918-252-7511 or email eileen.neighbors@simon.com. \n EVENT DATE Apr 06\, 2024
URL:https://w5ias.com/event/severe-weather-awareness-expo/
CATEGORIES:Event
END:VEVENT
END:VCALENDAR